PDS_VERSION_ID = PDS3
/* FILE DATA ELEMENTS */
RECORD_TYPE = STREAM
/* POINTERS TO DATA OBJECTS */
^COMPRESSED_FILE = "H4575_0001_S23.JP2"
/* IDENTIFICATION DATA ELEMENTS */
DATA_SET_ID = "MEX-M-HRSC-5-REFDR-MAPPROJECTED-V3.0"
DATA_SET_NAME = "MARS EXPRESS HRSC MAP PROJECTED REFDR V3.0"
DETECTOR_ID = MEX_HRSC_S2
EVENT_TYPE = "MARS-REGIONAL-MAPPING-Im-Fl"
INSTRUMENT_HOST_ID = MEX
INSTRUMENT_HOST_NAME = "MARS EXPRESS"
INSTRUMENT_ID = HRSC
INSTRUMENT_NAME = "HIGH RESOLUTION STEREO CAMERA"
MISSION_NAME = "MARS EXPRESS"
MISSION_PHASE_NAME = ME_Phase_8
PROCESSING_LEVEL_ID = 3
PRODUCT_CREATION_TIME = 2016-04-25T16:23:03.000Z
PRODUCT_ID = "H4575_0001_S23.JP2"
RELEASE_ID = 0052
REVISION_ID = 0000
/* QUALITY DATA ELEMENTS */
DATA_QUALITY_ID = 1
DATA_QUALITY_DESC = "Data calculated based on original SPICE kernels"
/* TIME DATA ELEMENTS */
SPACECRAFT_CLOCK_START_COUNT = "1/0133638410.09072"
SPACECRAFT_CLOCK_STOP_COUNT = "1/0133638774.52586"
START_TIME = 2007-07-27T17:48:30.330Z
STOP_TIME = 2007-07-27T17:52:56.905Z
/* ORBITAL DATA ELEMENTS */
ASCENDING_NODE_LONGITUDE = 132.64
MAXIMUM_RESOLUTION = 44.9
FOOTPRINT_POINT_LATITUDE = (-56.4126,-56.4346,-56.4553,-56.4746, -56.4924,-56.3529,-56.007,-55.541, -55.3059,-55.0692,-54.8299,-54.5919, -54.3506,-54.1091,-53.8632,-53.6248, -53.3804,-53.1258,-52.8746,-52.6263, -52.2485,-51.9952,-51.7409,-51.3552, -51.0973,-50.8363,-50.5732,-50.3096, -50.0443,-49.7774,-49.5058,-49.2365, -48.8358,-48.5629,-48.2874,-47.8586, -47.4387,-47.1586,-46.8809,-46.596, -46.3139,-46.0309,-45.7491,-45.3261, -45.0437,-44.7658,-44.4909,-44.2166, -43.9441,-43.5021,-43.4971,-43.4945, -43.486,-43.4754,-43.468,-43.4595, -43.4481,-43.5712,-43.8419,-44.1134, -44.3854,-44.6596,-44.9372,-45.2132, -45.6321,-45.9117,-46.1904,-46.4721, -46.7588,-47.183,-47.463,-47.8815, -48.1578,-48.4312,-48.7015,-48.9721, -49.2405,-49.6429,-49.9082,-50.3044, -50.5732,-50.9572,-51.2141,-51.4713, -51.8525,-52.231,-52.4859,-52.7341, -52.9847,-53.2289,-53.5951,-53.9599, -54.1996,-54.4406,-54.796,-55.0332, -55.2675,-55.6189,-56.1972,-56.4126)
FOOTPRINT_POINT_LONGITUDE = (200.547,201.053,201.562,202.073, 202.588,203.294,203.331,203.379,203.402 ,203.425,203.447,203.469,203.492, 203.514,203.534,203.56,203.583,203.598, 203.618,203.64,203.671,203.691,203.713, 203.743,203.763,203.783,203.801,203.821 ,203.84,203.858,203.876,203.895,203.927 ,203.947,203.965,203.985,204.013, 204.032,204.054,204.072,204.092,204.109 ,204.126,204.15,204.164,204.18,204.197, 204.213,204.23,204.141,203.757,203.414, 202.844,202.314,201.824,201.297,200.734 ,200.348,200.35,200.351,200.352,200.353 ,200.352,200.352,200.351,200.349, 200.348,200.346,200.343,200.337,200.333 ,200.325,200.32,200.315,200.309,200.303 ,200.296,200.284,200.276,200.262, 200.251,200.238,200.227,200.216,200.199 ,200.181,200.167,200.154,200.14,200.126 ,200.105,200.082,200.066,200.05,200.025 ,200.008,199.99,199.963,199.914, 200.547)
ORBIT_NUMBER = 4575
ORBITAL_ECCENTRICITY = 0.57
ORBITAL_INCLINATION = 86.69
ORBITAL_SEMIMAJOR_AXIS = 8530.34
PERIAPSIS_ALTITUDE = 293.8
PERIAPSIS_ARGUMENT_ANGLE = 272.81
PERIAPSIS_TIME = 2007-07-27T17:39:44.000Z
SPACECRAFT_ORIENTATION = (0.0,-1.0,0.0)
^MEX_ORIENTATION_DESC = "MEX_ORIENTATION_DESC.TXT"
SPACECRAFT_POINTING_MODE = ACROSSTRACK
^MEX_POINTING_DESC = "MEX_POINTING_DESC.TXT"
RIGHT_ASCENSION = -1e+32
DECLINATION = -1e+32
OFFSET_ANGLE = -0.5
SPACECRAFT_SOLAR_DISTANCE = 2.09629e+08
TARGET_NAME = MARS
/* CAMERA DATA ELEMENTS */
DETECTOR_TEMPERATURE = 20.0017
FOCAL_PLANE_TEMPERATURE = 9.3989
INST_CMPRS_NAME = "DISCRETE COSINE TRANSFORMATION (DCT)"
INST_CMPRS_RATIO = 11.6872
INST_CMPRS_QUALITY = 0
INST_CMPRS_QUANTZ_TBL_ID = 0
INSTRUMENT_TEMPERATURE = 12.8652
LENS_TEMPERATURE = 10.0106
MACROPIXEL_SIZE = 2
MISSING_FRAMES = 0
PIXEL_SUBSAMPLING_FLAG = N
SIGNAL_CHAIN_ID = 1
/* RADIOMETRIC DATA ELEMENTS */
BANDWIDTH = 178.0
CENTER_FILTER_WAVELENGTH = 679.0
RADIANCE_OFFSET = 10.7755
RADIANCE_SCALING_FACTOR = 0.01322
REFLECTANCE_SCALING_FACTOR = 0.000307655
MEX:REFLECTANCE_OFFSET = 0.250766
/* IMAGE OBJECT DEFINITIONS */
OBJECT = IMAGE
  INTERCHANGE_FORMAT = BINARY
  LINES = 15534
  LINE_SAMPLES = 3001
  SAMPLE_TYPE = UNSIGNED_INTEGER
  SAMPLE_BITS = 8
  BANDS = 1
  BAND_STORAGE_TYPE = BAND_SEQUENTIAL
  MAXIMUM = 254
  MEAN = 164.451
  MINIMUM = 1
  STANDARD_DEVIATION = 47.2513
END_OBJECT = IMAGE
/* MAP OBJECT DEFINITIONS */
OBJECT = IMAGE_MAP_PROJECTION
  ^DATA_SET_MAP_PROJECTION_CATALOG= "DSMAP.CAT"
  A_AXIS_RADIUS = 3396.0
  B_AXIS_RADIUS = 3396.0
  C_AXIS_RADIUS = 3396.0
  CENTER_LATITUDE = 0.0
  CENTER_LONGITUDE = 202.0
  COORDINATE_SYSTEM_NAME = PLANETOGRAPHIC
  COORDINATE_SYSTEM_TYPE = "BODY-FIXED ROTATING"
  EASTERNMOST_LONGITUDE = 204.23
  FIRST_STANDARD_PARALLEL = "N/A"
  LINE_FIRST_PIXEL = 1
  LINE_LAST_PIXEL = 15534
  LINE_PROJECTION_OFFSET = -51536.25
  MAP_PROJECTION_ROTATION = 0.0
  MAP_PROJECTION_TYPE = SINUSOIDAL
  MAP_RESOLUTION = 1185.42760773333
  MAP_SCALE = 0.05
  MAXIMUM_LATITUDE = -43.4481
  MINIMUM_LATITUDE = -56.4924
  POSITIVE_LONGITUDE_DIRECTION = EAST
  REFERENCE_LATITUDE = "N/A"
  REFERENCE_LONGITUDE = "N/A"
  SAMPLE_FIRST_PIXEL = 1
  SAMPLE_LAST_PIXEL = 3001
  SAMPLE_PROJECTION_OFFSET = 1304.75
  SECOND_STANDARD_PARALLEL = "N/A"
  WESTERNMOST_LONGITUDE = 199.914
END_OBJECT = IMAGE_MAP_PROJECTION
/* The JPEG2000 image data file associated with this label. */
OBJECT = COMPRESSED_FILE
  FILE_NAME = "H4575_0001_S23.JP2"
  RECORD_TYPE = UNDEFINED
  FILE_RECORDS = UNK
  ENCODING_TYPE = "JP2"
  INTERCHANGE_FORMAT = BINARY
  UNCOMPRESSED_FILE_NAME = "H4575_0001_S23.IMG"
  REQUIRED_STORAGE_BYTES = "46641542"
  ^DESCRIPTION = "JP2INFO.TXT"
END_OBJECT = COMPRESSED_FILE
END
