PDS_VERSION_ID = PDS3
/* FILE DATA ELEMENTS */
RECORD_TYPE = STREAM
/* POINTERS TO DATA OBJECTS */
^COMPRESSED_FILE = "H4576_0000_ND3.JP2"
/* IDENTIFICATION DATA ELEMENTS */
DATA_SET_ID = "MEX-M-HRSC-5-REFDR-MAPPROJECTED-V3.0"
DATA_SET_NAME = "MARS EXPRESS HRSC MAP PROJECTED REFDR V3.0"
DETECTOR_ID = MEX_HRSC_NADIR
EVENT_TYPE = "MARS-REGIONAL-MAPPING-Fl-Gl-La"
INSTRUMENT_HOST_ID = MEX
INSTRUMENT_HOST_NAME = "MARS EXPRESS"
INSTRUMENT_ID = HRSC
INSTRUMENT_NAME = "HIGH RESOLUTION STEREO CAMERA"
MISSION_NAME = "MARS EXPRESS"
MISSION_PHASE_NAME = ME_Phase_8
PROCESSING_LEVEL_ID = 3
PRODUCT_CREATION_TIME = 2016-04-25T16:23:03.000Z
PRODUCT_ID = "H4576_0000_ND3.JP2"
RELEASE_ID = 0052
REVISION_ID = 0000
/* QUALITY DATA ELEMENTS */
DATA_QUALITY_ID = 1
DATA_QUALITY_DESC = "Data calculated based on original SPICE kernels"
/* TIME DATA ELEMENTS */
SPACECRAFT_CLOCK_START_COUNT = "1/0133662230.09062"
SPACECRAFT_CLOCK_STOP_COUNT = "1/0133662371.08655"
START_TIME = 2007-07-28T00:24:20.652Z
STOP_TIME = 2007-07-28T00:25:43.648Z
/* ORBITAL DATA ELEMENTS */
ASCENDING_NODE_LONGITUDE = 132.62
MAXIMUM_RESOLUTION = 11.9
FOOTPRINT_POINT_LATITUDE = (-80.766,-80.8419,-80.9148,-80.9847, -81.0516,-81.1156,-81.1751,-81.0775, -80.9797,-80.7835,-80.5867,-80.3893, -80.1913,-79.9432,-79.7915,-79.6881, -79.5329,-79.4292,-79.3254,-79.2215, -79.1176,-79.0135,-78.9093,-78.805, -78.7007,-78.5963,-78.4918,-78.3872, -78.2825,-78.1778,-78.073,-77.9681, -77.8631,-77.7581,-77.6531,-77.548, -77.4428,-77.3376,-77.2323,-77.127, -77.0217,-76.9163,-76.8083,-76.699, -76.5898,-76.4804,-76.3711,-76.2617, -76.1523,-76.0428,-75.9295,-75.8995, -75.851,-75.8149,-75.7613,-75.7084, -75.6742,-75.8261,-75.9335,-76.0407, -76.1478,-76.2549,-76.3618,-76.4687, -76.5749,-76.6781,-76.7811,-76.8839, -76.9866,-77.0893,-77.192,-77.2943, -77.3966,-77.4987,-77.6007,-77.7027, -77.8043,-77.9062,-78.008,-78.1097, -78.2111,-78.3124,-78.4136,-78.5146, -78.6155,-78.7162,-78.8168,-78.9172, -79.0175,-79.1176,-79.2177,-79.3173, -79.4656,-79.6088,-79.8946,-80.0839, -80.2723,-80.4129,-80.6001,-80.766)
FOOTPRINT_POINT_LONGITUDE = (80.1584,81.0557,81.9577,82.8637, 83.7727,84.6856,85.5464,85.8176,86.0832 ,86.5966,87.088,87.5594,88.0088,88.5512 ,88.8663,89.0752,89.3816,89.5807, 89.7759,89.9672,90.1547,90.3388,90.5192 ,90.6961,90.8698,91.0402,91.2075, 91.3716,91.5326,91.6907,91.8461,91.9987 ,92.1484,92.2956,92.4401,92.5822,92.722 ,92.8591,92.9939,93.1266,93.2574, 93.3857,93.5151,93.644,93.7716,93.8955, 94.0175,94.1374,94.2555,94.3713,93.7563 ,93.2798,92.5425,92.0188,91.2734, 90.5728,90.1354,89.8108,89.6705,89.5263 ,89.3797,89.232,89.0806,88.9262,88.7707 ,88.6185,88.4629,88.303,88.1411,87.976, 87.8102,87.6379,87.4639,87.285,87.1033, 86.92,86.7305,86.5429,86.3519,86.1572, 85.9575,85.754,85.5481,85.3376,85.1238, 84.9045,84.6826,84.4562,84.2256,83.9911 ,83.7532,83.5075,83.1327,82.7568, 81.9822,81.4374,80.8707,80.4304,79.83, 80.1584)
ORBIT_NUMBER = 4576
ORBITAL_ECCENTRICITY = 0.57
ORBITAL_INCLINATION = 86.7
ORBITAL_SEMIMAJOR_AXIS = 8530.22
PERIAPSIS_ALTITUDE = 293.48
PERIAPSIS_ARGUMENT_ANGLE = 272.62
PERIAPSIS_TIME = 2007-07-28T00:22:58.000Z
SPACECRAFT_ORIENTATION = (0.0,-1.0,0.0)
^MEX_ORIENTATION_DESC = "MEX_ORIENTATION_DESC.TXT"
SPACECRAFT_POINTING_MODE = ACROSSTRACK
^MEX_POINTING_DESC = "MEX_POINTING_DESC.TXT"
RIGHT_ASCENSION = -1e+32
DECLINATION = -1e+32
OFFSET_ANGLE = 0.7
SPACECRAFT_SOLAR_DISTANCE = 2.09659e+08
TARGET_NAME = MARS
/* CAMERA DATA ELEMENTS */
DETECTOR_TEMPERATURE = 18.3705
FOCAL_PLANE_TEMPERATURE = 9.3989
INST_CMPRS_NAME = "DISCRETE COSINE TRANSFORMATION (DCT)"
INST_CMPRS_RATIO = 6.35539
INST_CMPRS_QUALITY = 0
INST_CMPRS_QUANTZ_TBL_ID = 0
INSTRUMENT_TEMPERATURE = 11.6418
LENS_TEMPERATURE = 9.8067
MACROPIXEL_SIZE = 1
MISSING_FRAMES = 0
PIXEL_SUBSAMPLING_FLAG = N
SIGNAL_CHAIN_ID = 0
/* RADIOMETRIC DATA ELEMENTS */
BANDWIDTH = 177.0
CENTER_FILTER_WAVELENGTH = 677.5
RADIANCE_OFFSET = 6.31633
RADIANCE_SCALING_FACTOR = 0.00723616
REFLECTANCE_SCALING_FACTOR = 0.000168974
MEX:REFLECTANCE_OFFSET = 0.147495
/* IMAGE OBJECT DEFINITIONS */
OBJECT = IMAGE
  INTERCHANGE_FORMAT = BINARY
  LINES = 26052
  LINE_SAMPLES = 13648
  SAMPLE_TYPE = UNSIGNED_INTEGER
  SAMPLE_BITS = 8
  BANDS = 1
  BAND_STORAGE_TYPE = BAND_SEQUENTIAL
  MAXIMUM = 254
  MEAN = 158.649
  MINIMUM = 1
  STANDARD_DEVIATION = 42.6005
END_OBJECT = IMAGE
/* MAP OBJECT DEFINITIONS */
OBJECT = IMAGE_MAP_PROJECTION
  ^DATA_SET_MAP_PROJECTION_CATALOG= "DSMAP.CAT"
  A_AXIS_RADIUS = 3396.0
  B_AXIS_RADIUS = 3396.0
  C_AXIS_RADIUS = 3396.0
  CENTER_LATITUDE = 0.0
  CENTER_LONGITUDE = 88.0
  COORDINATE_SYSTEM_NAME = PLANETOGRAPHIC
  COORDINATE_SYSTEM_TYPE = "BODY-FIXED ROTATING"
  EASTERNMOST_LONGITUDE = 94.37130000000001
  FIRST_STANDARD_PARALLEL = "N/A"
  LINE_FIRST_PIXEL = 1
  LINE_LAST_PIXEL = 26052
  LINE_PROJECTION_OFFSET = -358875.0
  MAP_PROJECTION_ROTATION = 0.0
  MAP_PROJECTION_TYPE = SINUSOIDAL
  MAP_RESOLUTION = 4741.71043093333
  MAP_SCALE = 0.0125
  MAXIMUM_LATITUDE = -75.6742
  MINIMUM_LATITUDE = -81.1751
  POSITIVE_LONGITUDE_DIRECTION = EAST
  REFERENCE_LATITUDE = "N/A"
  REFERENCE_LONGITUDE = "N/A"
  SAMPLE_FIRST_PIXEL = 1
  SAMPLE_LAST_PIXEL = 13648
  SAMPLE_PROJECTION_OFFSET = 6219.0
  SECOND_STANDARD_PARALLEL = "N/A"
  WESTERNMOST_LONGITUDE = 79.83
END_OBJECT = IMAGE_MAP_PROJECTION
/* The JPEG2000 image data file associated with this label. */
OBJECT = COMPRESSED_FILE
  FILE_NAME = "H4576_0000_ND3.JP2"
  RECORD_TYPE = UNDEFINED
  FILE_RECORDS = UNK
  ENCODING_TYPE = "JP2"
  INTERCHANGE_FORMAT = BINARY
  UNCOMPRESSED_FILE_NAME = "H4576_0000_ND3.IMG"
  REQUIRED_STORAGE_BYTES = "355598640"
  ^DESCRIPTION = "JP2INFO.TXT"
END_OBJECT = COMPRESSED_FILE
END
