PDS_VERSION_ID = PDS3
/* FILE DATA ELEMENTS */
RECORD_TYPE = STREAM
/* POINTERS TO DATA OBJECTS */
^COMPRESSED_FILE = "H4579_0000_BL3.JP2"
/* IDENTIFICATION DATA ELEMENTS */
DATA_SET_ID = "MEX-M-HRSC-5-REFDR-MAPPROJECTED-V3.0"
DATA_SET_NAME = "MARS EXPRESS HRSC MAP PROJECTED REFDR V3.0"
DETECTOR_ID = MEX_HRSC_BLUE
EVENT_TYPE = "MARS-REGIONAL-MAPPING-Gl-La"
INSTRUMENT_HOST_ID = MEX
INSTRUMENT_HOST_NAME = "MARS EXPRESS"
INSTRUMENT_ID = HRSC
INSTRUMENT_NAME = "HIGH RESOLUTION STEREO CAMERA"
MISSION_NAME = "MARS EXPRESS"
MISSION_PHASE_NAME = ME_Phase_8
PROCESSING_LEVEL_ID = 3
PRODUCT_CREATION_TIME = 2016-04-25T16:23:03.000Z
PRODUCT_ID = "H4579_0000_BL3.JP2"
RELEASE_ID = 0052
REVISION_ID = 0000
/* QUALITY DATA ELEMENTS */
DATA_QUALITY_ID = 1
DATA_QUALITY_DESC = "Data calculated based on original SPICE kernels"
/* TIME DATA ELEMENTS */
SPACECRAFT_CLOCK_START_COUNT = "1/0133734789.07281"
SPACECRAFT_CLOCK_STOP_COUNT = "1/0133735007.23736"
START_TIME = 2007-07-28T20:33:43.838Z
STOP_TIME = 2007-07-28T20:36:22.711Z
/* ORBITAL DATA ELEMENTS */
ASCENDING_NODE_LONGITUDE = 132.56
MAXIMUM_RESOLUTION = 94.2
FOOTPRINT_POINT_LATITUDE = (-82.7949,-82.9147,-83.0263,-83.152, -82.9628,-82.7731,-82.5833,-82.3931, -82.0136,-81.8221,-81.6295,-81.4355, -81.2431,-80.9457,-80.746,-80.5462, -80.3461,-80.1464,-79.9457,-79.7451, -79.5444,-79.3437,-79.1431,-78.9424, -78.7416,-78.5407,-78.3398,-78.139, -77.9331,-77.7252,-77.4132,-77.2053, -76.9976,-76.6863,-76.4776,-76.2694, -76.0614,-75.8536,-75.641,-75.4262, -75.2117,-74.9974,-74.7828,-74.5685, -74.3546,-74.1407,-73.9267,-73.707, -73.4865,-73.1554,-72.9053,-72.8671, -72.7998,-72.8664,-73.085,-73.3038, -73.5225,-73.7395,-73.9509,-74.1628, -74.3748,-74.5869,-74.7991,-75.0112, -75.2233,-75.4353,-75.6455,-75.8506, -76.0558,-76.3634,-76.5683,-76.7732, -76.978,-77.1827,-77.3873,-77.5919, -77.8965,-78.0937,-78.2908,-78.4877, -78.6844,-78.8809,-79.0773,-79.2733, -79.4691,-79.6647,-79.8599,-80.0548, -80.2494,-80.4436,-80.6375,-80.9272, -81.2056,-81.3906,-81.7578,-81.9408, -82.1233,-82.3048,-82.4857,-82.7949)
FOOTPRINT_POINT_LONGITUDE = (149.109,151.244,153.488,156.018, 156.525,157.004,157.463,157.898,158.728 ,159.099,159.443,159.758,160.079,160.55 ,160.851,161.139,161.413,161.682,161.93 ,162.17,162.401,162.623,162.839,163.046 ,163.245,163.436,163.62,163.799,163.977 ,164.15,164.398,164.556,164.712,164.937 ,165.069,165.202,165.332,165.459, 165.586,165.71,165.831,165.95,166.061, 166.172,166.281,166.387,166.488,166.583 ,166.684,166.827,166.196,165.25,163.804 ,162.884,162.759,162.629,162.496,162.36 ,162.223,162.082,161.937,161.787, 161.633,161.473,161.308,161.138,160.965 ,160.789,160.609,160.326,160.13,159.927 ,159.717,159.5,159.276,159.043,158.68, 158.435,158.181,157.917,157.644,157.36, 157.066,156.76,156.442,156.111,155.767, 155.409,155.036,154.646,154.24,153.602, 152.94,152.475,151.479,150.946,150.388, 149.802,149.187,149.109)
ORBIT_NUMBER = 4579
ORBITAL_ECCENTRICITY = 0.57
ORBITAL_INCLINATION = 86.69
ORBITAL_SEMIMAJOR_AXIS = 8530.89
PERIAPSIS_ALTITUDE = 294.84
PERIAPSIS_ARGUMENT_ANGLE = 272.12
PERIAPSIS_TIME = 2007-07-28T20:32:33.000Z
SPACECRAFT_ORIENTATION = (0.0,-1.0,0.0)
^MEX_ORIENTATION_DESC = "MEX_ORIENTATION_DESC.TXT"
SPACECRAFT_POINTING_MODE = ACROSSTRACK
^MEX_POINTING_DESC = "MEX_POINTING_DESC.TXT"
RIGHT_ASCENSION = -1e+32
DECLINATION = -1e+32
OFFSET_ANGLE = -0.6
SPACECRAFT_SOLAR_DISTANCE = 2.09751e+08
TARGET_NAME = MARS
/* CAMERA DATA ELEMENTS */
DETECTOR_TEMPERATURE = 18.3705
FOCAL_PLANE_TEMPERATURE = 8.5833
INST_CMPRS_NAME = "DISCRETE COSINE TRANSFORMATION (DCT)"
INST_CMPRS_RATIO = 23.5897
INST_CMPRS_QUALITY = 0
INST_CMPRS_QUANTZ_TBL_ID = 0
INSTRUMENT_TEMPERATURE = 11.0301
LENS_TEMPERATURE = 8.7872
MACROPIXEL_SIZE = 8
MISSING_FRAMES = 0
PIXEL_SUBSAMPLING_FLAG = N
SIGNAL_CHAIN_ID = 2
/* RADIOMETRIC DATA ELEMENTS */
BANDWIDTH = 76.0
CENTER_FILTER_WAVELENGTH = 444.0
RADIANCE_OFFSET = 0.923993
RADIANCE_SCALING_FACTOR = 0.00136538
REFLECTANCE_SCALING_FACTOR = 6.17185e-05
MEX:REFLECTANCE_OFFSET = 0.0417668
/* IMAGE OBJECT DEFINITIONS */
OBJECT = IMAGE
  INTERCHANGE_FORMAT = BINARY
  LINES = 6145
  LINE_SAMPLES = 2002
  SAMPLE_TYPE = UNSIGNED_INTEGER
  SAMPLE_BITS = 8
  BANDS = 1
  BAND_STORAGE_TYPE = BAND_SEQUENTIAL
  MAXIMUM = 254
  MEAN = 139.044
  MINIMUM = 5
  STANDARD_DEVIATION = 48.0789
END_OBJECT = IMAGE
/* MAP OBJECT DEFINITIONS */
OBJECT = IMAGE_MAP_PROJECTION
  ^DATA_SET_MAP_PROJECTION_CATALOG= "DSMAP.CAT"
  A_AXIS_RADIUS = 3396.0
  B_AXIS_RADIUS = 3396.0
  C_AXIS_RADIUS = 3396.0
  CENTER_LATITUDE = 0.0
  CENTER_LONGITUDE = 161.0
  COORDINATE_SYSTEM_NAME = PLANETOGRAPHIC
  COORDINATE_SYSTEM_TYPE = "BODY-FIXED ROTATING"
  EASTERNMOST_LONGITUDE = 166.827
  FIRST_STANDARD_PARALLEL = "N/A"
  LINE_FIRST_PIXEL = 1
  LINE_LAST_PIXEL = 6145
  LINE_PROJECTION_OFFSET = -43135.9375
  MAP_PROJECTION_ROTATION = 0.0
  MAP_PROJECTION_TYPE = SINUSOIDAL
  MAP_RESOLUTION = 592.713803866667
  MAP_SCALE = 0.1
  MAXIMUM_LATITUDE = -72.7998
  MINIMUM_LATITUDE = -83.152
  POSITIVE_LONGITUDE_DIRECTION = EAST
  REFERENCE_LATITUDE = "N/A"
  REFERENCE_LONGITUDE = "N/A"
  SAMPLE_FIRST_PIXEL = 1
  SAMPLE_LAST_PIXEL = 2002
  SAMPLE_PROJECTION_OFFSET = 961.3125
  SECOND_STANDARD_PARALLEL = "N/A"
  WESTERNMOST_LONGITUDE = 149.109
END_OBJECT = IMAGE_MAP_PROJECTION
/* The JPEG2000 image data file associated with this label. */
OBJECT = COMPRESSED_FILE
  FILE_NAME = "H4579_0000_BL3.JP2"
  RECORD_TYPE = UNDEFINED
  FILE_RECORDS = UNK
  ENCODING_TYPE = "JP2"
  INTERCHANGE_FORMAT = BINARY
  UNCOMPRESSED_FILE_NAME = "H4579_0000_BL3.IMG"
  REQUIRED_STORAGE_BYTES = "12322310"
  ^DESCRIPTION = "JP2INFO.TXT"
END_OBJECT = COMPRESSED_FILE
END
