PDS_VERSION_ID = PDS3
/* FILE DATA ELEMENTS */
RECORD_TYPE = STREAM
/* POINTERS TO DATA OBJECTS */
^COMPRESSED_FILE = "H4582_0000_IR3.JP2"
/* IDENTIFICATION DATA ELEMENTS */
DATA_SET_ID = "MEX-M-HRSC-5-REFDR-MAPPROJECTED-V3.0"
DATA_SET_NAME = "MARS EXPRESS HRSC MAP PROJECTED REFDR V3.0"
DETECTOR_ID = MEX_HRSC_IR
EVENT_TYPE = "MARS-REGIONAL-MAPPING-Gl-Eo-La"
INSTRUMENT_HOST_ID = MEX
INSTRUMENT_HOST_NAME = "MARS EXPRESS"
INSTRUMENT_ID = HRSC
INSTRUMENT_NAME = "HIGH RESOLUTION STEREO CAMERA"
MISSION_NAME = "MARS EXPRESS"
MISSION_PHASE_NAME = ME_Phase_8
PROCESSING_LEVEL_ID = 3
PRODUCT_CREATION_TIME = 2016-04-25T16:23:03.000Z
PRODUCT_ID = "H4582_0000_IR3.JP2"
RELEASE_ID = 0052
REVISION_ID = 0000
/* QUALITY DATA ELEMENTS */
DATA_QUALITY_ID = 1
DATA_QUALITY_DESC = "Data calculated based on original SPICE kernels"
/* TIME DATA ELEMENTS */
SPACECRAFT_CLOCK_START_COUNT = "1/0133807289.07294"
SPACECRAFT_CLOCK_STOP_COUNT = "1/0133807398.47160"
START_TIME = 2007-07-29T16:41:37.660Z
STOP_TIME = 2007-07-29T16:42:32.546Z
/* ORBITAL DATA ELEMENTS */
ASCENDING_NODE_LONGITUDE = 132.51
MAXIMUM_RESOLUTION = 48.1
FOOTPRINT_POINT_LATITUDE = (-85.5707,-85.6705,-85.7426,-85.8144, -85.8859,-85.9571,-86.0279,-86.0984, -86.2382,-86.3766,-86.5138,-86.4918, -86.4548,-86.4283,-86.4004,-86.3705, -86.3398,-86.3088,-86.244,-86.193, -86.1031,-86.0463,-85.9667,-85.9253, -85.8828,-85.8177,-85.7734,-85.6831, -85.6366,-85.5422,-85.4936,-85.4444, -85.3696,-85.3188,-85.2418,-85.1898, -85.1371,-85.0839,-85.0033,-84.9215, -84.8664,-84.8109,-84.755,-84.6987, -84.6134,-84.5272,-84.4693,-84.4089, -84.348,-84.2561,-84.1945,-84.1036, -84.0512,-84.0039,-83.9559,-83.907, -83.8573,-83.8069,-83.7556,-83.6641, -83.6109,-83.5569,-83.5769,-83.6322, -83.7145,-83.7687,-83.8206,-83.872, -83.9229,-83.9985,-84.0482,-84.0975, -84.1705,-84.266,-84.313,-84.3594, -84.428,-84.473,-84.5174,-84.5611, -84.6043,-84.6468,-84.6886,-84.7297, -84.7702,-84.8683,-84.9433,-84.9974, -85.0668,-85.1488,-85.1954,-85.2539, -85.3088,-85.3839,-85.4077,-85.4306, -85.4526,-85.4737,-85.4934,-85.5707)
FOOTPRINT_POINT_LONGITUDE = (163.518,163.791,163.997,164.209, 164.429,164.655,164.889,165.131,165.639 ,166.185,166.77,167.916,169.642,170.774 ,171.892,173.013,174.098,175.13,177.124 ,178.56,180.863,182.191,183.916,184.757 ,185.586,186.793,187.575,189.082, 189.815,191.226,191.915,192.587,193.568 ,194.206,195.136,195.739,196.33,196.908 ,197.752,198.57,199.1,199.619,200.127, 200.624,201.351,202.055,202.512,202.976 ,203.431,204.094,204.525,203.477, 202.831,202.264,201.705,201.152,200.606 ,200.067,199.535,198.62,198.107,197.6, 196.812,196.355,195.653,195.176,194.707 ,194.231,193.747,193.006,192.502, 191.989,191.203,190.125,189.572,189.01, 188.15,187.564,186.97,186.365,185.751, 185.127,184.493,183.849,183.195,181.516 ,180.128,179.06,177.6,175.719,174.56, 172.985,171.37,168.879,168.0,167.109, 166.209,165.296,164.378,163.518)
ORBIT_NUMBER = 4582
ORBITAL_ECCENTRICITY = 0.57
ORBITAL_INCLINATION = 86.7
ORBITAL_SEMIMAJOR_AXIS = 8529.69
PERIAPSIS_ALTITUDE = 293.5
PERIAPSIS_ARGUMENT_ANGLE = 271.59
PERIAPSIS_TIME = 2007-07-29T16:42:05.000Z
SPACECRAFT_ORIENTATION = (0.0,-1.0,0.0)
^MEX_ORIENTATION_DESC = "MEX_ORIENTATION_DESC.TXT"
SPACECRAFT_POINTING_MODE = ACROSSTRACK
^MEX_POINTING_DESC = "MEX_POINTING_DESC.TXT"
RIGHT_ASCENSION = -1e+32
DECLINATION = -1e+32
OFFSET_ANGLE = 0.51
SPACECRAFT_SOLAR_DISTANCE = 2.09843e+08
TARGET_NAME = MARS
/* CAMERA DATA ELEMENTS */
DETECTOR_TEMPERATURE = 17.5549
FOCAL_PLANE_TEMPERATURE = 8.5833
INST_CMPRS_NAME = "DISCRETE COSINE TRANSFORMATION (DCT)"
INST_CMPRS_RATIO = 14.9496
INST_CMPRS_QUALITY = 0
INST_CMPRS_QUANTZ_TBL_ID = 0
INSTRUMENT_TEMPERATURE = 11.234
LENS_TEMPERATURE = 8.1755
MACROPIXEL_SIZE = 4
MISSING_FRAMES = 0
PIXEL_SUBSAMPLING_FLAG = N
SIGNAL_CHAIN_ID = 2
/* RADIOMETRIC DATA ELEMENTS */
BANDWIDTH = 81.0
CENTER_FILTER_WAVELENGTH = 955.5
RADIANCE_OFFSET = 1.13113
RADIANCE_SCALING_FACTOR = 0.00157218
REFLECTANCE_SCALING_FACTOR = 0.000149355
MEX:REFLECTANCE_OFFSET = 0.107456
/* IMAGE OBJECT DEFINITIONS */
OBJECT = IMAGE
  INTERCHANGE_FORMAT = BINARY
  LINES = 3203
  LINE_SAMPLES = 4331
  SAMPLE_TYPE = UNSIGNED_INTEGER
  SAMPLE_BITS = 8
  BANDS = 1
  BAND_STORAGE_TYPE = BAND_SEQUENTIAL
  MAXIMUM = 255
  MEAN = 145.723
  MINIMUM = 4
  STANDARD_DEVIATION = 42.2781
END_OBJECT = IMAGE
/* MAP OBJECT DEFINITIONS */
OBJECT = IMAGE_MAP_PROJECTION
  ^DATA_SET_MAP_PROJECTION_CATALOG= "DSMAP.CAT"
  A_AXIS_RADIUS = 3396.0
  B_AXIS_RADIUS = 3396.0
  C_AXIS_RADIUS = 3396.0
  CENTER_LATITUDE = -90.0
  CENTER_LONGITUDE = 0.0
  COORDINATE_SYSTEM_NAME = PLANETOGRAPHIC
  COORDINATE_SYSTEM_TYPE = "BODY-FIXED ROTATING"
  EASTERNMOST_LONGITUDE = 204.525
  FIRST_STANDARD_PARALLEL = "N/A"
  LINE_FIRST_PIXEL = 1
  LINE_LAST_PIXEL = 3203
  LINE_PROJECTION_OFFSET = -4089.625
  MAP_PROJECTION_ROTATION = 0.0
  MAP_PROJECTION_TYPE = STEREOGRAPHIC
  MAP_RESOLUTION = 1185.42760773333
  MAP_SCALE = 0.05
  MAXIMUM_LATITUDE = -83.5569
  MINIMUM_LATITUDE = -86.5138
  POSITIVE_LONGITUDE_DIRECTION = EAST
  REFERENCE_LATITUDE = "N/A"
  REFERENCE_LONGITUDE = "N/A"
  SAMPLE_FIRST_PIXEL = 1
  SAMPLE_LAST_PIXEL = 4331
  SAMPLE_PROJECTION_OFFSET = 2920.125
  SECOND_STANDARD_PARALLEL = "N/A"
  WESTERNMOST_LONGITUDE = 163.518
END_OBJECT = IMAGE_MAP_PROJECTION
/* The JPEG2000 image data file associated with this label. */
OBJECT = COMPRESSED_FILE
  FILE_NAME = "H4582_0000_IR3.JP2"
  RECORD_TYPE = UNDEFINED
  FILE_RECORDS = UNK
  ENCODING_TYPE = "JP2"
  INTERCHANGE_FORMAT = BINARY
  UNCOMPRESSED_FILE_NAME = "H4582_0000_IR3.IMG"
  REQUIRED_STORAGE_BYTES = "13898179"
  ^DESCRIPTION = "JP2INFO.TXT"
END_OBJECT = COMPRESSED_FILE
END
