PDS_VERSION_ID = PDS3
/* FILE DATA ELEMENTS */
RECORD_TYPE = STREAM
/* POINTERS TO DATA OBJECTS */
^COMPRESSED_FILE = "H4582_0001_BL3.JP2"
/* IDENTIFICATION DATA ELEMENTS */
DATA_SET_ID = "MEX-M-HRSC-5-REFDR-MAPPROJECTED-V3.0"
DATA_SET_NAME = "MARS EXPRESS HRSC MAP PROJECTED REFDR V3.0"
DETECTOR_ID = MEX_HRSC_BLUE
EVENT_TYPE = "MARS-REGIONAL-MAPPING-Te-Im"
INSTRUMENT_HOST_ID = MEX
INSTRUMENT_HOST_NAME = "MARS EXPRESS"
INSTRUMENT_ID = HRSC
INSTRUMENT_NAME = "HIGH RESOLUTION STEREO CAMERA"
MISSION_NAME = "MARS EXPRESS"
MISSION_PHASE_NAME = ME_Phase_8
PROCESSING_LEVEL_ID = 3
PRODUCT_CREATION_TIME = 2016-04-25T16:23:03.000Z
PRODUCT_ID = "H4582_0001_BL3.JP2"
RELEASE_ID = 0052
REVISION_ID = 0000
/* QUALITY DATA ELEMENTS */
DATA_QUALITY_ID = 1
DATA_QUALITY_DESC = "Data calculated based on original SPICE kernels"
/* TIME DATA ELEMENTS */
SPACECRAFT_CLOCK_START_COUNT = "1/0133807530.09047"
SPACECRAFT_CLOCK_STOP_COUNT = "1/0133807852.00838"
START_TIME = 2007-07-29T16:46:09.464Z
STOP_TIME = 2007-07-29T16:50:09.255Z
/* ORBITAL DATA ELEMENTS */
ASCENDING_NODE_LONGITUDE = 132.51
MAXIMUM_RESOLUTION = 54.7
FOOTPRINT_POINT_LATITUDE = (-72.1393,-72.2102,-72.274,-72.3445, -71.971,-71.7222,-71.4762,-71.1032, -70.8544,-70.4813,-70.2331,-69.9856, -69.7381,-69.4907,-69.1965,-68.7551, -68.461,-68.1674,-67.874,-67.581, -67.2883,-66.9962,-66.5585,-66.2672, -65.9764,-65.686,-65.396,-65.1064, -64.6644,-64.368,-64.0722,-63.7706, -63.4679,-63.1657,-62.8586,-62.5498, -62.2414,-61.7697,-61.4549,-61.1382, -60.8181,-60.4975,-60.1682,-59.8414, -59.3452,-59.0129,-58.6754,-58.3371, -57.9953,-57.6425,-57.6108,-57.574, -57.5243,-57.8545,-58.195,-58.5318, -58.8686,-59.1987,-59.6934,-60.0184, -60.3441,-60.6641,-60.9823,-61.2993, -61.6123,-62.0817,-62.3885,-62.6958, -63.0012,-63.3022,-63.6035,-63.903, -64.1972,-64.4919,-64.9314,-65.2193, -65.5077,-65.7964,-66.0854,-66.3748, -66.6645,-66.9546,-67.2449,-67.5357, -67.8271,-68.2641,-68.5563,-68.8483, -69.2856,-69.5305,-69.7758,-70.0213, -70.3898,-70.6356,-70.8814,-71.1273, -71.3734,-71.6195,-71.8657,-72.1393)
FOOTPRINT_POINT_LONGITUDE = (225.21,226.318,227.418,228.452,228.673 ,228.814,228.952,229.151,229.279, 229.464,229.583,229.699,229.812,229.922 ,230.05,230.234,230.352,230.466,230.578 ,230.686,230.79,230.892,231.04,231.135, 231.227,231.317,231.404,231.489,231.615 ,231.697,231.776,231.855,231.933, 232.008,232.082,232.156,232.227,232.333 ,232.401,232.47,232.537,232.601,232.664 ,232.727,232.82,232.88,232.939,232.998, 233.055,232.909,232.023,231.163,230.18, 229.872,229.814,229.754,229.688,229.63, 229.533,229.467,229.399,229.322,229.261 ,229.188,229.114,228.998,228.919, 228.839,228.756,228.668,228.579,228.497 ,228.408,228.315,228.172,228.076, 227.975,227.871,227.766,227.656,227.544 ,227.428,227.308,227.184,227.048, 226.849,226.701,226.557,226.344,226.217 ,226.083,225.943,225.724,225.575, 225.422,225.264,225.101,224.933,224.76, 225.21)
ORBIT_NUMBER = 4582
ORBITAL_ECCENTRICITY = 0.57
ORBITAL_INCLINATION = 86.7
ORBITAL_SEMIMAJOR_AXIS = 8529.69
PERIAPSIS_ALTITUDE = 293.5
PERIAPSIS_ARGUMENT_ANGLE = 271.59
PERIAPSIS_TIME = 2007-07-29T16:42:05.000Z
SPACECRAFT_ORIENTATION = (0.0,-1.0,0.0)
^MEX_ORIENTATION_DESC = "MEX_ORIENTATION_DESC.TXT"
SPACECRAFT_POINTING_MODE = ACROSSTRACK
^MEX_POINTING_DESC = "MEX_POINTING_DESC.TXT"
RIGHT_ASCENSION = -1e+32
DECLINATION = -1e+32
OFFSET_ANGLE = 0.51
SPACECRAFT_SOLAR_DISTANCE = 2.09843e+08
TARGET_NAME = MARS
/* CAMERA DATA ELEMENTS */
DETECTOR_TEMPERATURE = 18.7783
FOCAL_PLANE_TEMPERATURE = 8.5833
INST_CMPRS_NAME = "DISCRETE COSINE TRANSFORMATION (DCT)"
INST_CMPRS_RATIO = 8.90626
INST_CMPRS_QUALITY = 0
INST_CMPRS_QUANTZ_TBL_ID = 0
INSTRUMENT_TEMPERATURE = 12.4574
LENS_TEMPERATURE = 9.195
MACROPIXEL_SIZE = 4
MISSING_FRAMES = 0
PIXEL_SUBSAMPLING_FLAG = N
SIGNAL_CHAIN_ID = 2
/* RADIOMETRIC DATA ELEMENTS */
BANDWIDTH = 76.0
CENTER_FILTER_WAVELENGTH = 444.0
RADIANCE_OFFSET = 1.10416
RADIANCE_SCALING_FACTOR = 0.00107007
REFLECTANCE_SCALING_FACTOR = 4.84126e-05
MEX:REFLECTANCE_OFFSET = 0.0499551
/* IMAGE OBJECT DEFINITIONS */
OBJECT = IMAGE
  INTERCHANGE_FORMAT = BINARY
  LINES = 17598
  LINE_SAMPLES = 3937
  SAMPLE_TYPE = UNSIGNED_INTEGER
  SAMPLE_BITS = 8
  BANDS = 1
  BAND_STORAGE_TYPE = BAND_SEQUENTIAL
  MAXIMUM = 254
  MEAN = 145.782
  MINIMUM = 1
  STANDARD_DEVIATION = 40.6046
END_OBJECT = IMAGE
/* MAP OBJECT DEFINITIONS */
OBJECT = IMAGE_MAP_PROJECTION
  ^DATA_SET_MAP_PROJECTION_CATALOG= "DSMAP.CAT"
  A_AXIS_RADIUS = 3396.0
  B_AXIS_RADIUS = 3396.0
  C_AXIS_RADIUS = 3396.0
  CENTER_LATITUDE = 0.0
  CENTER_LONGITUDE = 230.0
  COORDINATE_SYSTEM_NAME = PLANETOGRAPHIC
  COORDINATE_SYSTEM_TYPE = "BODY-FIXED ROTATING"
  EASTERNMOST_LONGITUDE = 233.055
  FIRST_STANDARD_PARALLEL = "N/A"
  LINE_FIRST_PIXEL = 1
  LINE_LAST_PIXEL = 17598
  LINE_PROJECTION_OFFSET = -68177.875
  MAP_PROJECTION_ROTATION = 0.0
  MAP_PROJECTION_TYPE = SINUSOIDAL
  MAP_RESOLUTION = 1185.42760773333
  MAP_SCALE = 0.05
  MAXIMUM_LATITUDE = -57.5243
  MINIMUM_LATITUDE = -72.3445
  POSITIVE_LONGITUDE_DIRECTION = EAST
  REFERENCE_LATITUDE = "N/A"
  REFERENCE_LONGITUDE = "N/A"
  SAMPLE_FIRST_PIXEL = 1
  SAMPLE_LAST_PIXEL = 3937
  SAMPLE_PROJECTION_OFFSET = 1974.625
  SECOND_STANDARD_PARALLEL = "N/A"
  WESTERNMOST_LONGITUDE = 224.76
END_OBJECT = IMAGE_MAP_PROJECTION
/* The JPEG2000 image data file associated with this label. */
OBJECT = COMPRESSED_FILE
  FILE_NAME = "H4582_0001_BL3.JP2"
  RECORD_TYPE = UNDEFINED
  FILE_RECORDS = UNK
  ENCODING_TYPE = "JP2"
  INTERCHANGE_FORMAT = BINARY
  UNCOMPRESSED_FILE_NAME = "H4582_0001_BL3.IMG"
  REQUIRED_STORAGE_BYTES = "69306948"
  ^DESCRIPTION = "JP2INFO.TXT"
END_OBJECT = COMPRESSED_FILE
END
