PDS_VERSION_ID = PDS3
/* FILE DATA ELEMENTS */
RECORD_TYPE = STREAM
/* POINTERS TO DATA OBJECTS */
^COMPRESSED_FILE = "H4582_0001_IR3.JP2"
/* IDENTIFICATION DATA ELEMENTS */
DATA_SET_ID = "MEX-M-HRSC-5-REFDR-MAPPROJECTED-V3.0"
DATA_SET_NAME = "MARS EXPRESS HRSC MAP PROJECTED REFDR V3.0"
DETECTOR_ID = MEX_HRSC_IR
EVENT_TYPE = "MARS-REGIONAL-MAPPING-Te-Im"
INSTRUMENT_HOST_ID = MEX
INSTRUMENT_HOST_NAME = "MARS EXPRESS"
INSTRUMENT_ID = HRSC
INSTRUMENT_NAME = "HIGH RESOLUTION STEREO CAMERA"
MISSION_NAME = "MARS EXPRESS"
MISSION_PHASE_NAME = ME_Phase_8
PROCESSING_LEVEL_ID = 3
PRODUCT_CREATION_TIME = 2016-04-25T16:23:03.000Z
PRODUCT_ID = "H4582_0001_IR3.JP2"
RELEASE_ID = 0052
REVISION_ID = 0000
/* QUALITY DATA ELEMENTS */
DATA_QUALITY_ID = 1
DATA_QUALITY_DESC = "Data calculated based on original SPICE kernels"
/* TIME DATA ELEMENTS */
SPACECRAFT_CLOCK_START_COUNT = "1/0133807530.09047"
SPACECRAFT_CLOCK_STOP_COUNT = "1/0133807852.00838"
START_TIME = 2007-07-29T16:45:39.080Z
STOP_TIME = 2007-07-29T16:49:24.196Z
/* ORBITAL DATA ELEMENTS */
ASCENDING_NODE_LONGITUDE = 132.51
MAXIMUM_RESOLUTION = 55
FOOTPRINT_POINT_LATITUDE = (-72.2044,-72.2976,-72.3752,-72.4455, -72.1383,-71.8885,-71.6299,-71.3624, -71.105,-70.85,-70.5922,-70.3397, -70.0825,-69.8246,-69.5671,-69.3101, -69.0523,-68.6655,-68.2793,-68.0219, -67.7647,-67.5075,-67.0662,-66.6068, -66.3001,-65.9937,-65.6868,-65.3804, -65.0742,-64.7683,-64.4624,-64.1571, -63.6987,-63.394,-63.0894,-62.7851, -62.3201,-62.008,-61.6966,-61.38, -61.0502,-60.7302,-60.4067,-60.0891, -59.7626,-59.4289,-58.9281,-58.5903, -58.2495,-57.9085,-57.6618,-57.6136, -57.5538,-57.5149,-57.8581,-58.1966, -58.5354,-58.8652,-59.2015,-59.5335, -59.8581,-60.1835,-60.6589,-60.9847, -61.3039,-61.6177,-61.9276,-62.2379, -62.5464,-62.8493,-63.1523,-63.4523, -63.7589,-64.0627,-64.5186,-64.9751, -65.2798,-65.5836,-66.0408,-66.4991, -66.8042,-67.2483,-67.5038,-67.7558, -68.0147,-68.3917,-68.6461,-68.9018, -69.1591,-69.4226,-69.6775,-70.0592, -70.314,-70.6969,-70.9526,-71.2077, -71.4629,-71.7179,-71.9646,-72.2044)
FOOTPRINT_POINT_LONGITUDE = (224.755,225.925,226.989,228.048, 228.518,228.662,228.807,228.953,229.089 ,229.22,229.348,229.47,229.592,229.71, 229.825,229.937,230.046,230.204,230.356 ,230.455,230.55,230.644,230.799,230.953 ,231.053,231.149,231.243,231.335, 231.424,231.51,231.595,231.676,231.796, 231.872,231.947,232.019,232.127,232.197 ,232.265,232.332,232.402,232.467, 232.531,232.591,232.652,232.714,232.803 ,232.861,232.918,232.974,232.434, 231.579,230.608,230.041,229.983,229.923 ,229.861,229.796,229.735,229.67,229.603 ,229.535,229.423,229.358,229.285,229.21 ,229.133,229.053,228.972,228.89,228.806 ,228.715,228.629,228.537,228.393, 228.243,228.14,228.032,227.865,227.691, 227.569,227.386,227.276,227.159,227.047 ,226.859,226.733,226.605,226.476,226.35 ,226.21,225.991,225.841,225.608,225.447 ,225.281,225.11,224.933,224.756, 224.755)
ORBIT_NUMBER = 4582
ORBITAL_ECCENTRICITY = 0.57
ORBITAL_INCLINATION = 86.7
ORBITAL_SEMIMAJOR_AXIS = 8529.69
PERIAPSIS_ALTITUDE = 293.5
PERIAPSIS_ARGUMENT_ANGLE = 271.59
PERIAPSIS_TIME = 2007-07-29T16:42:05.000Z
SPACECRAFT_ORIENTATION = (0.0,-1.0,0.0)
^MEX_ORIENTATION_DESC = "MEX_ORIENTATION_DESC.TXT"
SPACECRAFT_POINTING_MODE = ACROSSTRACK
^MEX_POINTING_DESC = "MEX_POINTING_DESC.TXT"
RIGHT_ASCENSION = -1e+32
DECLINATION = -1e+32
OFFSET_ANGLE = 0.51
SPACECRAFT_SOLAR_DISTANCE = 2.09843e+08
TARGET_NAME = MARS
/* CAMERA DATA ELEMENTS */
DETECTOR_TEMPERATURE = 18.1666
FOCAL_PLANE_TEMPERATURE = 8.5833
INST_CMPRS_NAME = "DISCRETE COSINE TRANSFORMATION (DCT)"
INST_CMPRS_RATIO = 13.9856
INST_CMPRS_QUALITY = 0
INST_CMPRS_QUANTZ_TBL_ID = 0
INSTRUMENT_TEMPERATURE = 12.4574
LENS_TEMPERATURE = 9.195
MACROPIXEL_SIZE = 4
MISSING_FRAMES = 0
PIXEL_SUBSAMPLING_FLAG = N
SIGNAL_CHAIN_ID = 2
/* RADIOMETRIC DATA ELEMENTS */
BANDWIDTH = 81.0
CENTER_FILTER_WAVELENGTH = 955.5
RADIANCE_OFFSET = 1.74591
RADIANCE_SCALING_FACTOR = 0.00410803
REFLECTANCE_SCALING_FACTOR = 0.000390261
MEX:REFLECTANCE_OFFSET = 0.165861
/* IMAGE OBJECT DEFINITIONS */
OBJECT = IMAGE
  INTERCHANGE_FORMAT = BINARY
  LINES = 17598
  LINE_SAMPLES = 3937
  SAMPLE_TYPE = UNSIGNED_INTEGER
  SAMPLE_BITS = 8
  BANDS = 1
  BAND_STORAGE_TYPE = BAND_SEQUENTIAL
  MAXIMUM = 255
  MEAN = 124.519
  MINIMUM = 1
  STANDARD_DEVIATION = 41.3725
END_OBJECT = IMAGE
/* MAP OBJECT DEFINITIONS */
OBJECT = IMAGE_MAP_PROJECTION
  ^DATA_SET_MAP_PROJECTION_CATALOG= "DSMAP.CAT"
  A_AXIS_RADIUS = 3396.0
  B_AXIS_RADIUS = 3396.0
  C_AXIS_RADIUS = 3396.0
  CENTER_LATITUDE = 0.0
  CENTER_LONGITUDE = 230.0
  COORDINATE_SYSTEM_NAME = PLANETOGRAPHIC
  COORDINATE_SYSTEM_TYPE = "BODY-FIXED ROTATING"
  EASTERNMOST_LONGITUDE = 232.974
  FIRST_STANDARD_PARALLEL = "N/A"
  LINE_FIRST_PIXEL = 1
  LINE_LAST_PIXEL = 17598
  LINE_PROJECTION_OFFSET = -68177.875
  MAP_PROJECTION_ROTATION = 0.0
  MAP_PROJECTION_TYPE = SINUSOIDAL
  MAP_RESOLUTION = 1185.42760773333
  MAP_SCALE = 0.05
  MAXIMUM_LATITUDE = -57.5149
  MINIMUM_LATITUDE = -72.4455
  POSITIVE_LONGITUDE_DIRECTION = EAST
  REFERENCE_LATITUDE = "N/A"
  REFERENCE_LONGITUDE = "N/A"
  SAMPLE_FIRST_PIXEL = 1
  SAMPLE_LAST_PIXEL = 3937
  SAMPLE_PROJECTION_OFFSET = 1974.625
  SECOND_STANDARD_PARALLEL = "N/A"
  WESTERNMOST_LONGITUDE = 224.755
END_OBJECT = IMAGE_MAP_PROJECTION
/* The JPEG2000 image data file associated with this label. */
OBJECT = COMPRESSED_FILE
  FILE_NAME = "H4582_0001_IR3.JP2"
  RECORD_TYPE = UNDEFINED
  FILE_RECORDS = UNK
  ENCODING_TYPE = "JP2"
  INTERCHANGE_FORMAT = BINARY
  UNCOMPRESSED_FILE_NAME = "H4582_0001_IR3.IMG"
  REQUIRED_STORAGE_BYTES = "69306948"
  ^DESCRIPTION = "JP2INFO.TXT"
END_OBJECT = COMPRESSED_FILE
END
