PDS_VERSION_ID = PDS3
/* FILE DATA ELEMENTS */
RECORD_TYPE = STREAM
/* POINTERS TO DATA OBJECTS */
^COMPRESSED_FILE = "H4589_0000_BL3.JP2"
/* IDENTIFICATION DATA ELEMENTS */
DATA_SET_ID = "MEX-M-HRSC-5-REFDR-MAPPROJECTED-V3.0"
DATA_SET_NAME = "MARS EXPRESS HRSC MAP PROJECTED REFDR V3.0"
DETECTOR_ID = MEX_HRSC_BLUE
EVENT_TYPE = "MARS-REGIONAL-MAPPING-Pf-Eo"
INSTRUMENT_HOST_ID = MEX
INSTRUMENT_HOST_NAME = "MARS EXPRESS"
INSTRUMENT_ID = HRSC
INSTRUMENT_NAME = "HIGH RESOLUTION STEREO CAMERA"
MISSION_NAME = "MARS EXPRESS"
MISSION_PHASE_NAME = ME_Phase_9
PROCESSING_LEVEL_ID = 3
PRODUCT_CREATION_TIME = 2016-04-25T16:23:03.000Z
PRODUCT_ID = "H4589_0000_BL3.JP2"
RELEASE_ID = 0052
REVISION_ID = 0000
/* QUALITY DATA ELEMENTS */
DATA_QUALITY_ID = 1
DATA_QUALITY_DESC = "Data calculated based on original SPICE kernels"
/* TIME DATA ELEMENTS */
SPACECRAFT_CLOCK_START_COUNT = "1/0133976837.07292"
SPACECRAFT_CLOCK_STOP_COUNT = "1/0133977083.56982"
START_TIME = 2007-07-31T15:47:55.068Z
STOP_TIME = 2007-07-31T15:50:50.484Z
/* ORBITAL DATA ELEMENTS */
ASCENDING_NODE_LONGITUDE = 132.37
MAXIMUM_RESOLUTION = 52.4
FOOTPRINT_POINT_LATITUDE = (-76.2935,-76.3581,-76.4165,-76.1892, -75.7901,-75.4827,-75.2768,-75.071, -74.8653,-74.6599,-74.4546,-74.2494, -74.0442,-73.8392,-73.6343,-73.4296, -73.225,-73.0205,-72.816,-72.6119, -72.408,-72.2041,-72.0005,-71.7969, -71.5936,-71.3904,-71.1875,-70.8354, -70.5937,-70.3521,-69.9894,-69.629, -69.3885,-69.1483,-68.9083,-68.6686, -68.4293,-68.1901,-67.9513,-67.7128, -67.4746,-67.2367,-66.999,-66.7617, -66.5246,-66.2825,-66.0397,-65.7972, -65.5551,-65.3862,-65.3585,-65.3388, -65.3144,-65.2923,-65.3935,-65.6345, -65.8758,-66.1176,-66.3593,-66.5952, -66.8314,-67.0678,-67.3046,-67.5415, -67.7787,-68.0163,-68.3734,-68.6112, -68.8496,-69.0882,-69.3272,-69.5663, -69.8056,-70.0453,-70.285,-70.525, -70.7653,-71.0004,-71.4035,-71.6056, -71.9085,-72.2119,-72.4143,-72.6168, -72.8194,-73.0221,-73.2249,-73.4279, -73.6309,-73.834,-74.0372,-74.2404, -74.4437,-74.647,-74.8505,-75.054, -75.2575,-75.5623,-75.9564,-76.2935)
FOOTPRINT_POINT_LONGITUDE = (259.057,260.41,261.803,263.499,263.715 ,263.874,263.977,264.075,264.172, 264.267,264.359,264.448,264.534,264.618 ,264.7,264.779,264.857,264.932,265.004, 265.075,265.146,265.214,265.281,265.345 ,265.409,265.47,265.532,265.634,265.701 ,265.766,265.853,265.95,266.009,266.066 ,266.121,266.176,266.228,266.28,266.33, 266.379,266.427,266.474,266.52,266.564, 266.607,266.651,266.694,266.735,266.776 ,266.367,265.469,264.912,264.296, 263.783,263.27,263.218,263.164,263.109, 263.052,262.995,262.936,262.876,262.814 ,262.751,262.685,262.618,262.514, 262.441,262.367,262.29,262.211,262.13, 262.046,261.96,261.871,261.78,261.686, 261.591,261.421,261.333,261.196,261.054 ,260.956,260.855,260.751,260.645, 260.535,260.423,260.307,260.188,260.065 ,259.938,259.808,259.674,259.536, 259.394,259.247,259.019,258.707, 259.057)
ORBIT_NUMBER = 4589
ORBITAL_ECCENTRICITY = 0.57
ORBITAL_INCLINATION = 86.69
ORBITAL_SEMIMAJOR_AXIS = 8530.34
PERIAPSIS_ALTITUDE = 294.15
PERIAPSIS_ARGUMENT_ANGLE = 270.38
PERIAPSIS_TIME = 2007-07-31T15:44:34.000Z
SPACECRAFT_ORIENTATION = (0.0,-1.0,0.0)
^MEX_ORIENTATION_DESC = "MEX_ORIENTATION_DESC.TXT"
SPACECRAFT_POINTING_MODE = ACROSSTRACK
^MEX_POINTING_DESC = "MEX_POINTING_DESC.TXT"
RIGHT_ASCENSION = -1e+32
DECLINATION = -1e+32
OFFSET_ANGLE = -0.8
SPACECRAFT_SOLAR_DISTANCE = 2.10064e+08
TARGET_NAME = MARS
/* CAMERA DATA ELEMENTS */
DETECTOR_TEMPERATURE = 18.1666
FOCAL_PLANE_TEMPERATURE = 8.7872
INST_CMPRS_NAME = "DISCRETE COSINE TRANSFORMATION (DCT)"
INST_CMPRS_RATIO = 13.7834
INST_CMPRS_QUALITY = 0
INST_CMPRS_QUANTZ_TBL_ID = 0
INSTRUMENT_TEMPERATURE = 11.4379
LENS_TEMPERATURE = 9.6028
MACROPIXEL_SIZE = 4
MISSING_FRAMES = 0
PIXEL_SUBSAMPLING_FLAG = N
SIGNAL_CHAIN_ID = 2
/* RADIOMETRIC DATA ELEMENTS */
BANDWIDTH = 76.0
CENTER_FILTER_WAVELENGTH = 444.0
RADIANCE_OFFSET = 1.064
RADIANCE_SCALING_FACTOR = 0.0011816
REFLECTANCE_SCALING_FACTOR = 5.35714e-05
MEX:REFLECTANCE_OFFSET = 0.0482394
/* IMAGE OBJECT DEFINITIONS */
OBJECT = IMAGE
  INTERCHANGE_FORMAT = BINARY
  LINES = 13308
  LINE_SAMPLES = 3186
  SAMPLE_TYPE = UNSIGNED_INTEGER
  SAMPLE_BITS = 8
  BANDS = 1
  BAND_STORAGE_TYPE = BAND_SEQUENTIAL
  MAXIMUM = 255
  MEAN = 140.441
  MINIMUM = 2
  STANDARD_DEVIATION = 43.376
END_OBJECT = IMAGE
/* MAP OBJECT DEFINITIONS */
OBJECT = IMAGE_MAP_PROJECTION
  ^DATA_SET_MAP_PROJECTION_CATALOG= "DSMAP.CAT"
  A_AXIS_RADIUS = 3396.0
  B_AXIS_RADIUS = 3396.0
  C_AXIS_RADIUS = 3396.0
  CENTER_LATITUDE = 0.0
  CENTER_LONGITUDE = 263.0
  COORDINATE_SYSTEM_NAME = PLANETOGRAPHIC
  COORDINATE_SYSTEM_TYPE = "BODY-FIXED ROTATING"
  EASTERNMOST_LONGITUDE = 266.776
  FIRST_STANDARD_PARALLEL = "N/A"
  LINE_FIRST_PIXEL = 1
  LINE_LAST_PIXEL = 13308
  LINE_PROJECTION_OFFSET = -77376.625
  MAP_PROJECTION_ROTATION = 0.0
  MAP_PROJECTION_TYPE = SINUSOIDAL
  MAP_RESOLUTION = 1185.42760773333
  MAP_SCALE = 0.05
  MAXIMUM_LATITUDE = -65.2923
  MINIMUM_LATITUDE = -76.4165
  POSITIVE_LONGITUDE_DIRECTION = EAST
  REFERENCE_LATITUDE = "N/A"
  REFERENCE_LONGITUDE = "N/A"
  SAMPLE_FIRST_PIXEL = 1
  SAMPLE_LAST_PIXEL = 3186
  SAMPLE_PROJECTION_OFFSET = 1297.625
  SECOND_STANDARD_PARALLEL = "N/A"
  WESTERNMOST_LONGITUDE = 258.707
END_OBJECT = IMAGE_MAP_PROJECTION
/* The JPEG2000 image data file associated with this label. */
OBJECT = COMPRESSED_FILE
  FILE_NAME = "H4589_0000_BL3.JP2"
  RECORD_TYPE = UNDEFINED
  FILE_RECORDS = UNK
  ENCODING_TYPE = "JP2"
  INTERCHANGE_FORMAT = BINARY
  UNCOMPRESSED_FILE_NAME = "H4589_0000_BL3.IMG"
  REQUIRED_STORAGE_BYTES = "42421590"
  ^DESCRIPTION = "JP2INFO.TXT"
END_OBJECT = COMPRESSED_FILE
END
