PDS_VERSION_ID = PDS3
/* FILE DATA ELEMENTS */
RECORD_TYPE = STREAM
/* POINTERS TO DATA OBJECTS */
^COMPRESSED_FILE = "H4589_0000_IR3.JP2"
/* IDENTIFICATION DATA ELEMENTS */
DATA_SET_ID = "MEX-M-HRSC-5-REFDR-MAPPROJECTED-V3.0"
DATA_SET_NAME = "MARS EXPRESS HRSC MAP PROJECTED REFDR V3.0"
DETECTOR_ID = MEX_HRSC_IR
EVENT_TYPE = "MARS-REGIONAL-MAPPING-Pf-Eo"
INSTRUMENT_HOST_ID = MEX
INSTRUMENT_HOST_NAME = "MARS EXPRESS"
INSTRUMENT_ID = HRSC
INSTRUMENT_NAME = "HIGH RESOLUTION STEREO CAMERA"
MISSION_NAME = "MARS EXPRESS"
MISSION_PHASE_NAME = ME_Phase_9
PROCESSING_LEVEL_ID = 3
PRODUCT_CREATION_TIME = 2016-04-25T16:23:03.000Z
PRODUCT_ID = "H4589_0000_IR3.JP2"
RELEASE_ID = 0052
REVISION_ID = 0000
/* QUALITY DATA ELEMENTS */
DATA_QUALITY_ID = 1
DATA_QUALITY_DESC = "Data calculated based on original SPICE kernels"
/* TIME DATA ELEMENTS */
SPACECRAFT_CLOCK_START_COUNT = "1/0133976837.07292"
SPACECRAFT_CLOCK_STOP_COUNT = "1/0133977083.56982"
START_TIME = 2007-07-31T15:47:25.927Z
STOP_TIME = 2007-07-31T15:50:13.227Z
/* ORBITAL DATA ELEMENTS */
ASCENDING_NODE_LONGITUDE = 132.37
MAXIMUM_RESOLUTION = 53
FOOTPRINT_POINT_LATITUDE = (-76.4145,-76.4643,-76.5076,-76.5266, -76.5437,-76.4829,-76.2831,-76.0841, -75.8847,-75.5778,-75.2682,-74.9588, -74.7524,-74.5458,-74.3391,-74.1326, -73.8229,-73.4977,-73.2845,-73.0712, -72.7507,-72.4318,-72.2186,-72.0054, -71.7926,-71.5792,-71.2599,-71.0463, -70.8331,-70.6203,-70.4078,-70.1955, -69.8782,-69.6643,-69.4517,-69.2394, -69.0273,-68.6583,-68.4053,-68.1523, -67.8995,-67.6467,-67.3941,-67.0154, -66.7632,-66.5111,-66.2589,-66.0072, -65.7555,-65.5041,-65.3722,-65.3658, -65.3546,-65.3373,-65.3162,-65.6918, -65.9424,-66.3185,-66.5694,-66.8205, -67.0715,-67.3225,-67.5739,-67.8254, -68.077,-68.4546,-68.7062,-69.0533, -69.2643,-69.4754,-69.7922,-70.0039, -70.2152,-70.4268,-70.7435,-70.9546, -71.1664,-71.3784,-71.5889,-71.8006, -72.0126,-72.2237,-72.4352,-72.6468, -72.8583,-73.1753,-73.3866,-73.7089, -73.9134,-74.1178,-74.4246,-74.629, -74.833,-75.1393,-75.3433,-75.5474, -75.7486,-76.044,-76.2409,-76.4145)
FOOTPRINT_POINT_LONGITUDE = (258.341,259.667,261.031,261.728, 262.435,263.307,263.424,263.533,263.64, 263.8,263.954,264.1,264.195,264.288, 264.379,264.466,264.592,264.719,264.8, 264.878,264.994,265.101,265.172,265.24, 265.307,265.373,265.468,265.532,265.593 ,265.651,265.708,265.762,265.839, 265.896,265.947,265.997,266.046,266.129 ,266.184,266.237,266.289,266.34,266.39, 266.462,266.509,266.554,266.599,266.642 ,266.684,266.725,266.234,265.662, 265.003,264.199,263.397,263.315,263.258 ,263.17,263.109,263.046,262.981,262.915 ,262.847,262.777,262.704,262.592, 262.514,262.403,262.334,262.262,262.152 ,262.075,261.997,261.917,261.793, 261.708,261.62,261.53,261.438,261.343, 261.245,261.145,261.042,260.936,260.827 ,260.658,260.541,260.356,260.235,260.11 ,259.915,259.78,259.642,259.426,259.277 ,259.123,258.966,258.728,258.562, 258.341)
ORBIT_NUMBER = 4589
ORBITAL_ECCENTRICITY = 0.57
ORBITAL_INCLINATION = 86.69
ORBITAL_SEMIMAJOR_AXIS = 8530.34
PERIAPSIS_ALTITUDE = 294.15
PERIAPSIS_ARGUMENT_ANGLE = 270.38
PERIAPSIS_TIME = 2007-07-31T15:44:34.000Z
SPACECRAFT_ORIENTATION = (0.0,-1.0,0.0)
^MEX_ORIENTATION_DESC = "MEX_ORIENTATION_DESC.TXT"
SPACECRAFT_POINTING_MODE = ACROSSTRACK
^MEX_POINTING_DESC = "MEX_POINTING_DESC.TXT"
RIGHT_ASCENSION = -1e+32
DECLINATION = -1e+32
OFFSET_ANGLE = -0.8
SPACECRAFT_SOLAR_DISTANCE = 2.10064e+08
TARGET_NAME = MARS
/* CAMERA DATA ELEMENTS */
DETECTOR_TEMPERATURE = 17.351
FOCAL_PLANE_TEMPERATURE = 8.7872
INST_CMPRS_NAME = "DISCRETE COSINE TRANSFORMATION (DCT)"
INST_CMPRS_RATIO = 20.2813
INST_CMPRS_QUALITY = 0
INST_CMPRS_QUANTZ_TBL_ID = 0
INSTRUMENT_TEMPERATURE = 11.4379
LENS_TEMPERATURE = 9.6028
MACROPIXEL_SIZE = 4
MISSING_FRAMES = 1
PIXEL_SUBSAMPLING_FLAG = N
SIGNAL_CHAIN_ID = 2
/* RADIOMETRIC DATA ELEMENTS */
BANDWIDTH = 81.0
CENTER_FILTER_WAVELENGTH = 955.5
RADIANCE_OFFSET = 1.86227
RADIANCE_SCALING_FACTOR = 0.00479913
REFLECTANCE_SCALING_FACTOR = 0.000456875
MEX:REFLECTANCE_OFFSET = 0.177287
/* IMAGE OBJECT DEFINITIONS */
OBJECT = IMAGE
  INTERCHANGE_FORMAT = BINARY
  LINES = 13308
  LINE_SAMPLES = 3186
  SAMPLE_TYPE = UNSIGNED_INTEGER
  SAMPLE_BITS = 8
  BANDS = 1
  BAND_STORAGE_TYPE = BAND_SEQUENTIAL
  MAXIMUM = 255
  MEAN = 145.839
  MINIMUM = 1
  STANDARD_DEVIATION = 50.2702
END_OBJECT = IMAGE
/* MAP OBJECT DEFINITIONS */
OBJECT = IMAGE_MAP_PROJECTION
  ^DATA_SET_MAP_PROJECTION_CATALOG= "DSMAP.CAT"
  A_AXIS_RADIUS = 3396.0
  B_AXIS_RADIUS = 3396.0
  C_AXIS_RADIUS = 3396.0
  CENTER_LATITUDE = 0.0
  CENTER_LONGITUDE = 263.0
  COORDINATE_SYSTEM_NAME = PLANETOGRAPHIC
  COORDINATE_SYSTEM_TYPE = "BODY-FIXED ROTATING"
  EASTERNMOST_LONGITUDE = 266.725
  FIRST_STANDARD_PARALLEL = "N/A"
  LINE_FIRST_PIXEL = 1
  LINE_LAST_PIXEL = 13308
  LINE_PROJECTION_OFFSET = -77376.625
  MAP_PROJECTION_ROTATION = 0.0
  MAP_PROJECTION_TYPE = SINUSOIDAL
  MAP_RESOLUTION = 1185.42760773333
  MAP_SCALE = 0.05
  MAXIMUM_LATITUDE = -65.31619999999999
  MINIMUM_LATITUDE = -76.5437
  POSITIVE_LONGITUDE_DIRECTION = EAST
  REFERENCE_LATITUDE = "N/A"
  REFERENCE_LONGITUDE = "N/A"
  SAMPLE_FIRST_PIXEL = 1
  SAMPLE_LAST_PIXEL = 3186
  SAMPLE_PROJECTION_OFFSET = 1297.625
  SECOND_STANDARD_PARALLEL = "N/A"
  WESTERNMOST_LONGITUDE = 258.341
END_OBJECT = IMAGE_MAP_PROJECTION
/* The JPEG2000 image data file associated with this label. */
OBJECT = COMPRESSED_FILE
  FILE_NAME = "H4589_0000_IR3.JP2"
  RECORD_TYPE = UNDEFINED
  FILE_RECORDS = UNK
  ENCODING_TYPE = "JP2"
  INTERCHANGE_FORMAT = BINARY
  UNCOMPRESSED_FILE_NAME = "H4589_0000_IR3.IMG"
  REQUIRED_STORAGE_BYTES = "42421590"
  ^DESCRIPTION = "JP2INFO.TXT"
END_OBJECT = COMPRESSED_FILE
END
