PDS_VERSION_ID = PDS3
/* FILE DATA ELEMENTS */
RECORD_TYPE = STREAM
/* POINTERS TO DATA OBJECTS */
^COMPRESSED_FILE = "H4590_0000_BL3.JP2"
/* IDENTIFICATION DATA ELEMENTS */
DATA_SET_ID = "MEX-M-HRSC-5-REFDR-MAPPROJECTED-V3.0"
DATA_SET_NAME = "MARS EXPRESS HRSC MAP PROJECTED REFDR V3.0"
DETECTOR_ID = MEX_HRSC_BLUE
EVENT_TYPE = "MARS-REGIONAL-MAPPING-Gl-Eo-La"
INSTRUMENT_HOST_ID = MEX
INSTRUMENT_HOST_NAME = "MARS EXPRESS"
INSTRUMENT_ID = HRSC
INSTRUMENT_NAME = "HIGH RESOLUTION STEREO CAMERA"
MISSION_NAME = "MARS EXPRESS"
MISSION_PHASE_NAME = ME_Phase_9
PROCESSING_LEVEL_ID = 3
PRODUCT_CREATION_TIME = 2016-04-25T16:23:03.000Z
PRODUCT_ID = "H4590_0000_BL3.JP2"
RELEASE_ID = 0052
REVISION_ID = 0000
/* QUALITY DATA ELEMENTS */
DATA_QUALITY_ID = 1
DATA_QUALITY_DESC = "Data calculated based on original SPICE kernels"
/* TIME DATA ELEMENTS */
SPACECRAFT_CLOCK_START_COUNT = "1/0134000909.07574"
SPACECRAFT_CLOCK_STOP_COUNT = "1/0134001183.49103"
START_TIME = 2007-07-31T22:29:03.928Z
STOP_TIME = 2007-07-31T22:32:36.043Z
/* ORBITAL DATA ELEMENTS */
ASCENDING_NODE_LONGITUDE = 132.34
MAXIMUM_RESOLUTION = 47.3
FOOTPRINT_POINT_LATITUDE = (-83.6791,-83.9035,-84.0423,-83.9047, -83.6739,-83.4388,-83.0834,-82.8456, -82.6065,-82.366,-82.1251,-81.8751, -81.6239,-81.371,-80.99,-80.6063, -80.3509,-80.095,-79.8386,-79.5821, -79.3251,-79.0588,-78.7921,-78.5252, -78.2581,-77.9909,-77.7235,-77.4562, -77.1887,-76.775,-76.4983,-76.2217, -75.9446,-75.6677,-75.3914,-74.9652, -74.6798,-74.3944,-74.1092,-73.8244, -73.5398,-73.2554,-72.8282,-72.544, -72.2604,-71.9768,-71.5516,-71.2686, -70.9856,-70.8043,-70.7684,-70.7215, -70.6553,-71.0638,-71.3445,-71.7656, -72.0468,-72.3281,-72.6094,-72.8908, -73.3128,-73.5945,-73.8762,-74.1581, -74.4399,-74.7215,-75.0033,-75.2782, -75.5507,-75.8232,-76.0956,-76.3677, -76.6397,-76.9103,-77.1727,-77.4349, -77.6966,-77.9581,-78.2191,-78.4797, -78.8695,-79.2492,-79.4985,-79.7471, -79.9948,-80.2418,-80.4878,-80.7327, -80.9765,-81.2192,-81.4599,-81.6983, -81.9277,-82.1553,-82.4931,-82.7155, -83.0445,-83.2604,-83.4731,-83.6791)
FOOTPRINT_POINT_LONGITUDE = (138.167,141.336,143.575,146.005, 147.087,148.079,149.44,150.277,151.059, 151.791,152.481,153.147,153.78,154.371, 155.192,155.938,156.408,156.852,157.273 ,157.673,158.053,158.427,158.783, 159.122,159.445,159.753,160.047,160.329 ,160.598,160.992,161.241,161.481, 161.708,161.927,162.139,162.447,162.645 ,162.834,163.017,163.194,163.364, 163.528,163.759,163.908,164.053,164.192 ,164.391,164.519,164.642,164.21,163.421 ,162.493,161.322,160.652,160.493, 160.247,160.073,159.893,159.708,159.515 ,159.216,159.004,158.784,158.555, 158.316,158.07,157.812,157.548,157.277, 156.993,156.697,156.389,156.067,155.732 ,155.392,155.038,154.667,154.279, 153.873,153.445,152.769,152.055,151.555 ,151.029,150.476,149.893,149.277, 148.627,147.938,147.203,146.456,145.651 ,144.823,143.944,142.509,141.482, 139.821,138.638,137.367,138.167)
ORBIT_NUMBER = 4590
ORBITAL_ECCENTRICITY = 0.57
ORBITAL_INCLINATION = 86.69
ORBITAL_SEMIMAJOR_AXIS = 8530.79
PERIAPSIS_ALTITUDE = 295.08
PERIAPSIS_ARGUMENT_ANGLE = 270.21
PERIAPSIS_TIME = 2007-07-31T22:27:45.000Z
SPACECRAFT_ORIENTATION = (0.0,-1.0,0.0)
^MEX_ORIENTATION_DESC = "MEX_ORIENTATION_DESC.TXT"
SPACECRAFT_POINTING_MODE = NADIR
^MEX_POINTING_DESC = "MEX_POINTING_DESC.TXT"
RIGHT_ASCENSION = -1e+32
DECLINATION = -1e+32
OFFSET_ANGLE = -1e+32
SPACECRAFT_SOLAR_DISTANCE = 2.10096e+08
TARGET_NAME = MARS
/* CAMERA DATA ELEMENTS */
DETECTOR_TEMPERATURE = 18.3705
FOCAL_PLANE_TEMPERATURE = 9.195
INST_CMPRS_NAME = "DISCRETE COSINE TRANSFORMATION (DCT)"
INST_CMPRS_RATIO = 6.87156
INST_CMPRS_QUALITY = 0
INST_CMPRS_QUANTZ_TBL_ID = 0
INSTRUMENT_TEMPERATURE = 11.4379
LENS_TEMPERATURE = 10.4184
MACROPIXEL_SIZE = 4
MISSING_FRAMES = 0
PIXEL_SUBSAMPLING_FLAG = N
SIGNAL_CHAIN_ID = 2
/* RADIOMETRIC DATA ELEMENTS */
BANDWIDTH = 76.0
CENTER_FILTER_WAVELENGTH = 444.0
RADIANCE_OFFSET = 0.869359
RADIANCE_SCALING_FACTOR = 0.00156149
REFLECTANCE_SCALING_FACTOR = 7.08162e-05
MEX:REFLECTANCE_OFFSET = 0.0394269
/* IMAGE OBJECT DEFINITIONS */
OBJECT = IMAGE
  INTERCHANGE_FORMAT = BINARY
  LINES = 16001
  LINE_SAMPLES = 5642
  SAMPLE_TYPE = UNSIGNED_INTEGER
  SAMPLE_BITS = 8
  BANDS = 1
  BAND_STORAGE_TYPE = BAND_SEQUENTIAL
  MAXIMUM = 254
  MEAN = 134.261
  MINIMUM = 1
  STANDARD_DEVIATION = 49.8873
END_OBJECT = IMAGE
/* MAP OBJECT DEFINITIONS */
OBJECT = IMAGE_MAP_PROJECTION
  ^DATA_SET_MAP_PROJECTION_CATALOG= "DSMAP.CAT"
  A_AXIS_RADIUS = 3396.0
  B_AXIS_RADIUS = 3396.0
  C_AXIS_RADIUS = 3396.0
  CENTER_LATITUDE = 0.0
  CENTER_LONGITUDE = 157.0
  COORDINATE_SYSTEM_NAME = PLANETOGRAPHIC
  COORDINATE_SYSTEM_TYPE = "BODY-FIXED ROTATING"
  EASTERNMOST_LONGITUDE = 164.642
  FIRST_STANDARD_PARALLEL = "N/A"
  LINE_FIRST_PIXEL = 1
  LINE_LAST_PIXEL = 16001
  LINE_PROJECTION_OFFSET = -83729.625
  MAP_PROJECTION_ROTATION = 0.0
  MAP_PROJECTION_TYPE = SINUSOIDAL
  MAP_RESOLUTION = 1185.42760773333
  MAP_SCALE = 0.05
  MAXIMUM_LATITUDE = -70.6553
  MINIMUM_LATITUDE = -84.0423
  POSITIVE_LONGITUDE_DIRECTION = EAST
  REFERENCE_LATITUDE = "N/A"
  REFERENCE_LONGITUDE = "N/A"
  SAMPLE_FIRST_PIXEL = 1
  SAMPLE_LAST_PIXEL = 5642
  SAMPLE_PROJECTION_OFFSET = 2668.375
  SECOND_STANDARD_PARALLEL = "N/A"
  WESTERNMOST_LONGITUDE = 137.367
END_OBJECT = IMAGE_MAP_PROJECTION
/* The JPEG2000 image data file associated with this label. */
OBJECT = COMPRESSED_FILE
  FILE_NAME = "H4590_0000_BL3.JP2"
  RECORD_TYPE = UNDEFINED
  FILE_RECORDS = UNK
  ENCODING_TYPE = "JP2"
  INTERCHANGE_FORMAT = BINARY
  UNCOMPRESSED_FILE_NAME = "H4590_0000_BL3.IMG"
  REQUIRED_STORAGE_BYTES = "90305852"
  ^DESCRIPTION = "JP2INFO.TXT"
END_OBJECT = COMPRESSED_FILE
END
