PDS_VERSION_ID = PDS3
/* FILE DATA ELEMENTS */
RECORD_TYPE = STREAM
/* POINTERS TO DATA OBJECTS */
^COMPRESSED_FILE = "H4591_0000_RE3.JP2"
/* IDENTIFICATION DATA ELEMENTS */
DATA_SET_ID = "MEX-M-HRSC-5-REFDR-MAPPROJECTED-V3.0"
DATA_SET_NAME = "MARS EXPRESS HRSC MAP PROJECTED REFDR V3.0"
DETECTOR_ID = MEX_HRSC_RED
EVENT_TYPE = "MARS-REGIONAL-MAPPING-Gl-Eo-La"
INSTRUMENT_HOST_ID = MEX
INSTRUMENT_HOST_NAME = "MARS EXPRESS"
INSTRUMENT_ID = HRSC
INSTRUMENT_NAME = "HIGH RESOLUTION STEREO CAMERA"
MISSION_NAME = "MARS EXPRESS"
MISSION_PHASE_NAME = ME_Phase_9
PROCESSING_LEVEL_ID = 3
PRODUCT_CREATION_TIME = 2016-04-25T16:23:03.000Z
PRODUCT_ID = "H4591_0000_RE3.JP2"
RELEASE_ID = 0052
REVISION_ID = 0000
/* QUALITY DATA ELEMENTS */
DATA_QUALITY_ID = 1
DATA_QUALITY_DESC = "Data calculated based on original SPICE kernels"
/* TIME DATA ELEMENTS */
SPACECRAFT_CLOCK_START_COUNT = "1/0134025094.09076"
SPACECRAFT_CLOCK_STOP_COUNT = "1/0134025257.39884"
START_TIME = 2007-08-01T05:12:26.159Z
STOP_TIME = 2007-08-01T05:14:14.527Z
/* ORBITAL DATA ELEMENTS */
ASCENDING_NODE_LONGITUDE = 132.32
MAXIMUM_RESOLUTION = 24.8
FOOTPRINT_POINT_LATITUDE = (-84.2932,-84.3831,-84.4761,-84.561, -84.6834,-84.7722,-84.6533,-84.5335, -84.4141,-84.2333,-84.0485,-83.8633, -83.7396,-83.6156,-83.4911,-83.3665, -83.1739,-83.0439,-82.8483,-82.7179, -82.5212,-82.3897,-82.1917,-82.0596, -81.9278,-81.7953,-81.6629,-81.4638, -81.3308,-81.1975,-81.0644,-80.931, -80.7976,-80.6637,-80.5254,-80.3177, -80.1101,-79.9714,-79.8328,-79.694, -79.5553,-79.4163,-79.2774,-79.1386, -78.9999,-78.7923,-78.5826,-78.4396, -78.296,-78.1646,-78.1142,-78.0723, -78.0376,-77.9834,-77.9351,-78.1262, -78.2667,-78.4027,-78.5367,-78.7406, -78.8741,-79.0802,-79.2155,-79.4175, -79.5522,-79.7545,-79.889,-80.0234, -80.1576,-80.3573,-80.4864,-80.6152, -80.7439,-80.8723,-81.0009,-81.1923, -81.3197,-81.447,-81.5737,-81.7001, -81.8262,-81.9516,-82.0767,-82.2017, -82.3877,-82.5113,-82.6344,-82.7571, -82.8779,-82.995,-83.1112,-83.2269, -83.3421,-83.5133,-83.627,-83.7392, -83.8509,-83.9612,-84.1245,-84.2932)
FOOTPRINT_POINT_LONGITUDE = (38.6705,39.9183,41.2932,42.6319, 44.7272,46.1932,46.8978,47.5712,48.2155 ,49.1307,49.9879,50.7929,51.3029, 51.7928,52.2636,52.7166,53.3815,53.808, 54.418,54.8063,55.3622,55.7163,56.2242, 56.5486,56.8625,57.1656,57.459,57.8812, 58.1516,58.4133,58.6673,58.9133,59.152, 59.3847,59.6177,59.9539,60.276,60.4827, 60.6837,60.8789,61.0688,61.2533,61.4328 ,61.6078,61.7783,62.0265,62.2623, 62.4219,62.5766,61.7056,60.7012,59.917, 59.2945,58.3703,57.6108,56.9892,56.7833 ,56.5791,56.3742,56.0486,55.8314, 55.4766,55.238,54.8701,54.6161,54.2198, 53.9468,53.6659,53.3765,52.9298,52.6302 ,52.3218,52.0045,51.6775,51.3391, 50.8166,50.4542,50.0794,49.6944,49.2969 ,48.8859,48.464,48.0267,47.5736,46.8689 ,46.3775,45.8692,45.342,44.8015,44.2574 ,43.6958,43.1131,42.5081,41.5616, 40.8971,40.2135,39.5001,38.7651,37.611, 38.6705)
ORBIT_NUMBER = 4591
ORBITAL_ECCENTRICITY = 0.57
ORBITAL_INCLINATION = 86.7
ORBITAL_SEMIMAJOR_AXIS = 8529.56
PERIAPSIS_ALTITUDE = 293.8
PERIAPSIS_ARGUMENT_ANGLE = 270.05
PERIAPSIS_TIME = 2007-08-01T05:10:57.000Z
SPACECRAFT_ORIENTATION = (0.0,-1.0,0.0)
^MEX_ORIENTATION_DESC = "MEX_ORIENTATION_DESC.TXT"
SPACECRAFT_POINTING_MODE = ACROSSTRACK
^MEX_POINTING_DESC = "MEX_POINTING_DESC.TXT"
RIGHT_ASCENSION = -1e+32
DECLINATION = -1e+32
OFFSET_ANGLE = -0.229
SPACECRAFT_SOLAR_DISTANCE = 2.10129e+08
TARGET_NAME = MARS
/* CAMERA DATA ELEMENTS */
DETECTOR_TEMPERATURE = 18.7783
FOCAL_PLANE_TEMPERATURE = 9.195
INST_CMPRS_NAME = "DISCRETE COSINE TRANSFORMATION (DCT)"
INST_CMPRS_RATIO = 5.57949
INST_CMPRS_QUALITY = 0
INST_CMPRS_QUANTZ_TBL_ID = 0
INSTRUMENT_TEMPERATURE = 11.6418
LENS_TEMPERATURE = 9.3989
MACROPIXEL_SIZE = 2
MISSING_FRAMES = 0
PIXEL_SUBSAMPLING_FLAG = N
SIGNAL_CHAIN_ID = 3
/* RADIOMETRIC DATA ELEMENTS */
BANDWIDTH = 48.0
CENTER_FILTER_WAVELENGTH = 748.0
RADIANCE_OFFSET = 1.58379
RADIANCE_SCALING_FACTOR = 0.00333882
REFLECTANCE_SCALING_FACTOR = 0.000336427
MEX:REFLECTANCE_OFFSET = 0.159586
/* IMAGE OBJECT DEFINITIONS */
OBJECT = IMAGE
  INTERCHANGE_FORMAT = BINARY
  LINES = 16306
  LINE_SAMPLES = 8137
  SAMPLE_TYPE = UNSIGNED_INTEGER
  SAMPLE_BITS = 8
  BANDS = 1
  BAND_STORAGE_TYPE = BAND_SEQUENTIAL
  MAXIMUM = 255
  MEAN = 77.7719
  MINIMUM = 1
  STANDARD_DEVIATION = 35.8207
END_OBJECT = IMAGE
/* MAP OBJECT DEFINITIONS */
OBJECT = IMAGE_MAP_PROJECTION
  ^DATA_SET_MAP_PROJECTION_CATALOG= "DSMAP.CAT"
  A_AXIS_RADIUS = 3396.0
  B_AXIS_RADIUS = 3396.0
  C_AXIS_RADIUS = 3396.0
  CENTER_LATITUDE = 0.0
  CENTER_LONGITUDE = 54.0
  COORDINATE_SYSTEM_NAME = PLANETOGRAPHIC
  COORDINATE_SYSTEM_TYPE = "BODY-FIXED ROTATING"
  EASTERNMOST_LONGITUDE = 62.5766
  FIRST_STANDARD_PARALLEL = "N/A"
  LINE_FIRST_PIXEL = 1
  LINE_LAST_PIXEL = 16306
  LINE_PROJECTION_OFFSET = -184805.75
  MAP_PROJECTION_ROTATION = 0.0
  MAP_PROJECTION_TYPE = SINUSOIDAL
  MAP_RESOLUTION = 2370.85521546667
  MAP_SCALE = 0.025
  MAXIMUM_LATITUDE = -77.93510000000001
  MINIMUM_LATITUDE = -84.7722
  POSITIVE_LONGITUDE_DIRECTION = EAST
  REFERENCE_LATITUDE = "N/A"
  REFERENCE_LONGITUDE = "N/A"
  SAMPLE_FIRST_PIXEL = 1
  SAMPLE_LAST_PIXEL = 8137
  SAMPLE_PROJECTION_OFFSET = 4098.25
  SECOND_STANDARD_PARALLEL = "N/A"
  WESTERNMOST_LONGITUDE = 37.611
END_OBJECT = IMAGE_MAP_PROJECTION
/* The JPEG2000 image data file associated with this label. */
OBJECT = COMPRESSED_FILE
  FILE_NAME = "H4591_0000_RE3.JP2"
  RECORD_TYPE = UNDEFINED
  FILE_RECORDS = UNK
  ENCODING_TYPE = "JP2"
  INTERCHANGE_FORMAT = BINARY
  UNCOMPRESSED_FILE_NAME = "H4591_0000_RE3.IMG"
  REQUIRED_STORAGE_BYTES = "132714470"
  ^DESCRIPTION = "JP2INFO.TXT"
END_OBJECT = COMPRESSED_FILE
END
