PDS_VERSION_ID = PDS3
/* FILE DATA ELEMENTS */
RECORD_TYPE = STREAM
/* POINTERS TO DATA OBJECTS */
^COMPRESSED_FILE = "H4591_0003_SR3.JP2"
/* IDENTIFICATION DATA ELEMENTS */
DATA_SET_ID = "MEX-M-HRSC-5-REFDR-MAPPROJECTED-V3.0"
DATA_SET_NAME = "MARS EXPRESS HRSC MAP PROJECTED REFDR V3.0"
DETECTOR_ID = MEX_HRSC_SRC
EVENT_TYPE = "MARS-REGIONAL-MAPPING-Gl-Eo-La"
INSTRUMENT_HOST_ID = MEX
INSTRUMENT_HOST_NAME = "MARS EXPRESS"
INSTRUMENT_ID = HRSC
INSTRUMENT_NAME = "HIGH RESOLUTION STEREO CAMERA"
MISSION_NAME = "MARS EXPRESS"
MISSION_PHASE_NAME = ME_Phase_9
PROCESSING_LEVEL_ID = 3
PRODUCT_CREATION_TIME = 2016-04-25T16:23:03.000Z
PRODUCT_ID = "H4591_0003_SR3.JP2"
RELEASE_ID = 0052
REVISION_ID = 0000
/* QUALITY DATA ELEMENTS */
DATA_QUALITY_ID = 1
DATA_QUALITY_DESC = "Data calculated based on original SPICE kernels"
/* TIME DATA ELEMENTS */
SPACECRAFT_CLOCK_START_COUNT = "1/0134025094.09076"
SPACECRAFT_CLOCK_STOP_COUNT = "1/0134025257.39884"
IMAGE_TIME = 2007-08-01T05:12:50.279Z
START_TIME = 2007-08-01T05:12:50.276Z
STOP_TIME = 2007-08-01T05:12:50.281Z
/* ORBITAL DATA ELEMENTS */
ASCENDING_NODE_LONGITUDE = 132.32
MAXIMUM_RESOLUTION = 2.76
FOOTPRINT_POINT_LATITUDE = (-81.814,-81.8153,-81.8165,-81.8194, -81.8212,-81.8224,-81.8242,-81.8269, -81.8291,-81.8309,-81.8333,-81.8358, -81.8379,-81.84,-81.8422,-81.8436, -81.8456,-81.8473,-81.8488,-81.85, -81.8514,-81.8535,-81.8552,-81.8568, -81.857,-81.8563,-81.8556,-81.8549, -81.8543,-81.8536,-81.8529,-81.8522, -81.8515,-81.8508,-81.8501,-81.8494, -81.8487,-81.8481,-81.8474,-81.8467, -81.846,-81.8453,-81.8446,-81.8439, -81.8432,-81.8425,-81.8418,-81.8411, -81.8404,-81.8392,-81.838,-81.8368, -81.8355,-81.8335,-81.8309,-81.8291, -81.8271,-81.8256,-81.824,-81.8221, -81.8201,-81.8177,-81.816,-81.8146, -81.8125,-81.8112,-81.8096,-81.8073, -81.8059,-81.804,-81.8019,-81.8006, -81.7982,-81.7969,-81.7966,-81.7973, -81.798,-81.7986,-81.7993,-81.8, -81.8007,-81.8014,-81.8021,-81.8029, -81.8036,-81.8043,-81.805,-81.8057, -81.8064,-81.8071,-81.8077,-81.8084, -81.8091,-81.8098,-81.8105,-81.8111, -81.8118,-81.8125,-81.8132,-81.814)
FOOTPRINT_POINT_LONGITUDE = (53.1692,53.1656,53.1622,53.1542, 53.1493,53.146,53.1412,53.1336,53.1276, 53.1227,53.116,53.1092,53.1034,53.0976, 53.0915,53.0876,53.0821,53.0777,53.0734 ,53.0702,53.0662,53.0604,53.0556, 53.0513,53.0397,53.0273,53.015,53.0027, 52.9904,52.9781,52.9658,52.9535,52.9412 ,52.9289,52.9166,52.9043,52.892,52.8797 ,52.8674,52.8552,52.8429,52.8306, 52.8183,52.806,52.7938,52.7815,52.7692, 52.757,52.7447,52.7389,52.7425,52.7458, 52.7493,52.7549,52.7621,52.7673,52.7729 ,52.7772,52.7816,52.7869,52.7924, 52.7992,52.804,52.8078,52.8136,52.8174, 52.8219,52.828,52.832,52.8372,52.8432, 52.8469,52.8536,52.8571,52.8654,52.8776 ,52.8898,52.902,52.9143,52.9265,52.9387 ,52.9509,52.9631,52.9784,52.9906, 53.0029,53.0151,53.0273,53.0396,53.0518 ,53.0641,53.0763,53.0886,53.1008, 53.1131,53.1253,53.1376,53.1499,53.1621 ,53.1692)
ORBIT_NUMBER = 4591
ORBITAL_ECCENTRICITY = 0.57
ORBITAL_INCLINATION = 86.7
ORBITAL_SEMIMAJOR_AXIS = 8529.56
PERIAPSIS_ALTITUDE = 293.8
PERIAPSIS_ARGUMENT_ANGLE = 270.05
PERIAPSIS_TIME = 2007-08-01T05:10:57.000Z
SPACECRAFT_ORIENTATION = (0.0,-1.0,0.0)
^MEX_ORIENTATION_DESC = "MEX_ORIENTATION_DESC.TXT"
SPACECRAFT_POINTING_MODE = ACROSSTRACK
^MEX_POINTING_DESC = "MEX_POINTING_DESC.TXT"
RIGHT_ASCENSION = -1e+32
DECLINATION = -1e+32
OFFSET_ANGLE = -0.229
SPACECRAFT_SOLAR_DISTANCE = 2.10129e+08
TARGET_NAME = MARS
/* CAMERA DATA ELEMENTS */
BUFFER_MODE_ID = BUFFER_8
EXPOSURE_DURATION = 5.04
INST_CMPRS_NAME = NONE
INST_CMPRS_RATIO = 1.0
INST_CMPRS_QUALITY = -2147483648
INST_CMPRS_QUANTZ_TBL_ID = -2147483648
INSTRUMENT_TEMPERATURE = 8.18182
MISSING_FRAMES = 0
START_BIT = 0
/* RADIOMETRIC DATA ELEMENTS */
BANDWIDTH = 250.0
CENTER_FILTER_WAVELENGTH = 600.0
RADIANCE_OFFSET = -9.99e+31
RADIANCE_SCALING_FACTOR = -9.99e+31
REFLECTANCE_SCALING_FACTOR = -9.99e+31
MEX:REFLECTANCE_OFFSET = -9.99e+31
/* IMAGE OBJECT DEFINITIONS */
OBJECT = IMAGE
  INTERCHANGE_FORMAT = BINARY
  LINES = 1587
  LINE_SAMPLES = 1596
  SAMPLE_TYPE = UNSIGNED_INTEGER
  SAMPLE_BITS = 8
  BANDS = 1
  BAND_STORAGE_TYPE = BAND_SEQUENTIAL
  MAXIMUM = 236
  MEAN = 145.607
  MINIMUM = 15
  STANDARD_DEVIATION = 18.5608
END_OBJECT = IMAGE
/* MAP OBJECT DEFINITIONS */
OBJECT = IMAGE_MAP_PROJECTION
  ^DATA_SET_MAP_PROJECTION_CATALOG= "DSMAP.CAT"
  A_AXIS_RADIUS = 3396.19
  B_AXIS_RADIUS = 3396.19
  C_AXIS_RADIUS = 3396.19
  CENTER_LATITUDE = 0.0
  CENTER_LONGITUDE = 53.0
  COORDINATE_SYSTEM_NAME = PLANETOGRAPHIC
  COORDINATE_SYSTEM_TYPE = "BODY-FIXED ROTATING"
  EASTERNMOST_LONGITUDE = 53.1692
  FIRST_STANDARD_PARALLEL = "N/A"
  LINE_FIRST_PIXEL = 1
  LINE_LAST_PIXEL = 1587
  LINE_PROJECTION_OFFSET = -1934337.0
  MAP_PROJECTION_ROTATION = 0.0
  MAP_PROJECTION_TYPE = SINUSOIDAL
  MAP_RESOLUTION = 23709.8786048756
  MAP_SCALE = 0.0025
  MAXIMUM_LATITUDE = -81.7966
  MINIMUM_LATITUDE = -81.857
  POSITIVE_LONGITUDE_DIRECTION = EAST
  REFERENCE_LATITUDE = "N/A"
  REFERENCE_LONGITUDE = "N/A"
  SAMPLE_FIRST_PIXEL = 1
  SAMPLE_LAST_PIXEL = 1596
  SAMPLE_PROJECTION_OFFSET = 585.0
  SECOND_STANDARD_PARALLEL = "N/A"
  WESTERNMOST_LONGITUDE = 52.7389
END_OBJECT = IMAGE_MAP_PROJECTION
/* The JPEG2000 image data file associated with this label. */
OBJECT = COMPRESSED_FILE
  FILE_NAME = "H4591_0003_SR3.JP2"
  RECORD_TYPE = UNDEFINED
  FILE_RECORDS = UNK
  ENCODING_TYPE = "JP2"
  INTERCHANGE_FORMAT = BINARY
  UNCOMPRESSED_FILE_NAME = "H4591_0003_SR3.IMG"
  REQUIRED_STORAGE_BYTES = "2552004"
  ^DESCRIPTION = "JP2INFO.TXT"
END_OBJECT = COMPRESSED_FILE
END
