PDS_VERSION_ID = PDS3
/* FILE DATA ELEMENTS */
RECORD_TYPE = STREAM
/* POINTERS TO DATA OBJECTS */
^COMPRESSED_FILE = "H4591_0004_SR3.JP2"
/* IDENTIFICATION DATA ELEMENTS */
DATA_SET_ID = "MEX-M-HRSC-5-REFDR-MAPPROJECTED-V3.0"
DATA_SET_NAME = "MARS EXPRESS HRSC MAP PROJECTED REFDR V3.0"
DETECTOR_ID = MEX_HRSC_SRC
EVENT_TYPE = "MARS-REGIONAL-MAPPING-Gl-Eo-La"
INSTRUMENT_HOST_ID = MEX
INSTRUMENT_HOST_NAME = "MARS EXPRESS"
INSTRUMENT_ID = HRSC
INSTRUMENT_NAME = "HIGH RESOLUTION STEREO CAMERA"
MISSION_NAME = "MARS EXPRESS"
MISSION_PHASE_NAME = ME_Phase_9
PROCESSING_LEVEL_ID = 3
PRODUCT_CREATION_TIME = 2016-04-25T16:23:03.000Z
PRODUCT_ID = "H4591_0004_SR3.JP2"
RELEASE_ID = 0052
REVISION_ID = 0000
/* QUALITY DATA ELEMENTS */
DATA_QUALITY_ID = 1
DATA_QUALITY_DESC = "Data calculated based on original SPICE kernels"
/* TIME DATA ELEMENTS */
SPACECRAFT_CLOCK_START_COUNT = "1/0134025094.09076"
SPACECRAFT_CLOCK_STOP_COUNT = "1/0134025257.39884"
IMAGE_TIME = 2007-08-01T05:12:50.824Z
START_TIME = 2007-08-01T05:12:50.821Z
STOP_TIME = 2007-08-01T05:12:50.826Z
/* ORBITAL DATA ELEMENTS */
ASCENDING_NODE_LONGITUDE = 132.32
MAXIMUM_RESOLUTION = 2.761
FOOTPRINT_POINT_LATITUDE = (-81.7804,-81.7819,-81.7836,-81.7861, -81.7878,-81.789,-81.7906,-81.7925, -81.7946,-81.7961,-81.7983,-81.7996, -81.8017,-81.8036,-81.8048,-81.8065, -81.8089,-81.8107,-81.8121,-81.8135, -81.8149,-81.8172,-81.8184,-81.8204, -81.8219,-81.8236,-81.8231,-81.8224, -81.8217,-81.821,-81.8204,-81.8197, -81.819,-81.8183,-81.8176,-81.8169, -81.8162,-81.8156,-81.8149,-81.8142, -81.8135,-81.8128,-81.8121,-81.8114, -81.8107,-81.81,-81.8094,-81.8087, -81.808,-81.8073,-81.8066,-81.8053, -81.8039,-81.8026,-81.8009,-81.7996, -81.7971,-81.7953,-81.794,-81.7917, -81.7901,-81.7886,-81.786,-81.7838, -81.7822,-81.7807,-81.7783,-81.7764, -81.7734,-81.7722,-81.7696,-81.7677, -81.7661,-81.7641,-81.7627,-81.7634, -81.7642,-81.7649,-81.7656,-81.7663, -81.767,-81.7676,-81.7683,-81.769, -81.7697,-81.7704,-81.7711,-81.7718, -81.7724,-81.7731,-81.7738,-81.7745, -81.7752,-81.7758,-81.7765,-81.7772, -81.7779,-81.7786,-81.7792,-81.7804)
FOOTPRINT_POINT_LONGITUDE = (53.261,53.257,53.2523,53.2455,53.2408, 53.2375,53.2333,53.2282,53.2225,53.2182 ,53.2123,53.2087,53.2031,53.1977, 53.1945,53.1899,53.1833,53.1784,53.1746 ,53.1707,53.1669,53.1607,53.1572, 53.1519,53.1477,53.1431,53.1264,53.1141 ,53.1018,53.0895,53.0773,53.065,53.0527 ,53.0405,53.0282,53.0159,53.0037, 52.9914,52.9792,52.9669,52.9547,52.9425 ,52.9302,52.918,52.9057,52.8935,52.8813 ,52.869,52.8568,52.8446,52.8324,52.8339 ,52.8377,52.8413,52.8461,52.8498, 52.8567,52.8616,52.8652,52.8716,52.8761 ,52.8803,52.8874,52.8936,52.8978,52.902 ,52.9087,52.9139,52.9222,52.9255, 52.9326,52.938,52.9422,52.948,52.9521, 52.9643,52.9795,52.9917,53.0038,53.016, 53.0282,53.0404,53.0526,53.0648,53.077, 53.0892,53.1013,53.1135,53.1258,53.138, 53.1502,53.1624,53.1746,53.1868,53.199, 53.2112,53.2235,53.2357,53.2479,53.261)
ORBIT_NUMBER = 4591
ORBITAL_ECCENTRICITY = 0.57
ORBITAL_INCLINATION = 86.7
ORBITAL_SEMIMAJOR_AXIS = 8529.56
PERIAPSIS_ALTITUDE = 293.8
PERIAPSIS_ARGUMENT_ANGLE = 270.05
PERIAPSIS_TIME = 2007-08-01T05:10:57.000Z
SPACECRAFT_ORIENTATION = (0.0,-1.0,0.0)
^MEX_ORIENTATION_DESC = "MEX_ORIENTATION_DESC.TXT"
SPACECRAFT_POINTING_MODE = ACROSSTRACK
^MEX_POINTING_DESC = "MEX_POINTING_DESC.TXT"
RIGHT_ASCENSION = -1e+32
DECLINATION = -1e+32
OFFSET_ANGLE = -0.229
SPACECRAFT_SOLAR_DISTANCE = 2.10129e+08
TARGET_NAME = MARS
/* CAMERA DATA ELEMENTS */
BUFFER_MODE_ID = BUFFER_8
EXPOSURE_DURATION = 5.04
INST_CMPRS_NAME = NONE
INST_CMPRS_RATIO = 1.0
INST_CMPRS_QUALITY = -2147483648
INST_CMPRS_QUANTZ_TBL_ID = -2147483648
INSTRUMENT_TEMPERATURE = 8.18182
MISSING_FRAMES = 0
START_BIT = 0
/* RADIOMETRIC DATA ELEMENTS */
BANDWIDTH = 250.0
CENTER_FILTER_WAVELENGTH = 600.0
RADIANCE_OFFSET = -9.99e+31
RADIANCE_SCALING_FACTOR = -9.99e+31
REFLECTANCE_SCALING_FACTOR = -9.99e+31
MEX:REFLECTANCE_OFFSET = -9.99e+31
/* IMAGE OBJECT DEFINITIONS */
OBJECT = IMAGE
  INTERCHANGE_FORMAT = BINARY
  LINES = 1587
  LINE_SAMPLES = 1595
  SAMPLE_TYPE = UNSIGNED_INTEGER
  SAMPLE_BITS = 8
  BANDS = 1
  BAND_STORAGE_TYPE = BAND_SEQUENTIAL
  MAXIMUM = 246
  MEAN = 153.047
  MINIMUM = 20
  STANDARD_DEVIATION = 18.016
END_OBJECT = IMAGE
/* MAP OBJECT DEFINITIONS */
OBJECT = IMAGE_MAP_PROJECTION
  ^DATA_SET_MAP_PROJECTION_CATALOG= "DSMAP.CAT"
  A_AXIS_RADIUS = 3396.19
  B_AXIS_RADIUS = 3396.19
  C_AXIS_RADIUS = 3396.19
  CENTER_LATITUDE = 0.0
  CENTER_LONGITUDE = 53.0
  COORDINATE_SYSTEM_NAME = PLANETOGRAPHIC
  COORDINATE_SYSTEM_TYPE = "BODY-FIXED ROTATING"
  EASTERNMOST_LONGITUDE = 53.261
  FIRST_STANDARD_PARALLEL = "N/A"
  LINE_FIRST_PIXEL = 1
  LINE_LAST_PIXEL = 1587
  LINE_PROJECTION_OFFSET = -1933545.0
  MAP_PROJECTION_ROTATION = 0.0
  MAP_PROJECTION_TYPE = SINUSOIDAL
  MAP_RESOLUTION = 23709.8786048756
  MAP_SCALE = 0.0025
  MAXIMUM_LATITUDE = -81.7627
  MINIMUM_LATITUDE = -81.8236
  POSITIVE_LONGITUDE_DIRECTION = EAST
  REFERENCE_LATITUDE = "N/A"
  REFERENCE_LONGITUDE = "N/A"
  SAMPLE_FIRST_PIXEL = 1
  SAMPLE_LAST_PIXEL = 1595
  SAMPLE_PROJECTION_OFFSET = 273.0
  SECOND_STANDARD_PARALLEL = "N/A"
  WESTERNMOST_LONGITUDE = 52.8324
END_OBJECT = IMAGE_MAP_PROJECTION
/* The JPEG2000 image data file associated with this label. */
OBJECT = COMPRESSED_FILE
  FILE_NAME = "H4591_0004_SR3.JP2"
  RECORD_TYPE = UNDEFINED
  FILE_RECORDS = UNK
  ENCODING_TYPE = "JP2"
  INTERCHANGE_FORMAT = BINARY
  UNCOMPRESSED_FILE_NAME = "H4591_0004_SR3.IMG"
  REQUIRED_STORAGE_BYTES = "2550405"
  ^DESCRIPTION = "JP2INFO.TXT"
END_OBJECT = COMPRESSED_FILE
END
