PDS_VERSION_ID = PDS3
/* FILE DATA ELEMENTS */
RECORD_TYPE = STREAM
/* POINTERS TO DATA OBJECTS */
^COMPRESSED_FILE = "H4592_0009_IR3.JP2"
/* IDENTIFICATION DATA ELEMENTS */
DATA_SET_ID = "MEX-M-HRSC-5-REFDR-MAPPROJECTED-V3.0"
DATA_SET_NAME = "MARS EXPRESS HRSC MAP PROJECTED REFDR V3.0"
DETECTOR_ID = MEX_HRSC_IR
EVENT_TYPE = "MARS-REGIONAL-COLOR-Te-Fl-Lc"
INSTRUMENT_HOST_ID = MEX
INSTRUMENT_HOST_NAME = "MARS EXPRESS"
INSTRUMENT_ID = HRSC
INSTRUMENT_NAME = "HIGH RESOLUTION STEREO CAMERA"
MISSION_NAME = "MARS EXPRESS"
MISSION_PHASE_NAME = ME_Phase_9
PROCESSING_LEVEL_ID = 3
PRODUCT_CREATION_TIME = 2016-04-25T16:23:03.000Z
PRODUCT_ID = "H4592_0009_IR3.JP2"
RELEASE_ID = 0052
REVISION_ID = 0000
/* QUALITY DATA ELEMENTS */
DATA_QUALITY_ID = 1
DATA_QUALITY_DESC = "Data calculated based on original SPICE kernels"
/* TIME DATA ELEMENTS */
SPACECRAFT_CLOCK_START_COUNT = "1/0134050168.08261"
SPACECRAFT_CLOCK_STOP_COUNT = "1/0134050929.05065"
START_TIME = 2007-08-01T12:09:50.457Z
STOP_TIME = 2007-08-01T12:13:22.397Z
/* ORBITAL DATA ELEMENTS */
ASCENDING_NODE_LONGITUDE = 132.3
MAXIMUM_RESOLUTION = 82.3
FOOTPRINT_POINT_LATITUDE = (-29.6252,-29.6358,-29.6452,-29.6535, -29.6606,-29.6666,-29.6714,-29.675, -29.6774,-29.6788,-29.6789,-29.677, -29.6474,-29.4216,-29.197,-28.972, -28.7477,-28.5249,-28.3035,-28.0771, -27.8533,-27.6318,-27.4102,-27.1902, -26.9625,-26.7398,-26.5197,-26.1963, -25.9801,-25.7602,-25.5413,-25.3234, -25.1059,-24.7806,-24.5641,-24.3483, -24.1303,-23.807,-23.4875,-23.2746, -23.061,-22.7418,-22.4241,-21.8946, -21.5758,-21.0463,-20.6267,-20.2113, -19.8994,-19.4836,-19.0711,-18.8376, -18.8529,-18.8624,-18.8708,-18.8798, -18.8861,-18.8878,-18.8899,-18.8907, -18.8892,-18.8865,-18.8824,-18.9818, -19.3853,-19.7996,-20.2117,-20.5217, -20.9368,-21.3527,-21.6655,-22.0828, -22.6044,-22.9184,-23.3389,-23.8674, -24.293,-24.5054,-24.7193,-24.9346, -25.1486,-25.3641,-25.5801,-25.7972, -26.123,-26.3403,-26.559,-26.7807, -27.0037,-27.3325,-27.5528,-27.7732, -27.9948,-28.2165,-28.4392,-28.7733, -28.9966,-29.2182,-29.4363,-29.6252)
FOOTPRINT_POINT_LONGITUDE = (328.435,328.745,329.053,329.361, 329.669,329.976,330.283,330.589,330.894 ,331.2,331.543,331.963,332.249,332.254, 332.259,332.264,332.268,332.272,332.276 ,332.281,332.285,332.289,332.293, 332.296,332.302,332.306,332.309,332.313 ,332.315,332.319,332.322,332.325, 332.328,332.332,332.335,332.337,332.341 ,332.345,332.347,332.349,332.352, 332.354,332.357,332.362,332.365,332.37, 332.373,332.375,332.377,332.379,332.381 ,332.201,331.697,331.376,330.872, 330.506,330.139,329.909,329.541,329.172 ,328.756,328.386,327.969,327.635, 327.666,327.7,327.732,327.756,327.787, 327.817,327.839,327.867,327.901,327.92, 327.946,327.978,328.003,328.015,328.027 ,328.039,328.051,328.063,328.075, 328.087,328.104,328.115,328.126,328.139 ,328.152,328.168,328.178,328.188, 328.199,328.209,328.219,328.233,328.243 ,328.251,328.257,328.435)
ORBIT_NUMBER = 4592
ORBITAL_ECCENTRICITY = 0.57
ORBITAL_INCLINATION = 86.7
ORBITAL_SEMIMAJOR_AXIS = 8529.36
PERIAPSIS_ALTITUDE = 294.54
PERIAPSIS_ARGUMENT_ANGLE = 269.88
PERIAPSIS_TIME = 2007-08-01T11:54:08.000Z
SPACECRAFT_ORIENTATION = (0.0,-1.0,0.0)
^MEX_ORIENTATION_DESC = "MEX_ORIENTATION_DESC.TXT"
SPACECRAFT_POINTING_MODE = ACROSSTRACK
^MEX_POINTING_DESC = "MEX_POINTING_DESC.TXT"
RIGHT_ASCENSION = -1e+32
DECLINATION = -1e+32
OFFSET_ANGLE = 0.5
SPACECRAFT_SOLAR_DISTANCE = 2.10161e+08
TARGET_NAME = MARS
/* CAMERA DATA ELEMENTS */
DETECTOR_TEMPERATURE = 20.2056
FOCAL_PLANE_TEMPERATURE = 9.3989
INST_CMPRS_NAME = "DISCRETE COSINE TRANSFORMATION (DCT)"
INST_CMPRS_RATIO = 8.79802
INST_CMPRS_QUALITY = 0
INST_CMPRS_QUANTZ_TBL_ID = 0
INSTRUMENT_TEMPERATURE = 14.7003
LENS_TEMPERATURE = 8.3794
MACROPIXEL_SIZE = 2
MISSING_FRAMES = 0
PIXEL_SUBSAMPLING_FLAG = N
SIGNAL_CHAIN_ID = 3
/* RADIOMETRIC DATA ELEMENTS */
BANDWIDTH = 81.0
CENTER_FILTER_WAVELENGTH = 955.5
RADIANCE_OFFSET = 2.60314
RADIANCE_SCALING_FACTOR = 0.00315799
REFLECTANCE_SCALING_FACTOR = 0.000300917
MEX:REFLECTANCE_OFFSET = 0.248047
/* IMAGE OBJECT DEFINITIONS */
OBJECT = IMAGE
  INTERCHANGE_FORMAT = BINARY
  LINES = 6440
  LINE_SAMPLES = 3151
  SAMPLE_TYPE = UNSIGNED_INTEGER
  SAMPLE_BITS = 8
  BANDS = 1
  BAND_STORAGE_TYPE = BAND_SEQUENTIAL
  MAXIMUM = 254
  MEAN = 119.21
  MINIMUM = 1
  STANDARD_DEVIATION = 49.1142
END_OBJECT = IMAGE
/* MAP OBJECT DEFINITIONS */
OBJECT = IMAGE_MAP_PROJECTION
  ^DATA_SET_MAP_PROJECTION_CATALOG= "DSMAP.CAT"
  A_AXIS_RADIUS = 3396.0
  B_AXIS_RADIUS = 3396.0
  C_AXIS_RADIUS = 3396.0
  CENTER_LATITUDE = 0.0
  CENTER_LONGITUDE = 330.0
  COORDINATE_SYSTEM_NAME = PLANETOGRAPHIC
  COORDINATE_SYSTEM_TYPE = "BODY-FIXED ROTATING"
  EASTERNMOST_LONGITUDE = 332.381
  FIRST_STANDARD_PARALLEL = "N/A"
  LINE_FIRST_PIXEL = 1
  LINE_LAST_PIXEL = 6440
  LINE_PROJECTION_OFFSET = -11135.25
  MAP_PROJECTION_ROTATION = 0.0
  MAP_PROJECTION_TYPE = SINUSOIDAL
  MAP_RESOLUTION = 592.713803866667
  MAP_SCALE = 0.1
  MAXIMUM_LATITUDE = -18.8376
  MINIMUM_LATITUDE = -29.6789
  POSITIVE_LONGITUDE_DIRECTION = EAST
  REFERENCE_LATITUDE = "N/A"
  REFERENCE_LONGITUDE = "N/A"
  SAMPLE_FIRST_PIXEL = 1
  SAMPLE_LAST_PIXEL = 3151
  SAMPLE_PROJECTION_OFFSET = 1603.25
  SECOND_STANDARD_PARALLEL = "N/A"
  WESTERNMOST_LONGITUDE = 327.635
END_OBJECT = IMAGE_MAP_PROJECTION
/* The JPEG2000 image data file associated with this label. */
OBJECT = COMPRESSED_FILE
  FILE_NAME = "H4592_0009_IR3.JP2"
  RECORD_TYPE = UNDEFINED
  FILE_RECORDS = UNK
  ENCODING_TYPE = "JP2"
  INTERCHANGE_FORMAT = BINARY
  UNCOMPRESSED_FILE_NAME = "H4592_0009_IR3.IMG"
  REQUIRED_STORAGE_BYTES = "20314497"
  ^DESCRIPTION = "JP2INFO.TXT"
END_OBJECT = COMPRESSED_FILE
END
