PDS_VERSION_ID = PDS3
/* FILE DATA ELEMENTS */
RECORD_TYPE = STREAM
/* POINTERS TO DATA OBJECTS */
^COMPRESSED_FILE = "H4596_0003_SR3.JP2"
/* IDENTIFICATION DATA ELEMENTS */
DATA_SET_ID = "MEX-M-HRSC-5-REFDR-MAPPROJECTED-V3.0"
DATA_SET_NAME = "MARS EXPRESS HRSC MAP PROJECTED REFDR V3.0"
DETECTOR_ID = MEX_HRSC_SRC
EVENT_TYPE = "MARS-REGIONAL-MAPPING-Gl-Pf-La"
INSTRUMENT_HOST_ID = MEX
INSTRUMENT_HOST_NAME = "MARS EXPRESS"
INSTRUMENT_ID = HRSC
INSTRUMENT_NAME = "HIGH RESOLUTION STEREO CAMERA"
MISSION_NAME = "MARS EXPRESS"
MISSION_PHASE_NAME = ME_Phase_9
PROCESSING_LEVEL_ID = 3
PRODUCT_CREATION_TIME = 2016-04-25T16:23:03.000Z
PRODUCT_ID = "H4596_0003_SR3.JP2"
RELEASE_ID = 0052
REVISION_ID = 0000
/* QUALITY DATA ELEMENTS */
DATA_QUALITY_ID = 1
DATA_QUALITY_DESC = "Data calculated based on original SPICE kernels"
/* TIME DATA ELEMENTS */
SPACECRAFT_CLOCK_START_COUNT = "1/0134146086.09087"
SPACECRAFT_CLOCK_STOP_COUNT = "1/0134146328.31795"
IMAGE_TIME = 2007-08-02T14:48:57.750Z
START_TIME = 2007-08-02T14:48:57.748Z
STOP_TIME = 2007-08-02T14:48:57.753Z
/* ORBITAL DATA ELEMENTS */
ASCENDING_NODE_LONGITUDE = 132.22
MAXIMUM_RESOLUTION = 2.782
FOOTPRINT_POINT_LATITUDE = (-82.2919,-82.2939,-82.2958,-82.2973, -82.2991,-82.3006,-82.3022,-82.3047, -82.3068,-82.3082,-82.3109,-82.3136, -82.3153,-82.317,-82.3187,-82.3206, -82.322,-82.3235,-82.3253,-82.3267, -82.3287,-82.3308,-82.3327,-82.334, -82.3353,-82.3346,-82.3339,-82.3332, -82.3326,-82.3319,-82.3312,-82.3305, -82.3298,-82.3291,-82.3284,-82.3277, -82.327,-82.3263,-82.3256,-82.3246, -82.3239,-82.3232,-82.3225,-82.3218, -82.3211,-82.3204,-82.3197,-82.319, -82.3184,-82.3177,-82.3151,-82.3136, -82.3113,-82.3099,-82.3082,-82.3067, -82.3047,-82.3035,-82.3018,-82.2997, -82.2981,-82.2967,-82.2946,-82.293, -82.2913,-82.2887,-82.2863,-82.2848, -82.2825,-82.281,-82.2787,-82.2765, -82.2747,-82.2734,-82.2741,-82.2745, -82.2752,-82.2759,-82.2766,-82.2773, -82.278,-82.2787,-82.2794,-82.2801, -82.2807,-82.2814,-82.2821,-82.2828, -82.2835,-82.2842,-82.2849,-82.2855, -82.2862,-82.2869,-82.2876,-82.2883, -82.289,-82.2896,-82.2903,-82.2919)
FOOTPRINT_POINT_LONGITUDE = (282.069,282.063,282.058,282.053, 282.048,282.044,282.039,282.032,282.026 ,282.022,282.014,282.007,282.002, 281.997,281.992,281.986,281.982,281.978 ,281.973,281.969,281.963,281.957, 281.951,281.947,281.943,281.93,281.917, 281.903,281.89,281.877,281.864,281.85, 281.837,281.824,281.811,281.797,281.784 ,281.771,281.758,281.739,281.725, 281.712,281.699,281.686,281.673,281.659 ,281.646,281.633,281.62,281.607,281.612 ,281.616,281.623,281.627,281.632, 281.637,281.642,281.646,281.651,281.657 ,281.662,281.666,281.672,281.677, 281.682,281.689,281.696,281.701,281.707 ,281.712,281.719,281.725,281.73,281.734 ,281.748,281.757,281.77,281.783,281.796 ,281.809,281.823,281.836,281.849, 281.862,281.875,281.888,281.902,281.915 ,281.928,281.941,281.954,281.967, 281.981,281.994,282.007,282.02,282.033, 282.047,282.06,282.069)
ORBIT_NUMBER = 4596
ORBITAL_ECCENTRICITY = 0.57
ORBITAL_INCLINATION = 86.69
ORBITAL_SEMIMAJOR_AXIS = 8530.45
PERIAPSIS_ALTITUDE = 294.69
PERIAPSIS_ARGUMENT_ANGLE = 269.19
PERIAPSIS_TIME = 2007-08-02T14:46:58.000Z
SPACECRAFT_ORIENTATION = (0.0,-1.0,0.0)
^MEX_ORIENTATION_DESC = "MEX_ORIENTATION_DESC.TXT"
SPACECRAFT_POINTING_MODE = ACROSSTRACK
^MEX_POINTING_DESC = "MEX_POINTING_DESC.TXT"
RIGHT_ASCENSION = -1e+32
DECLINATION = -1e+32
OFFSET_ANGLE = -0.44
SPACECRAFT_SOLAR_DISTANCE = 2.10292e+08
TARGET_NAME = MARS
/* CAMERA DATA ELEMENTS */
BUFFER_MODE_ID = BUFFER_8
EXPOSURE_DURATION = 5.04
INST_CMPRS_NAME = NONE
INST_CMPRS_RATIO = 1.0
INST_CMPRS_QUALITY = -2147483648
INST_CMPRS_QUANTZ_TBL_ID = -2147483648
INSTRUMENT_TEMPERATURE = 5.57078
MISSING_FRAMES = 0
START_BIT = 0
/* RADIOMETRIC DATA ELEMENTS */
BANDWIDTH = 250.0
CENTER_FILTER_WAVELENGTH = 600.0
RADIANCE_OFFSET = -9.99e+31
RADIANCE_SCALING_FACTOR = -9.99e+31
REFLECTANCE_SCALING_FACTOR = -9.99e+31
MEX:REFLECTANCE_OFFSET = -9.99e+31
/* IMAGE OBJECT DEFINITIONS */
OBJECT = IMAGE
  INTERCHANGE_FORMAT = BINARY
  LINES = 1597
  LINE_SAMPLES = 1607
  SAMPLE_TYPE = UNSIGNED_INTEGER
  SAMPLE_BITS = 8
  BANDS = 1
  BAND_STORAGE_TYPE = BAND_SEQUENTIAL
  MAXIMUM = 253
  MEAN = 150.12
  MINIMUM = 1
  STANDARD_DEVIATION = 58.6854
END_OBJECT = IMAGE
/* MAP OBJECT DEFINITIONS */
OBJECT = IMAGE_MAP_PROJECTION
  ^DATA_SET_MAP_PROJECTION_CATALOG= "DSMAP.CAT"
  A_AXIS_RADIUS = 3396.19
  B_AXIS_RADIUS = 3396.19
  C_AXIS_RADIUS = 3396.19
  CENTER_LATITUDE = 0.0
  CENTER_LONGITUDE = 282.0
  COORDINATE_SYSTEM_NAME = PLANETOGRAPHIC
  COORDINATE_SYSTEM_TYPE = "BODY-FIXED ROTATING"
  EASTERNMOST_LONGITUDE = 282.069
  FIRST_STANDARD_PARALLEL = "N/A"
  LINE_FIRST_PIXEL = 1
  LINE_LAST_PIXEL = 1597
  LINE_PROJECTION_OFFSET = -1945719.0
  MAP_PROJECTION_ROTATION = 0.0
  MAP_PROJECTION_TYPE = SINUSOIDAL
  MAP_RESOLUTION = 23709.8786048756
  MAP_SCALE = 0.0025
  MAXIMUM_LATITUDE = -82.2734
  MINIMUM_LATITUDE = -82.3353
  POSITIVE_LONGITUDE_DIRECTION = EAST
  REFERENCE_LATITUDE = "N/A"
  REFERENCE_LONGITUDE = "N/A"
  SAMPLE_FIRST_PIXEL = 1
  SAMPLE_LAST_PIXEL = 1607
  SAMPLE_PROJECTION_OFFSET = 607.0
  SECOND_STANDARD_PARALLEL = "N/A"
  WESTERNMOST_LONGITUDE = 281.607
END_OBJECT = IMAGE_MAP_PROJECTION
/* The JPEG2000 image data file associated with this label. */
OBJECT = COMPRESSED_FILE
  FILE_NAME = "H4596_0003_SR3.JP2"
  RECORD_TYPE = UNDEFINED
  FILE_RECORDS = UNK
  ENCODING_TYPE = "JP2"
  INTERCHANGE_FORMAT = BINARY
  UNCOMPRESSED_FILE_NAME = "H4596_0003_SR3.IMG"
  REQUIRED_STORAGE_BYTES = "2585663"
  ^DESCRIPTION = "JP2INFO.TXT"
END_OBJECT = COMPRESSED_FILE
END
