PDS_VERSION_ID = PDS3
/* FILE DATA ELEMENTS */
RECORD_TYPE = STREAM
/* POINTERS TO DATA OBJECTS */
^COMPRESSED_FILE = "H4600_0000_RE3.JP2"
/* IDENTIFICATION DATA ELEMENTS */
DATA_SET_ID = "MEX-M-HRSC-5-REFDR-MAPPROJECTED-V3.0"
DATA_SET_NAME = "MARS EXPRESS HRSC MAP PROJECTED REFDR V3.0"
DETECTOR_ID = MEX_HRSC_RED
EVENT_TYPE = "MARS-REGIONAL-MAPPING-Im-Eo"
INSTRUMENT_HOST_ID = MEX
INSTRUMENT_HOST_NAME = "MARS EXPRESS"
INSTRUMENT_ID = HRSC
INSTRUMENT_NAME = "HIGH RESOLUTION STEREO CAMERA"
MISSION_NAME = "MARS EXPRESS"
MISSION_PHASE_NAME = ME_Phase_9
PROCESSING_LEVEL_ID = 3
PRODUCT_CREATION_TIME = 2016-04-25T16:23:03.000Z
PRODUCT_ID = "H4600_0000_RE3.JP2"
RELEASE_ID = 0052
REVISION_ID = 0000
/* QUALITY DATA ELEMENTS */
DATA_QUALITY_ID = 1
DATA_QUALITY_DESC = "Data calculated based on original SPICE kernels"
/* TIME DATA ELEMENTS */
SPACECRAFT_CLOCK_START_COUNT = "1/0134243120.08262"
SPACECRAFT_CLOCK_STOP_COUNT = "1/0134243343.13694"
START_TIME = 2007-08-03T17:46:35.496Z
STOP_TIME = 2007-08-03T17:48:54.493Z
/* ORBITAL DATA ELEMENTS */
ASCENDING_NODE_LONGITUDE = 132.14
MAXIMUM_RESOLUTION = 73.2
FOOTPRINT_POINT_LATITUDE = (-66.7569,-66.787,-66.8155,-66.8424, -66.8679,-66.8917,-66.9179,-66.7104, -66.4233,-66.1319,-65.9854,-65.8393, -65.6932,-65.5473,-65.3238,-65.1747, -65.0258,-64.8776,-64.7278,-64.5764, -64.4249,-64.2738,-64.1234,-63.8942, -63.7408,-63.5865,-63.4304,-63.2767, -63.0429,-62.8867,-62.6525,-62.415, -62.2564,-62.0985,-61.8588,-61.698, -61.5372,-61.377,-61.214,-60.9695, -60.8071,-60.5607,-60.3138,-60.0652, -59.8983,-59.7314,-59.5648,-59.3956, -59.2261,-59.1996,-59.1802,-59.1608, -59.1478,-59.1245,-59.1034,-59.0758, -59.2452,-59.4141,-59.5803,-59.7462, -59.9125,-60.1595,-60.3233,-60.4876, -60.7324,-60.8946,-61.0573,-61.2205, -61.4606,-61.62,-61.7809,-61.9409, -62.0965,-62.254,-62.412,-62.5684, -62.7232,-62.8782,-63.0338,-63.189, -63.4183,-63.5713,-63.7239,-63.8774, -64.0278,-64.1778,-64.3285,-64.4792, -64.6297,-64.7778,-64.9262,-65.075, -65.2221,-65.3709,-65.6612,-65.8068, -66.0254,-66.171,-66.5278,-66.7569)
FOOTPRINT_POINT_LONGITUDE = (261.111,261.663,262.218,262.778, 263.341,263.908,264.588,264.765,264.829 ,264.893,264.924,264.955,264.986, 265.016,265.061,265.091,265.12,265.149, 265.178,265.207,265.235,265.263,265.291 ,265.332,265.36,265.386,265.409,265.437 ,265.477,265.502,265.539,265.578, 265.603,265.627,265.664,265.688,265.712 ,265.735,265.759,265.794,265.817, 265.852,265.887,265.92,265.943,265.966, 265.988,266.01,266.031,265.216,264.652, 264.125,263.811,263.288,262.838,262.275 ,262.254,262.233,262.212,262.191, 262.169,262.135,262.113,262.09,262.054, 262.03,262.006,261.98,261.942,261.917, 261.89,261.863,261.838,261.81,261.783, 261.755,261.727,261.699,261.669,261.64, 261.595,261.565,261.534,261.503,261.471 ,261.44,261.407,261.374,261.34,261.307, 261.272,261.237,261.203,261.167,261.095 ,261.058,261.002,260.963,260.867, 261.111)
ORBIT_NUMBER = 4600
ORBITAL_ECCENTRICITY = 0.57
ORBITAL_INCLINATION = 86.69
ORBITAL_SEMIMAJOR_AXIS = 8530.56
PERIAPSIS_ALTITUDE = 294.37
PERIAPSIS_ARGUMENT_ANGLE = 268.48
PERIAPSIS_TIME = 2007-08-03T17:39:46.000Z
SPACECRAFT_ORIENTATION = (0.0,-1.0,0.0)
^MEX_ORIENTATION_DESC = "MEX_ORIENTATION_DESC.TXT"
SPACECRAFT_POINTING_MODE = ACROSSTRACK
^MEX_POINTING_DESC = "MEX_POINTING_DESC.TXT"
RIGHT_ASCENSION = -1e+32
DECLINATION = -1e+32
OFFSET_ANGLE = -0.458
SPACECRAFT_SOLAR_DISTANCE = 2.10425e+08
TARGET_NAME = MARS
/* CAMERA DATA ELEMENTS */
DETECTOR_TEMPERATURE = 19.5939
FOCAL_PLANE_TEMPERATURE = 7.7677
INST_CMPRS_NAME = "DISCRETE COSINE TRANSFORMATION (DCT)"
INST_CMPRS_RATIO = 22.3425
INST_CMPRS_QUALITY = 0
INST_CMPRS_QUANTZ_TBL_ID = 0
INSTRUMENT_TEMPERATURE = 11.0301
LENS_TEMPERATURE = 8.3794
MACROPIXEL_SIZE = 4
MISSING_FRAMES = 0
PIXEL_SUBSAMPLING_FLAG = N
SIGNAL_CHAIN_ID = 2
/* RADIOMETRIC DATA ELEMENTS */
BANDWIDTH = 48.0
CENTER_FILTER_WAVELENGTH = 748.0
RADIANCE_OFFSET = 2.30399
RADIANCE_SCALING_FACTOR = 0.00299394
REFLECTANCE_SCALING_FACTOR = 0.000302525
MEX:REFLECTANCE_OFFSET = 0.232809
/* IMAGE OBJECT DEFINITIONS */
OBJECT = IMAGE
  INTERCHANGE_FORMAT = BINARY
  LINES = 9354
  LINE_SAMPLES = 2579
  SAMPLE_TYPE = UNSIGNED_INTEGER
  SAMPLE_BITS = 8
  BANDS = 1
  BAND_STORAGE_TYPE = BAND_SEQUENTIAL
  MAXIMUM = 255
  MEAN = 181.444
  MINIMUM = 1
  STANDARD_DEVIATION = 31.8868
END_OBJECT = IMAGE
/* MAP OBJECT DEFINITIONS */
OBJECT = IMAGE_MAP_PROJECTION
  ^DATA_SET_MAP_PROJECTION_CATALOG= "DSMAP.CAT"
  A_AXIS_RADIUS = 3396.0
  B_AXIS_RADIUS = 3396.0
  C_AXIS_RADIUS = 3396.0
  CENTER_LATITUDE = 0.0
  CENTER_LONGITUDE = 264.0
  COORDINATE_SYSTEM_NAME = PLANETOGRAPHIC
  COORDINATE_SYSTEM_TYPE = "BODY-FIXED ROTATING"
  EASTERNMOST_LONGITUDE = 266.031
  FIRST_STANDARD_PARALLEL = "N/A"
  LINE_FIRST_PIXEL = 1
  LINE_LAST_PIXEL = 9354
  LINE_PROJECTION_OFFSET = -70057.375
  MAP_PROJECTION_ROTATION = 0.0
  MAP_PROJECTION_TYPE = SINUSOIDAL
  MAP_RESOLUTION = 1185.42760773333
  MAP_SCALE = 0.05
  MAXIMUM_LATITUDE = -59.0758
  MINIMUM_LATITUDE = -66.9179
  POSITIVE_LONGITUDE_DIRECTION = EAST
  REFERENCE_LATITUDE = "N/A"
  REFERENCE_LONGITUDE = "N/A"
  SAMPLE_FIRST_PIXEL = 1
  SAMPLE_LAST_PIXEL = 2579
  SAMPLE_PROJECTION_OFFSET = 1447.625
  SECOND_STANDARD_PARALLEL = "N/A"
  WESTERNMOST_LONGITUDE = 260.867
END_OBJECT = IMAGE_MAP_PROJECTION
/* The JPEG2000 image data file associated with this label. */
OBJECT = COMPRESSED_FILE
  FILE_NAME = "H4600_0000_RE3.JP2"
  RECORD_TYPE = UNDEFINED
  FILE_RECORDS = UNK
  ENCODING_TYPE = "JP2"
  INTERCHANGE_FORMAT = BINARY
  UNCOMPRESSED_FILE_NAME = "H4600_0000_RE3.IMG"
  REQUIRED_STORAGE_BYTES = "24144598"
  ^DESCRIPTION = "JP2INFO.TXT"
END_OBJECT = COMPRESSED_FILE
END
