PDS_VERSION_ID = PDS3
/* FILE DATA ELEMENTS */
RECORD_TYPE = STREAM
/* POINTERS TO DATA OBJECTS */
^COMPRESSED_FILE = "H4602_0000_GR3.JP2"
/* IDENTIFICATION DATA ELEMENTS */
DATA_SET_ID = "MEX-M-HRSC-5-REFDR-MAPPROJECTED-V3.0"
DATA_SET_NAME = "MARS EXPRESS HRSC MAP PROJECTED REFDR V3.0"
DETECTOR_ID = MEX_HRSC_GREEN
EVENT_TYPE = "MARS-REGIONAL-MAPPING-Im-Gl-Pf"
INSTRUMENT_HOST_ID = MEX
INSTRUMENT_HOST_NAME = "MARS EXPRESS"
INSTRUMENT_ID = HRSC
INSTRUMENT_NAME = "HIGH RESOLUTION STEREO CAMERA"
MISSION_NAME = "MARS EXPRESS"
MISSION_PHASE_NAME = ME_Phase_9
PROCESSING_LEVEL_ID = 3
PRODUCT_CREATION_TIME = 2016-04-26T01:56:16.000Z
PRODUCT_ID = "H4602_0000_GR3.JP2"
RELEASE_ID = 0053
REVISION_ID = 0000
/* QUALITY DATA ELEMENTS */
DATA_QUALITY_ID = 1
DATA_QUALITY_DESC = "Data calculated based on original SPICE kernels"
/* TIME DATA ELEMENTS */
SPACECRAFT_CLOCK_START_COUNT = "1/0134291308.08248"
SPACECRAFT_CLOCK_STOP_COUNT = "1/0134291537.64027"
START_TIME = 2007-08-04T07:08:55.267Z
STOP_TIME = 2007-08-04T07:11:35.095Z
/* ORBITAL DATA ELEMENTS */
ASCENDING_NODE_LONGITUDE = 132.1
MAXIMUM_RESOLUTION = 50.4
FOOTPRINT_POINT_LATITUDE = (-79.8556,-79.9685,-80.0657,-79.8895, -79.7065,-79.4314,-79.2477,-78.9717, -78.7875,-78.5076,-78.3165,-78.1253, -77.934,-77.6468,-77.3601,-77.1683, -76.9764,-76.7843,-76.487,-76.2885, -76.0899,-75.8913,-75.6926,-75.494, -75.2955,-74.9973,-74.7983,-74.5995, -74.4008,-74.2021,-74.0035,-73.8058, -73.6067,-73.408,-73.2095,-73.0111, -72.8127,-72.6141,-72.416,-72.0775, -71.723,-71.4867,-71.2506,-71.0148, -70.7792,-70.4254,-70.1895,-69.9551, -69.8961,-69.8563,-69.7978,-69.7481, -69.9462,-70.1799,-70.4138,-70.6466, -70.8801,-71.114,-71.3481,-71.5813, -71.8151,-72.1518,-72.348,-72.5441, -72.7403,-72.9367,-73.1333,-73.4268, -73.623,-73.9168,-74.1126,-74.3084, -74.5046,-74.7015,-74.8969,-75.0924, -75.2877,-75.4829,-75.6783,-75.8734, -76.0683,-76.2626,-76.4572,-76.6452, -76.833,-77.0206,-77.2082,-77.3956, -77.5821,-77.7695,-77.9559,-78.1421, -78.3254,-78.5048,-78.6839,-78.8625, -79.1299,-79.3074,-79.6595,-79.8556)
FOOTPRINT_POINT_LONGITUDE = (51.4981,53.1589,54.7332,55.4807, 55.8175,56.3004,56.6082,57.0505,57.3325 ,57.7429,58.0113,58.2706,58.5211,58.882 ,59.2224,59.4428,59.6569,59.8648, 60.1735,60.3719,60.5645,60.7513,60.9327 ,61.1087,61.2794,61.528,61.6884,61.8442 ,61.9954,62.1426,62.2856,62.4222, 62.5601,62.6932,62.8224,62.9484,63.0713 ,63.1921,63.3088,63.5027,63.6974, 63.8229,63.9449,64.0633,64.1783,64.3468 ,64.4564,64.5594,63.675,62.9599,61.9925 ,61.2388,60.5966,60.4695,60.3391, 60.1991,60.0579,59.9145,59.7675,59.6112 ,59.4531,59.2179,59.0768,58.9318, 58.7838,58.6326,58.4793,58.2326,58.0658 ,57.8053,57.6251,57.4407,57.2537, 57.0658,56.8642,56.6575,56.4445,56.2254 ,56.0012,55.7698,55.5311,55.2822, 55.0287,54.7743,54.5126,54.2433,53.9664 ,53.681,53.3824,53.0815,52.7663,52.4411 ,52.1115,51.7766,51.4309,51.0721, 50.5135,50.1228,49.2907,51.4981)
ORBIT_NUMBER = 4602
ORBITAL_ECCENTRICITY = 0.57
ORBITAL_INCLINATION = 86.7
ORBITAL_SEMIMAJOR_AXIS = 8529.57
PERIAPSIS_ALTITUDE = 294.05
PERIAPSIS_ARGUMENT_ANGLE = 268.15
PERIAPSIS_TIME = 2007-08-04T07:06:10.000Z
SPACECRAFT_ORIENTATION = (0.0,-1.0,0.0)
^MEX_ORIENTATION_DESC = "MEX_ORIENTATION_DESC.TXT"
SPACECRAFT_POINTING_MODE = ACROSSTRACK
^MEX_POINTING_DESC = "MEX_POINTING_DESC.TXT"
RIGHT_ASCENSION = -1e+32
DECLINATION = -1e+32
OFFSET_ANGLE = 0.39
SPACECRAFT_SOLAR_DISTANCE = 2.10492e+08
TARGET_NAME = MARS
/* CAMERA DATA ELEMENTS */
DETECTOR_TEMPERATURE = 18.3705
FOCAL_PLANE_TEMPERATURE = 8.9911
INST_CMPRS_NAME = "DISCRETE COSINE TRANSFORMATION (DCT)"
INST_CMPRS_RATIO = 15.9018
INST_CMPRS_QUALITY = 0
INST_CMPRS_QUANTZ_TBL_ID = 0
INSTRUMENT_TEMPERATURE = 11.234
LENS_TEMPERATURE = 9.195
MACROPIXEL_SIZE = 4
MISSING_FRAMES = 0
PIXEL_SUBSAMPLING_FLAG = N
SIGNAL_CHAIN_ID = 2
/* RADIOMETRIC DATA ELEMENTS */
BANDWIDTH = 88.0
CENTER_FILTER_WAVELENGTH = 538.0
RADIANCE_OFFSET = 2.40855
RADIANCE_SCALING_FACTOR = 0.0029767
REFLECTANCE_SCALING_FACTOR = 0.000113552
MEX:REFLECTANCE_OFFSET = 0.0918791
/* IMAGE OBJECT DEFINITIONS */
OBJECT = IMAGE
  INTERCHANGE_FORMAT = BINARY
  LINES = 12260
  LINE_SAMPLES = 4300
  SAMPLE_TYPE = UNSIGNED_INTEGER
  SAMPLE_BITS = 8
  BANDS = 1
  BAND_STORAGE_TYPE = BAND_SEQUENTIAL
  MAXIMUM = 254
  MEAN = 140.318
  MINIMUM = 1
  STANDARD_DEVIATION = 46.646
END_OBJECT = IMAGE
/* MAP OBJECT DEFINITIONS */
OBJECT = IMAGE_MAP_PROJECTION
  ^DATA_SET_MAP_PROJECTION_CATALOG= "DSMAP.CAT"
  A_AXIS_RADIUS = 3396.0
  B_AXIS_RADIUS = 3396.0
  C_AXIS_RADIUS = 3396.0
  CENTER_LATITUDE = 0.0
  CENTER_LONGITUDE = 59.0
  COORDINATE_SYSTEM_NAME = PLANETOGRAPHIC
  COORDINATE_SYSTEM_TYPE = "BODY-FIXED ROTATING"
  EASTERNMOST_LONGITUDE = 64.5594
  FIRST_STANDARD_PARALLEL = "N/A"
  LINE_FIRST_PIXEL = 1
  LINE_LAST_PIXEL = 12260
  LINE_PROJECTION_OFFSET = -82658.875
  MAP_PROJECTION_ROTATION = 0.0
  MAP_PROJECTION_TYPE = SINUSOIDAL
  MAP_RESOLUTION = 1185.42760773333
  MAP_SCALE = 0.05
  MAXIMUM_LATITUDE = -69.74809999999999
  MINIMUM_LATITUDE = -80.06570000000001
  POSITIVE_LONGITUDE_DIRECTION = EAST
  REFERENCE_LATITUDE = "N/A"
  REFERENCE_LONGITUDE = "N/A"
  SAMPLE_FIRST_PIXEL = 1
  SAMPLE_LAST_PIXEL = 4300
  SAMPLE_PROJECTION_OFFSET = 2033.875
  SECOND_STANDARD_PARALLEL = "N/A"
  WESTERNMOST_LONGITUDE = 49.2907
END_OBJECT = IMAGE_MAP_PROJECTION
/* The JPEG2000 image data file associated with this label. */
OBJECT = COMPRESSED_FILE
  FILE_NAME = "H4602_0000_GR3.JP2"
  RECORD_TYPE = UNDEFINED
  FILE_RECORDS = UNK
  ENCODING_TYPE = "JP2"
  INTERCHANGE_FORMAT = BINARY
  UNCOMPRESSED_FILE_NAME = "H4602_0000_GR3.IMG"
  REQUIRED_STORAGE_BYTES = "52743800"
  ^DESCRIPTION = "JP2INFO.TXT"
END_OBJECT = COMPRESSED_FILE
END
