PDS_VERSION_ID = PDS3
/* FILE DATA ELEMENTS */
RECORD_TYPE = STREAM
/* POINTERS TO DATA OBJECTS */
^COMPRESSED_FILE = "H4604_0000_RE3.JP2"
/* IDENTIFICATION DATA ELEMENTS */
DATA_SET_ID = "MEX-M-HRSC-5-REFDR-MAPPROJECTED-V3.0"
DATA_SET_NAME = "MARS EXPRESS HRSC MAP PROJECTED REFDR V3.0"
DETECTOR_ID = MEX_HRSC_RED
EVENT_TYPE = "MARS-REGIONAL-MAPPING-Gl-Eo-La"
INSTRUMENT_HOST_ID = MEX
INSTRUMENT_HOST_NAME = "MARS EXPRESS"
INSTRUMENT_ID = HRSC
INSTRUMENT_NAME = "HIGH RESOLUTION STEREO CAMERA"
MISSION_NAME = "MARS EXPRESS"
MISSION_PHASE_NAME = ME_Phase_9
PROCESSING_LEVEL_ID = 3
PRODUCT_CREATION_TIME = 2016-04-26T01:56:16.000Z
PRODUCT_ID = "H4604_0000_RE3.JP2"
RELEASE_ID = 0053
REVISION_ID = 0000
/* QUALITY DATA ELEMENTS */
DATA_QUALITY_ID = 1
DATA_QUALITY_DESC = "Data calculated based on original SPICE kernels"
/* TIME DATA ELEMENTS */
SPACECRAFT_CLOCK_START_COUNT = "1/0134339648.08577"
SPACECRAFT_CLOCK_STOP_COUNT = "1/0134339796.22689"
START_TIME = 2007-08-04T20:35:02.043Z
STOP_TIME = 2007-08-04T20:36:32.771Z
/* ORBITAL DATA ELEMENTS */
ASCENDING_NODE_LONGITUDE = 132.06
MAXIMUM_RESOLUTION = 25.9
FOOTPRINT_POINT_LATITUDE = (-82.6568,-82.7705,-82.8474,-82.8955, -82.9631,-83.0661,-82.8635,-82.6601, -82.5017,-82.3958,-82.2898,-82.1304, -82.024,-81.864,-81.7037,-81.5967, -81.4896,-81.3825,-81.2752,-81.1141, -81.0066,-80.8989,-80.7912,-80.6835, -80.5737,-80.4623,-80.2955,-80.1841, -80.0723,-79.9604,-79.7926,-79.6803, -79.5683,-79.4563,-79.3443,-79.2323, -79.0641,-78.9517,-78.779,-78.6632, -78.5473,-78.4318,-78.316,-78.1424, -77.9694,-77.8536,-77.7376,-77.6219, -77.5701,-77.522,-77.4765,-77.4265, -77.3669,-77.31,-77.4234,-77.5365, -77.6491,-77.8193,-77.9323,-78.0457, -78.159,-78.2751,-78.3884,-78.4998, -78.6102,-78.7185,-78.882,-78.9909, -79.1,-79.2632,-79.3712,-79.4798, -79.589,-79.6983,-79.8066,-79.9683, -80.0757,-80.1833,-80.2897,-80.3936, -80.4973,-80.6009,-80.7043,-80.8076, -80.9107,-81.0136,-81.1163,-81.2188, -81.3211,-81.4232,-81.525,-81.6773, -81.7784,-81.8793,-81.9799,-82.1302, -82.2285,-82.4202,-82.6104,-82.6568)
FOOTPRINT_POINT_LONGITUDE = (207.686,209.358,210.573,211.372, 212.554,214.003,214.709,215.375,215.866 ,216.182,216.489,216.934,217.22,217.635 ,218.034,218.291,218.541,218.785, 219.023,219.369,219.592,219.81,220.022, 220.23,220.436,220.641,220.939,221.132, 221.32,221.503,221.771,221.945,222.114, 222.28,222.442,222.601,222.832,222.983, 223.207,223.355,223.499,223.64,223.778, 223.98,224.176,224.304,224.428,224.55, 223.716,222.766,221.929,221.045,220.065 ,219.176,219.021,218.865,218.706, 218.458,218.29,218.116,217.939,217.748, 217.563,217.382,217.199,217.013,216.723 ,216.524,216.32,216.006,215.795,215.576 ,215.348,215.115,214.88,214.521,214.276 ,214.023,213.767,213.51,213.248,212.979 ,212.704,212.423,212.135,211.839, 211.537,211.227,210.909,210.583,210.25, 209.733,209.378,209.013,208.638,208.058 ,207.665,206.862,206.017,207.686)
ORBIT_NUMBER = 4604
ORBITAL_ECCENTRICITY = 0.57
ORBITAL_INCLINATION = 86.7
ORBITAL_SEMIMAJOR_AXIS = 8530.07
PERIAPSIS_ALTITUDE = 293.94
PERIAPSIS_ARGUMENT_ANGLE = 267.79
PERIAPSIS_TIME = 2007-08-04T20:32:31.000Z
SPACECRAFT_ORIENTATION = (0.0,-1.0,0.0)
^MEX_ORIENTATION_DESC = "MEX_ORIENTATION_DESC.TXT"
SPACECRAFT_POINTING_MODE = NADIR
^MEX_POINTING_DESC = "MEX_POINTING_DESC.TXT"
RIGHT_ASCENSION = -1e+32
DECLINATION = -1e+32
OFFSET_ANGLE = -1e+32
SPACECRAFT_SOLAR_DISTANCE = 2.1056e+08
TARGET_NAME = MARS
/* CAMERA DATA ELEMENTS */
DETECTOR_TEMPERATURE = 18.7783
FOCAL_PLANE_TEMPERATURE = 9.3989
INST_CMPRS_NAME = "DISCRETE COSINE TRANSFORMATION (DCT)"
INST_CMPRS_RATIO = 7.34297
INST_CMPRS_QUALITY = 0
INST_CMPRS_QUANTZ_TBL_ID = 0
INSTRUMENT_TEMPERATURE = 11.4379
LENS_TEMPERATURE = 9.3989
MACROPIXEL_SIZE = 2
MISSING_FRAMES = 0
PIXEL_SUBSAMPLING_FLAG = N
SIGNAL_CHAIN_ID = 3
/* RADIOMETRIC DATA ELEMENTS */
BANDWIDTH = 48.0
CENTER_FILTER_WAVELENGTH = 748.0
RADIANCE_OFFSET = 1.30416
RADIANCE_SCALING_FACTOR = 0.00285223
REFLECTANCE_SCALING_FACTOR = 0.000288576
MEX:REFLECTANCE_OFFSET = 0.131949
/* IMAGE OBJECT DEFINITIONS */
OBJECT = IMAGE
  INTERCHANGE_FORMAT = BINARY
  LINES = 13713
  LINE_SAMPLES = 7002
  SAMPLE_TYPE = UNSIGNED_INTEGER
  SAMPLE_BITS = 8
  BANDS = 1
  BAND_STORAGE_TYPE = BAND_SEQUENTIAL
  MAXIMUM = 255
  MEAN = 114.512
  MINIMUM = 1
  STANDARD_DEVIATION = 42.627
END_OBJECT = IMAGE
/* MAP OBJECT DEFINITIONS */
OBJECT = IMAGE_MAP_PROJECTION
  ^DATA_SET_MAP_PROJECTION_CATALOG= "DSMAP.CAT"
  A_AXIS_RADIUS = 3396.0
  B_AXIS_RADIUS = 3396.0
  C_AXIS_RADIUS = 3396.0
  CENTER_LATITUDE = 0.0
  CENTER_LONGITUDE = 217.0
  COORDINATE_SYSTEM_NAME = PLANETOGRAPHIC
  COORDINATE_SYSTEM_TYPE = "BODY-FIXED ROTATING"
  EASTERNMOST_LONGITUDE = 224.55
  FIRST_STANDARD_PARALLEL = "N/A"
  LINE_FIRST_PIXEL = 1
  LINE_LAST_PIXEL = 13713
  LINE_PROJECTION_OFFSET = -183349.75
  MAP_PROJECTION_ROTATION = 0.0
  MAP_PROJECTION_TYPE = SINUSOIDAL
  MAP_RESOLUTION = 2370.85521546667
  MAP_SCALE = 0.025
  MAXIMUM_LATITUDE = -77.31
  MINIMUM_LATITUDE = -83.06610000000001
  POSITIVE_LONGITUDE_DIRECTION = EAST
  REFERENCE_LATITUDE = "N/A"
  REFERENCE_LONGITUDE = "N/A"
  SAMPLE_FIRST_PIXEL = 1
  SAMPLE_LAST_PIXEL = 7002
  SAMPLE_PROJECTION_OFFSET = 3290.25
  SECOND_STANDARD_PARALLEL = "N/A"
  WESTERNMOST_LONGITUDE = 206.017
END_OBJECT = IMAGE_MAP_PROJECTION
/* The JPEG2000 image data file associated with this label. */
OBJECT = COMPRESSED_FILE
  FILE_NAME = "H4604_0000_RE3.JP2"
  RECORD_TYPE = UNDEFINED
  FILE_RECORDS = UNK
  ENCODING_TYPE = "JP2"
  INTERCHANGE_FORMAT = BINARY
  UNCOMPRESSED_FILE_NAME = "H4604_0000_RE3.IMG"
  REQUIRED_STORAGE_BYTES = "96053436"
  ^DESCRIPTION = "JP2INFO.TXT"
END_OBJECT = COMPRESSED_FILE
END
