PDS_VERSION_ID = PDS3
/* FILE DATA ELEMENTS */
RECORD_TYPE = STREAM
/* POINTERS TO DATA OBJECTS */
^COMPRESSED_FILE = "H4606_0000_ND3.JP2"
/* IDENTIFICATION DATA ELEMENTS */
DATA_SET_ID = "MEX-M-HRSC-5-REFDR-MAPPROJECTED-V3.0"
DATA_SET_NAME = "MARS EXPRESS HRSC MAP PROJECTED REFDR V3.0"
DETECTOR_ID = MEX_HRSC_NADIR
EVENT_TYPE = "MARS-REGIONAL-MAPPING-Im-Gl-Eo"
INSTRUMENT_HOST_ID = MEX
INSTRUMENT_HOST_NAME = "MARS EXPRESS"
INSTRUMENT_ID = HRSC
INSTRUMENT_NAME = "HIGH RESOLUTION STEREO CAMERA"
MISSION_NAME = "MARS EXPRESS"
MISSION_PHASE_NAME = ME_Phase_9
PROCESSING_LEVEL_ID = 3
PRODUCT_CREATION_TIME = 2016-04-26T01:56:16.000Z
PRODUCT_ID = "H4606_0000_ND3.JP2"
RELEASE_ID = 0053
REVISION_ID = 0000
/* QUALITY DATA ELEMENTS */
DATA_QUALITY_ID = 1
DATA_QUALITY_DESC = "Data calculated based on original SPICE kernels"
/* TIME DATA ELEMENTS */
SPACECRAFT_CLOCK_START_COUNT = "1/0134388077.07294"
SPACECRAFT_CLOCK_STOP_COUNT = "1/0134388339.46122"
START_TIME = 2007-08-05T10:01:49.124Z
STOP_TIME = 2007-08-05T10:05:00.132Z
/* ORBITAL DATA ELEMENTS */
ASCENDING_NODE_LONGITUDE = 132.02
MAXIMUM_RESOLUTION = 12.7
FOOTPRINT_POINT_LATITUDE = (-80.2813,-80.3689,-80.5187,-80.5028, -80.0792,-79.6544,-79.4344,-79.2141, -78.9935,-78.7729,-78.5521,-78.3311, -78.11,-77.8889,-77.5479,-77.3194, -77.0907,-76.862,-76.6334,-76.4047, -76.1761,-75.9474,-75.7187,-75.4902, -75.2618,-75.0334,-74.8052,-74.577, -74.3488,-74.1208,-73.8929,-73.6651, -73.4374,-73.0327,-72.7613,-72.4902, -72.2194,-71.9487,-71.6784,-71.4083, -71.1385,-70.8689,-70.5995,-70.3304, -70.0615,-69.793,-69.5247,-69.2569, -68.9893,-68.7175,-68.5443,-68.4867, -68.4452,-68.4,-68.7871,-69.0527, -69.3185,-69.5847,-69.851,-70.1176, -70.3845,-70.6515,-70.9188,-71.1863, -71.4539,-71.7217,-71.9897,-72.2578, -72.526,-72.7944,-73.196,-73.4211, -73.6462,-73.8714,-74.0965,-74.3217, -74.547,-74.7723,-74.9975,-75.2226, -75.4476,-75.6727,-75.8977,-76.1226, -76.4594,-76.6838,-76.9083,-77.1326, -77.3568,-77.5786,-77.7956,-78.0119, -78.2276,-78.4432,-78.6584,-78.8731, -79.0874,-79.4047,-79.8165,-80.2813)
FOOTPRINT_POINT_LONGITUDE = (18.0221,19.3492,21.8924,23.7963, 24.5455,25.2288,25.5598,25.8766,26.1793 ,26.471,26.7512,27.0185,27.2767,27.5255 ,27.8917,28.1261,28.3498,28.567,28.776, 28.978,29.1723,29.3589,29.5394,29.7144, 29.8851,30.0502,30.2102,30.3642,30.5135 ,30.6582,30.7988,30.9351,31.0674, 31.2929,31.4365,31.576,31.7114,31.8424, 31.9705,32.0934,32.2129,32.3289,32.4402 ,32.5474,32.6516,32.753,32.8507,32.9484 ,33.0427,33.1366,32.4957,31.2377, 30.4408,29.6469,29.1562,29.0389,28.9203 ,28.7986,28.6728,28.5427,28.4089, 28.2701,28.1273,27.9797,27.8266,27.6674 ,27.5035,27.3338,27.158,26.9761,26.6918 ,26.5253,26.3536,26.177,25.9944,25.8063 ,25.6125,25.4136,25.2057,24.9899, 24.7669,24.5376,24.3,24.0542,23.6613, 23.3887,23.1118,22.8239,22.5254,22.2066 ,21.9044,21.5824,21.2412,20.8896, 20.5234,20.1412,19.7422,19.1225,18.2534 ,18.0221)
ORBIT_NUMBER = 4606
ORBITAL_ECCENTRICITY = 0.57
ORBITAL_INCLINATION = 86.68
ORBITAL_SEMIMAJOR_AXIS = 8530.5
PERIAPSIS_ALTITUDE = 294.81
PERIAPSIS_ARGUMENT_ANGLE = 267.44
PERIAPSIS_TIME = 2007-08-05T09:58:55.000Z
SPACECRAFT_ORIENTATION = (0.0,-1.0,0.0)
^MEX_ORIENTATION_DESC = "MEX_ORIENTATION_DESC.TXT"
SPACECRAFT_POINTING_MODE = NADIR
^MEX_POINTING_DESC = "MEX_POINTING_DESC.TXT"
RIGHT_ASCENSION = -1e+32
DECLINATION = -1e+32
OFFSET_ANGLE = -1e+32
SPACECRAFT_SOLAR_DISTANCE = 2.10628e+08
TARGET_NAME = MARS
/* CAMERA DATA ELEMENTS */
DETECTOR_TEMPERATURE = 18.1666
FOCAL_PLANE_TEMPERATURE = 8.1755
INST_CMPRS_NAME = "DISCRETE COSINE TRANSFORMATION (DCT)"
INST_CMPRS_RATIO = 7.11167
INST_CMPRS_QUALITY = 0
INST_CMPRS_QUANTZ_TBL_ID = 0
INSTRUMENT_TEMPERATURE = 11.234
LENS_TEMPERATURE = 8.5833
MACROPIXEL_SIZE = 1
MISSING_FRAMES = 0
PIXEL_SUBSAMPLING_FLAG = N
SIGNAL_CHAIN_ID = 0
/* RADIOMETRIC DATA ELEMENTS */
BANDWIDTH = 177.0
CENTER_FILTER_WAVELENGTH = 677.5
RADIANCE_OFFSET = 5.36699
RADIANCE_SCALING_FACTOR = 0.0193405
REFLECTANCE_SCALING_FACTOR = 0.000455812
MEX:REFLECTANCE_OFFSET = 0.126488
/* IMAGE OBJECT DEFINITIONS */
OBJECT = IMAGE
  INTERCHANGE_FORMAT = BINARY
  LINES = 57923
  LINE_SAMPLES = 17339
  SAMPLE_TYPE = UNSIGNED_INTEGER
  SAMPLE_BITS = 8
  BANDS = 1
  BAND_STORAGE_TYPE = BAND_SEQUENTIAL
  MAXIMUM = 254
  MEAN = 122.203
  MINIMUM = 1
  STANDARD_DEVIATION = 54.9462
END_OBJECT = IMAGE
/* MAP OBJECT DEFINITIONS */
OBJECT = IMAGE_MAP_PROJECTION
  ^DATA_SET_MAP_PROJECTION_CATALOG= "DSMAP.CAT"
  A_AXIS_RADIUS = 3396.0
  B_AXIS_RADIUS = 3396.0
  C_AXIS_RADIUS = 3396.0
  CENTER_LATITUDE = 0.0
  CENTER_LONGITUDE = 28.0
  COORDINATE_SYSTEM_NAME = PLANETOGRAPHIC
  COORDINATE_SYSTEM_TYPE = "BODY-FIXED ROTATING"
  EASTERNMOST_LONGITUDE = 33.1366
  FIRST_STANDARD_PARALLEL = "N/A"
  LINE_FIRST_PIXEL = 1
  LINE_LAST_PIXEL = 57923
  LINE_PROJECTION_OFFSET = -324254.0
  MAP_PROJECTION_ROTATION = 0.0
  MAP_PROJECTION_TYPE = SINUSOIDAL
  MAP_RESOLUTION = 4741.71043093333
  MAP_SCALE = 0.0125
  MAXIMUM_LATITUDE = -68.40000000000001
  MINIMUM_LATITUDE = -80.5187
  POSITIVE_LONGITUDE_DIRECTION = EAST
  REFERENCE_LATITUDE = "N/A"
  REFERENCE_LONGITUDE = "N/A"
  SAMPLE_FIRST_PIXEL = 1
  SAMPLE_LAST_PIXEL = 17339
  SAMPLE_PROJECTION_OFFSET = 8477.0
  SECOND_STANDARD_PARALLEL = "N/A"
  WESTERNMOST_LONGITUDE = 18.0221
END_OBJECT = IMAGE_MAP_PROJECTION
/* The JPEG2000 image data file associated with this label. */
OBJECT = COMPRESSED_FILE
  FILE_NAME = "H4606_0000_ND3.JP2"
  RECORD_TYPE = UNDEFINED
  FILE_RECORDS = UNK
  ENCODING_TYPE = "JP2"
  INTERCHANGE_FORMAT = BINARY
  UNCOMPRESSED_FILE_NAME = "H4606_0000_ND3.IMG"
  REQUIRED_STORAGE_BYTES = "1004378914"
  ^DESCRIPTION = "JP2INFO.TXT"
END_OBJECT = COMPRESSED_FILE
END
