PDS_VERSION_ID = PDS3
/* FILE DATA ELEMENTS */
RECORD_TYPE = STREAM
/* POINTERS TO DATA OBJECTS */
^COMPRESSED_FILE = "H4606_0000_S23.JP2"
/* IDENTIFICATION DATA ELEMENTS */
DATA_SET_ID = "MEX-M-HRSC-5-REFDR-MAPPROJECTED-V3.0"
DATA_SET_NAME = "MARS EXPRESS HRSC MAP PROJECTED REFDR V3.0"
DETECTOR_ID = MEX_HRSC_S2
EVENT_TYPE = "MARS-REGIONAL-MAPPING-Im-Gl-Eo"
INSTRUMENT_HOST_ID = MEX
INSTRUMENT_HOST_NAME = "MARS EXPRESS"
INSTRUMENT_ID = HRSC
INSTRUMENT_NAME = "HIGH RESOLUTION STEREO CAMERA"
MISSION_NAME = "MARS EXPRESS"
MISSION_PHASE_NAME = ME_Phase_9
PROCESSING_LEVEL_ID = 3
PRODUCT_CREATION_TIME = 2016-04-26T01:56:16.000Z
PRODUCT_ID = "H4606_0000_S23.JP2"
RELEASE_ID = 0053
REVISION_ID = 0000
/* QUALITY DATA ELEMENTS */
DATA_QUALITY_ID = 1
DATA_QUALITY_DESC = "Data calculated based on original SPICE kernels"
/* TIME DATA ELEMENTS */
SPACECRAFT_CLOCK_START_COUNT = "1/0134388077.07294"
SPACECRAFT_CLOCK_STOP_COUNT = "1/0134388339.46122"
START_TIME = 2007-08-05T10:02:18.858Z
STOP_TIME = 2007-08-05T10:05:41.750Z
/* ORBITAL DATA ELEMENTS */
ASCENDING_NODE_LONGITUDE = 132.02
MAXIMUM_RESOLUTION = 27.9
FOOTPRINT_POINT_LATITUDE = (-80.1298,-80.2194,-80.2788,-80.3769, -80.4918,-80.2778,-80.0655,-79.8532, -79.527,-79.3076,-79.0872,-78.8667, -78.6473,-78.317,-78.0958,-77.8768, -77.6566,-77.4382,-77.219,-76.9987, -76.78,-76.5613,-76.3425,-76.0136, -75.7943,-75.575,-75.323,-75.0637, -74.6761,-74.4172,-74.1586,-73.9006, -73.6431,-73.3858,-73.1289,-72.8709, -72.6143,-72.3576,-72.1018,-71.8473, -71.594,-71.3405,-70.953,-70.6939, -70.4316,-70.168,-69.9013,-69.5051, -69.238,-68.9698,-68.5682,-68.5242, -68.492,-68.4438,-68.4072,-68.3573, -68.6246,-68.8937,-69.2964,-69.558, -69.8201,-70.2117,-70.4683,-70.7255, -71.1101,-71.4876,-71.7397,-71.992, -72.245,-72.4982,-72.7517,-73.0053, -73.2593,-73.5145,-73.7689,-74.0238, -74.2789,-74.6608,-74.9159,-75.1729, -75.4039,-75.6189,-75.941,-76.2629, -76.5937,-76.8073,-77.0216,-77.2349, -77.4514,-77.6712,-77.8764,-78.1988, -78.4132,-78.6277,-78.8424,-79.1643, -79.3776,-79.5838,-79.7897,-80.1298)
FOOTPRINT_POINT_LONGITUDE = (17.6177,18.9543,19.8978,21.5738, 23.7774,24.3774,24.7403,25.0875,25.5908 ,25.9123,26.22,26.5149,26.7981,27.2017, 27.4572,27.7038,27.9406,28.1693,28.3893 ,28.601,28.8058,29.0034,29.1942,29.468, 29.6428,29.8119,30.0025,30.1909,30.4612 ,30.6328,30.7983,30.9582,31.1126, 31.2617,31.4059,31.5446,31.6792,31.8092 ,31.9355,32.0582,32.1775,32.293,32.4633 ,32.5731,32.6778,32.782,32.8838,33.0324 ,33.1306,33.2265,33.3656,32.5995, 31.8721,30.8664,30.1437,29.2071,29.0985 ,28.9836,28.8056,28.6871,28.5646, 28.3743,28.2449,28.1107,27.9025,27.688, 27.539,27.3854,27.2258,27.0611,26.8907, 26.7145,26.5319,26.3412,26.1455,25.942, 25.7311,25.4023,25.1718,24.9285,24.7017 ,24.4839,24.1447,23.7889,23.3894, 23.1305,22.8603,22.5827,22.2849,21.9653 ,21.6798,21.1812,20.8337,20.4705, 20.0907,19.4894,19.0708,18.6476,18.2061 ,17.6177)
ORBIT_NUMBER = 4606
ORBITAL_ECCENTRICITY = 0.57
ORBITAL_INCLINATION = 86.68
ORBITAL_SEMIMAJOR_AXIS = 8530.5
PERIAPSIS_ALTITUDE = 294.81
PERIAPSIS_ARGUMENT_ANGLE = 267.44
PERIAPSIS_TIME = 2007-08-05T09:58:55.000Z
SPACECRAFT_ORIENTATION = (0.0,-1.0,0.0)
^MEX_ORIENTATION_DESC = "MEX_ORIENTATION_DESC.TXT"
SPACECRAFT_POINTING_MODE = NADIR
^MEX_POINTING_DESC = "MEX_POINTING_DESC.TXT"
RIGHT_ASCENSION = -1e+32
DECLINATION = -1e+32
OFFSET_ANGLE = -1e+32
SPACECRAFT_SOLAR_DISTANCE = 2.10628e+08
TARGET_NAME = MARS
/* CAMERA DATA ELEMENTS */
DETECTOR_TEMPERATURE = 18.5744
FOCAL_PLANE_TEMPERATURE = 8.1755
INST_CMPRS_NAME = "DISCRETE COSINE TRANSFORMATION (DCT)"
INST_CMPRS_RATIO = 12.037
INST_CMPRS_QUALITY = 0
INST_CMPRS_QUANTZ_TBL_ID = 0
INSTRUMENT_TEMPERATURE = 11.234
LENS_TEMPERATURE = 8.5833
MACROPIXEL_SIZE = 2
MISSING_FRAMES = 0
PIXEL_SUBSAMPLING_FLAG = N
SIGNAL_CHAIN_ID = 1
/* RADIOMETRIC DATA ELEMENTS */
BANDWIDTH = 178.0
CENTER_FILTER_WAVELENGTH = 679.0
RADIANCE_OFFSET = 6.1664
RADIANCE_SCALING_FACTOR = 0.0186601
REFLECTANCE_SCALING_FACTOR = 0.000438406
MEX:REFLECTANCE_OFFSET = 0.144875
/* IMAGE OBJECT DEFINITIONS */
OBJECT = IMAGE
  INTERCHANGE_FORMAT = BINARY
  LINES = 28962
  LINE_SAMPLES = 8670
  SAMPLE_TYPE = UNSIGNED_INTEGER
  SAMPLE_BITS = 8
  BANDS = 1
  BAND_STORAGE_TYPE = BAND_SEQUENTIAL
  MAXIMUM = 255
  MEAN = 126.574
  MINIMUM = 1
  STANDARD_DEVIATION = 56.4539
END_OBJECT = IMAGE
/* MAP OBJECT DEFINITIONS */
OBJECT = IMAGE_MAP_PROJECTION
  ^DATA_SET_MAP_PROJECTION_CATALOG= "DSMAP.CAT"
  A_AXIS_RADIUS = 3396.0
  B_AXIS_RADIUS = 3396.0
  C_AXIS_RADIUS = 3396.0
  CENTER_LATITUDE = 0.0
  CENTER_LONGITUDE = 28.0
  COORDINATE_SYSTEM_NAME = PLANETOGRAPHIC
  COORDINATE_SYSTEM_TYPE = "BODY-FIXED ROTATING"
  EASTERNMOST_LONGITUDE = 33.3656
  FIRST_STANDARD_PARALLEL = "N/A"
  LINE_FIRST_PIXEL = 1
  LINE_LAST_PIXEL = 28962
  LINE_PROJECTION_OFFSET = -162127.25
  MAP_PROJECTION_ROTATION = 0.0
  MAP_PROJECTION_TYPE = SINUSOIDAL
  MAP_RESOLUTION = 2370.85521546667
  MAP_SCALE = 0.025
  MAXIMUM_LATITUDE = -68.3573
  MINIMUM_LATITUDE = -80.4918
  POSITIVE_LONGITUDE_DIRECTION = EAST
  REFERENCE_LATITUDE = "N/A"
  REFERENCE_LONGITUDE = "N/A"
  SAMPLE_FIRST_PIXEL = 1
  SAMPLE_LAST_PIXEL = 8670
  SAMPLE_PROJECTION_OFFSET = 4238.25
  SECOND_STANDARD_PARALLEL = "N/A"
  WESTERNMOST_LONGITUDE = 17.6177
END_OBJECT = IMAGE_MAP_PROJECTION
/* The JPEG2000 image data file associated with this label. */
OBJECT = COMPRESSED_FILE
  FILE_NAME = "H4606_0000_S23.JP2"
  RECORD_TYPE = UNDEFINED
  FILE_RECORDS = UNK
  ENCODING_TYPE = "JP2"
  INTERCHANGE_FORMAT = BINARY
  UNCOMPRESSED_FILE_NAME = "H4606_0000_S23.IMG"
  REQUIRED_STORAGE_BYTES = "251135220"
  ^DESCRIPTION = "JP2INFO.TXT"
END_OBJECT = COMPRESSED_FILE
END
