PDS_VERSION_ID = PDS3
/* FILE DATA ELEMENTS */
RECORD_TYPE = STREAM
/* POINTERS TO DATA OBJECTS */
^COMPRESSED_FILE = "H4608_0000_P13.JP2"
/* IDENTIFICATION DATA ELEMENTS */
DATA_SET_ID = "MEX-M-HRSC-5-REFDR-MAPPROJECTED-V3.0"
DATA_SET_NAME = "MARS EXPRESS HRSC MAP PROJECTED REFDR V3.0"
DETECTOR_ID = MEX_HRSC_P1
EVENT_TYPE = "MARS-REGIONAL-MAPPING-Im-Fl-Pf"
INSTRUMENT_HOST_ID = MEX
INSTRUMENT_HOST_NAME = "MARS EXPRESS"
INSTRUMENT_ID = HRSC
INSTRUMENT_NAME = "HIGH RESOLUTION STEREO CAMERA"
MISSION_NAME = "MARS EXPRESS"
MISSION_PHASE_NAME = ME_Phase_9
PROCESSING_LEVEL_ID = 3
PRODUCT_CREATION_TIME = 2016-04-26T01:56:16.000Z
PRODUCT_ID = "H4608_0000_P13.JP2"
RELEASE_ID = 0053
REVISION_ID = 0000
/* QUALITY DATA ELEMENTS */
DATA_QUALITY_ID = 1
DATA_QUALITY_DESC = "Data calculated based on original SPICE kernels"
/* TIME DATA ELEMENTS */
SPACECRAFT_CLOCK_START_COUNT = "1/0134436526.09067"
SPACECRAFT_CLOCK_STOP_COUNT = "1/0134436819.21104"
START_TIME = 2007-08-05T23:29:00.052Z
STOP_TIME = 2007-08-05T23:32:22.782Z
/* ORBITAL DATA ELEMENTS */
ASCENDING_NODE_LONGITUDE = 131.98
MAXIMUM_RESOLUTION = 27.3
FOOTPRINT_POINT_LATITUDE = (-76.7089,-76.7691,-76.8385,-76.9113, -76.8956,-76.664,-76.3166,-76.0863, -75.8538,-75.5084,-75.2769,-74.9297, -74.6964,-74.3483,-74.0049,-73.6572, -73.4257,-73.0785,-72.8467,-72.4975, -72.0945,-71.819,-71.5434,-71.1307, -70.8553,-70.5802,-70.3058,-70.031, -69.7549,-69.4817,-69.2074,-68.9332, -68.6594,-68.3859,-67.9757,-67.7016, -67.4212,-67.0016,-66.5782,-66.2911, -66.0055,-65.5715,-65.2783,-64.8393, -64.5404,-64.2415,-63.9423,-63.7904, -63.7411,-63.7157,-63.6977,-63.6668, -63.6381,-63.6127,-63.7505,-64.0482, -64.3445,-64.7907,-65.076,-65.3669, -65.7995,-66.0887,-66.3738,-66.7959, -67.0739,-67.3532,-67.7671,-68.0368, -68.3027,-68.5739,-68.846,-69.2538, -69.5309,-69.8034,-70.0755,-70.3478, -70.7568,-71.0296,-71.3028,-71.7121, -71.9853,-72.2535,-72.4829,-72.7137, -73.0571,-73.286,-73.6284,-73.9709, -74.1996,-74.4288,-74.657,-74.9967, -75.2264,-75.4561,-75.6833,-75.9105, -76.1377,-76.365,-76.5919,-76.7089)
FOOTPRINT_POINT_LONGITUDE = (187.489,188.438,189.625,191.01,191.941 ,192.155,192.461,192.652,192.843, 193.107,193.28,193.528,193.691,193.922, 194.131,194.341,194.475,194.669,194.794 ,194.98,195.179,195.31,195.437,195.619, 195.736,195.85,195.959,196.066,196.172, 196.27,196.368,196.463,196.555,196.644, 196.774,196.857,196.941,197.061,197.178 ,197.255,197.328,197.438,197.51,197.613 ,197.681,197.747,197.812,197.844, 197.305,196.658,196.251,195.607,195.066 ,194.594,194.308,194.232,194.153, 194.035,193.948,193.863,193.734,193.648 ,193.556,193.416,193.319,193.22,193.068 ,192.962,192.849,192.738,192.623, 192.444,192.323,192.195,192.063,191.926 ,191.713,191.564,191.412,191.172, 191.005,190.838,190.689,190.537,190.298 ,190.132,189.874,189.603,189.416, 189.223,189.023,188.709,188.493,188.27, 188.037,187.797,187.548,187.29,187.023, 187.489)
ORBIT_NUMBER = 4608
ORBITAL_ECCENTRICITY = 0.57
ORBITAL_INCLINATION = 86.69
ORBITAL_SEMIMAJOR_AXIS = 8530.75
PERIAPSIS_ALTITUDE = 294.55
PERIAPSIS_ARGUMENT_ANGLE = 267.1
PERIAPSIS_TIME = 2007-08-05T23:25:22.000Z
SPACECRAFT_ORIENTATION = (0.0,-1.0,0.0)
^MEX_ORIENTATION_DESC = "MEX_ORIENTATION_DESC.TXT"
SPACECRAFT_POINTING_MODE = NADIR
^MEX_POINTING_DESC = "MEX_POINTING_DESC.TXT"
RIGHT_ASCENSION = -1e+32
DECLINATION = -1e+32
OFFSET_ANGLE = -1e+32
SPACECRAFT_SOLAR_DISTANCE = 2.10697e+08
TARGET_NAME = MARS
/* CAMERA DATA ELEMENTS */
DETECTOR_TEMPERATURE = 17.1471
FOCAL_PLANE_TEMPERATURE = 8.3794
INST_CMPRS_NAME = "DISCRETE COSINE TRANSFORMATION (DCT)"
INST_CMPRS_RATIO = 14.745
INST_CMPRS_QUALITY = 0
INST_CMPRS_QUANTZ_TBL_ID = 0
INSTRUMENT_TEMPERATURE = 11.234
LENS_TEMPERATURE = 8.7872
MACROPIXEL_SIZE = 2
MISSING_FRAMES = 0
PIXEL_SUBSAMPLING_FLAG = N
SIGNAL_CHAIN_ID = 3
/* RADIOMETRIC DATA ELEMENTS */
BANDWIDTH = 174.0
CENTER_FILTER_WAVELENGTH = 675.0
RADIANCE_OFFSET = 6.4255
RADIANCE_SCALING_FACTOR = 0.0158907
REFLECTANCE_SCALING_FACTOR = 0.000379441
MEX:REFLECTANCE_OFFSET = 0.15343
/* IMAGE OBJECT DEFINITIONS */
OBJECT = IMAGE
  INTERCHANGE_FORMAT = BINARY
  LINES = 31493
  LINE_SAMPLES = 7922
  SAMPLE_TYPE = UNSIGNED_INTEGER
  SAMPLE_BITS = 8
  BANDS = 1
  BAND_STORAGE_TYPE = BAND_SEQUENTIAL
  MAXIMUM = 255
  MEAN = 151.429
  MINIMUM = 1
  STANDARD_DEVIATION = 53.9048
END_OBJECT = IMAGE
/* MAP OBJECT DEFINITIONS */
OBJECT = IMAGE_MAP_PROJECTION
  ^DATA_SET_MAP_PROJECTION_CATALOG= "DSMAP.CAT"
  A_AXIS_RADIUS = 3396.0
  B_AXIS_RADIUS = 3396.0
  C_AXIS_RADIUS = 3396.0
  CENTER_LATITUDE = 0.0
  CENTER_LONGITUDE = 194.0
  COORDINATE_SYSTEM_NAME = PLANETOGRAPHIC
  COORDINATE_SYSTEM_TYPE = "BODY-FIXED ROTATING"
  EASTERNMOST_LONGITUDE = 197.844
  FIRST_STANDARD_PARALLEL = "N/A"
  LINE_FIRST_PIXEL = 1
  LINE_LAST_PIXEL = 31493
  LINE_PROJECTION_OFFSET = -150742.75
  MAP_PROJECTION_ROTATION = 0.0
  MAP_PROJECTION_TYPE = SINUSOIDAL
  MAP_RESOLUTION = 2370.85521546667
  MAP_SCALE = 0.025
  MAXIMUM_LATITUDE = -63.6127
  MINIMUM_LATITUDE = -76.9113
  POSITIVE_LONGITUDE_DIRECTION = EAST
  REFERENCE_LATITUDE = "N/A"
  REFERENCE_LONGITUDE = "N/A"
  SAMPLE_FIRST_PIXEL = 1
  SAMPLE_LAST_PIXEL = 7922
  SAMPLE_PROJECTION_OFFSET = 3860.75
  SECOND_STANDARD_PARALLEL = "N/A"
  WESTERNMOST_LONGITUDE = 187.023
END_OBJECT = IMAGE_MAP_PROJECTION
/* The JPEG2000 image data file associated with this label. */
OBJECT = COMPRESSED_FILE
  FILE_NAME = "H4608_0000_P13.JP2"
  RECORD_TYPE = UNDEFINED
  FILE_RECORDS = UNK
  ENCODING_TYPE = "JP2"
  INTERCHANGE_FORMAT = BINARY
  UNCOMPRESSED_FILE_NAME = "H4608_0000_P13.IMG"
  REQUIRED_STORAGE_BYTES = "249519234"
  ^DESCRIPTION = "JP2INFO.TXT"
END_OBJECT = COMPRESSED_FILE
END
