PDS_VERSION_ID = PDS3
/* FILE DATA ELEMENTS */
RECORD_TYPE = STREAM
/* POINTERS TO DATA OBJECTS */
^COMPRESSED_FILE = "H4611_0000_GR3.JP2"
/* IDENTIFICATION DATA ELEMENTS */
DATA_SET_ID = "MEX-M-HRSC-5-REFDR-MAPPROJECTED-V3.0"
DATA_SET_NAME = "MARS EXPRESS HRSC MAP PROJECTED REFDR V3.0"
DETECTOR_ID = MEX_HRSC_GREEN
EVENT_TYPE = "MARS-REGIONAL-MAPPING-Gl-Pf-Eo"
INSTRUMENT_HOST_ID = MEX
INSTRUMENT_HOST_NAME = "MARS EXPRESS"
INSTRUMENT_ID = HRSC
INSTRUMENT_NAME = "HIGH RESOLUTION STEREO CAMERA"
MISSION_NAME = "MARS EXPRESS"
MISSION_PHASE_NAME = ME_Phase_9
PROCESSING_LEVEL_ID = 3
PRODUCT_CREATION_TIME = 2016-04-26T01:56:16.000Z
PRODUCT_ID = "H4611_0000_GR3.JP2"
RELEASE_ID = 0053
REVISION_ID = 0000
/* QUALITY DATA ELEMENTS */
DATA_QUALITY_ID = 1
DATA_QUALITY_DESC = "Data calculated based on original SPICE kernels"
/* TIME DATA ELEMENTS */
SPACECRAFT_CLOCK_START_COUNT = "1/0134509040.08246"
SPACECRAFT_CLOCK_STOP_COUNT = "1/0134509307.55976"
START_TIME = 2007-08-06T19:37:47.247Z
STOP_TIME = 2007-08-06T19:41:01.615Z
/* ORBITAL DATA ELEMENTS */
ASCENDING_NODE_LONGITUDE = 131.92
MAXIMUM_RESOLUTION = 50.5
FOOTPRINT_POINT_LATITUDE = (-81.426,-81.5338,-81.6328,-81.7009, -81.2918,-80.9617,-80.631,-80.1769, -79.8339,-79.4906,-79.2616,-79.0326, -78.8035,-78.4536,-78.2168,-77.98, -77.7432,-77.5064,-77.2697,-77.033, -76.7963,-76.5597,-76.3232,-76.0867, -75.8503,-75.6141,-75.3779,-75.1418, -74.9059,-74.6701,-74.4343,-74.1988, -73.7964,-73.5157,-73.2353,-72.9551, -72.6751,-72.3954,-72.1159,-71.8367, -71.5577,-71.2792,-71.0009,-70.7228, -70.4452,-70.1675,-69.7516,-69.4749, -69.2837,-69.2615,-69.219,-69.1697, -69.2841,-69.559,-69.8343,-70.1096, -70.3854,-70.6612,-70.9375,-71.2138, -71.4905,-71.7672,-72.0444,-72.3216, -72.5988,-72.8761,-73.1539,-73.4316, -73.7096,-73.9741,-74.2071,-74.4402, -74.6734,-74.9066,-75.1399,-75.373, -75.6062,-75.8394,-76.0726,-76.3058, -76.5391,-76.7719,-77.0049,-77.2378, -77.4706,-77.7032,-77.9356,-78.1678, -78.3993,-78.6237,-78.9598,-79.1834, -79.4068,-79.6298,-79.8524,-80.0747, -80.295,-80.7222,-81.1472,-81.426)
FOOTPRINT_POINT_LONGITUDE = (247.346,249.316,251.364,252.954, 254.937,255.473,255.974,256.6,257.038, 257.447,257.704,257.951,258.184,258.526 ,258.743,258.951,259.152,259.345,259.53 ,259.708,259.88,260.044,260.203,260.356 ,260.505,260.647,260.785,260.918, 261.046,261.171,261.292,261.409,261.6, 261.727,261.85,261.969,262.083,262.193, 262.3,262.403,262.503,262.598,262.689, 262.779,262.864,262.952,263.078,263.157 ,262.673,261.991,260.87,259.765,259.155 ,259.052,258.945,258.835,258.722, 258.604,258.482,258.356,258.225,258.089 ,257.949,257.803,257.652,257.495, 257.332,257.163,256.987,256.814,256.655 ,256.491,256.322,256.146,255.965, 255.777,255.582,255.38,255.171,254.953, 254.728,254.494,254.25,253.997,253.734, 253.46,253.175,252.877,252.568,252.255, 251.76,251.411,251.048,250.668,250.27, 249.853,249.419,248.514,247.517, 247.346)
ORBIT_NUMBER = 4611
ORBITAL_ECCENTRICITY = 0.57
ORBITAL_INCLINATION = 86.69
ORBITAL_SEMIMAJOR_AXIS = 8530.97
PERIAPSIS_ALTITUDE = 294.58
PERIAPSIS_ARGUMENT_ANGLE = 266.58
PERIAPSIS_TIME = 2007-08-06T19:35:00.000Z
SPACECRAFT_ORIENTATION = (0.0,-1.0,0.0)
^MEX_ORIENTATION_DESC = "MEX_ORIENTATION_DESC.TXT"
SPACECRAFT_POINTING_MODE = ACROSSTRACK
^MEX_POINTING_DESC = "MEX_POINTING_DESC.TXT"
RIGHT_ASCENSION = -1e+32
DECLINATION = -1e+32
OFFSET_ANGLE = -0.55
SPACECRAFT_SOLAR_DISTANCE = 2.10801e+08
TARGET_NAME = MARS
/* CAMERA DATA ELEMENTS */
DETECTOR_TEMPERATURE = 18.1666
FOCAL_PLANE_TEMPERATURE = 8.3794
INST_CMPRS_NAME = "DISCRETE COSINE TRANSFORMATION (DCT)"
INST_CMPRS_RATIO = 15.4144
INST_CMPRS_QUALITY = 0
INST_CMPRS_QUANTZ_TBL_ID = 0
INSTRUMENT_TEMPERATURE = 11.4379
LENS_TEMPERATURE = 9.8067
MACROPIXEL_SIZE = 4
MISSING_FRAMES = 0
PIXEL_SUBSAMPLING_FLAG = N
SIGNAL_CHAIN_ID = 2
/* RADIOMETRIC DATA ELEMENTS */
BANDWIDTH = 88.0
CENTER_FILTER_WAVELENGTH = 538.0
RADIANCE_OFFSET = 2.32097
RADIANCE_SCALING_FACTOR = 0.00406435
REFLECTANCE_SCALING_FACTOR = 0.000155498
MEX:REFLECTANCE_OFFSET = 0.0887982
/* IMAGE OBJECT DEFINITIONS */
OBJECT = IMAGE
  INTERCHANGE_FORMAT = BINARY
  LINES = 14915
  LINE_SAMPLES = 4145
  SAMPLE_TYPE = UNSIGNED_INTEGER
  SAMPLE_BITS = 8
  BANDS = 1
  BAND_STORAGE_TYPE = BAND_SEQUENTIAL
  MAXIMUM = 255
  MEAN = 135.279
  MINIMUM = 1
  STANDARD_DEVIATION = 52.1151
END_OBJECT = IMAGE
/* MAP OBJECT DEFINITIONS */
OBJECT = IMAGE_MAP_PROJECTION
  ^DATA_SET_MAP_PROJECTION_CATALOG= "DSMAP.CAT"
  A_AXIS_RADIUS = 3396.0
  B_AXIS_RADIUS = 3396.0
  C_AXIS_RADIUS = 3396.0
  CENTER_LATITUDE = 0.0
  CENTER_LONGITUDE = 258.0
  COORDINATE_SYSTEM_NAME = PLANETOGRAPHIC
  COORDINATE_SYSTEM_TYPE = "BODY-FIXED ROTATING"
  EASTERNMOST_LONGITUDE = 263.157
  FIRST_STANDARD_PARALLEL = "N/A"
  LINE_FIRST_PIXEL = 1
  LINE_LAST_PIXEL = 14915
  LINE_PROJECTION_OFFSET = -81961.625
  MAP_PROJECTION_ROTATION = 0.0
  MAP_PROJECTION_TYPE = SINUSOIDAL
  MAP_RESOLUTION = 1185.42760773333
  MAP_SCALE = 0.05
  MAXIMUM_LATITUDE = -69.16970000000001
  MINIMUM_LATITUDE = -81.7009
  POSITIVE_LONGITUDE_DIRECTION = EAST
  REFERENCE_LATITUDE = "N/A"
  REFERENCE_LONGITUDE = "N/A"
  SAMPLE_FIRST_PIXEL = 1
  SAMPLE_LAST_PIXEL = 4145
  SAMPLE_PROJECTION_OFFSET = 1972.875
  SECOND_STANDARD_PARALLEL = "N/A"
  WESTERNMOST_LONGITUDE = 247.346
END_OBJECT = IMAGE_MAP_PROJECTION
/* The JPEG2000 image data file associated with this label. */
OBJECT = COMPRESSED_FILE
  FILE_NAME = "H4611_0000_GR3.JP2"
  RECORD_TYPE = UNDEFINED
  FILE_RECORDS = UNK
  ENCODING_TYPE = "JP2"
  INTERCHANGE_FORMAT = BINARY
  UNCOMPRESSED_FILE_NAME = "H4611_0000_GR3.IMG"
  REQUIRED_STORAGE_BYTES = "61847545"
  ^DESCRIPTION = "JP2INFO.TXT"
END_OBJECT = COMPRESSED_FILE
END
