PDS_VERSION_ID = PDS3
/* FILE DATA ELEMENTS */
RECORD_TYPE = STREAM
/* POINTERS TO DATA OBJECTS */
^COMPRESSED_FILE = "H4616_0001_GR3.JP2"
/* IDENTIFICATION DATA ELEMENTS */
DATA_SET_ID = "MEX-M-HRSC-5-REFDR-MAPPROJECTED-V3.0"
DATA_SET_NAME = "MARS EXPRESS HRSC MAP PROJECTED REFDR V3.0"
DETECTOR_ID = MEX_HRSC_GREEN
EVENT_TYPE = "MARS-REGIONAL-MAPPING-Im-Fl"
INSTRUMENT_HOST_ID = MEX
INSTRUMENT_HOST_NAME = "MARS EXPRESS"
INSTRUMENT_ID = HRSC
INSTRUMENT_NAME = "HIGH RESOLUTION STEREO CAMERA"
MISSION_NAME = "MARS EXPRESS"
MISSION_PHASE_NAME = ME_Phase_9
PROCESSING_LEVEL_ID = 3
PRODUCT_CREATION_TIME = 2016-04-26T01:56:16.000Z
PRODUCT_ID = "H4616_0001_GR3.JP2"
RELEASE_ID = 0053
REVISION_ID = 0000
/* QUALITY DATA ELEMENTS */
DATA_QUALITY_ID = 1
DATA_QUALITY_DESC = "Data calculated based on original SPICE kernels"
/* TIME DATA ELEMENTS */
SPACECRAFT_CLOCK_START_COUNT = "1/0134630482.09061"
SPACECRAFT_CLOCK_STOP_COUNT = "1/0134630844.14864"
START_TIME = 2007-08-08T05:22:20.109Z
STOP_TIME = 2007-08-08T05:24:59.231Z
/* ORBITAL DATA ELEMENTS */
ASCENDING_NODE_LONGITUDE = 131.82
MAXIMUM_RESOLUTION = 54
FOOTPRINT_POINT_LATITUDE = (-51.0681,-51.0793,-51.0898,-51.1043, -51.113,-51.121,-51.1282,-51.1348, -51.1406,-51.149,-51.1528,-50.8985, -50.5697,-50.2378,-49.904,-49.6522, -49.3979,-49.2283,-48.9717,-48.8003, -48.5413,-48.3684,-48.1958,-48.0234, -47.8513,-47.6793,-47.5076,-47.3363, -47.1652,-46.9944,-46.824,-46.6539, -46.3991,-46.2296,-46.0604,-45.8914, -45.7225,-45.4694,-45.3013,-45.1336, -44.9661,-44.7988,-44.6318,-44.465, -44.1325,-43.8011,-43.4712,-42.9766, -42.6577,-42.6587,-42.6593,-42.6586, -42.6573,-42.6555,-42.6509,-42.6466, -42.6414,-42.6361,-42.6292,-42.6211, -42.6075,-42.7649,-43.0912,-43.4183, -43.7465,-44.0759,-44.323,-44.5723, -44.9044,-45.2373,-45.4045,-45.572, -45.7401,-45.9078,-46.0761,-46.2444, -46.4133,-46.5824,-46.7505,-46.9199, -47.09,-47.2615,-47.4319,-47.6026, -47.7736,-47.9449,-48.2009,-48.3722, -48.5455,-48.8029,-48.9736,-49.1436, -49.3122,-49.5651,-49.732,-50.0653, -50.3131,-50.6412,-50.9671,-51.0681)
FOOTPRINT_POINT_LONGITUDE = (130.272,130.556,130.841,131.27,131.555 ,131.841,132.127,132.413,132.699, 133.202,133.49,133.628,133.654,133.678, 133.702,133.721,133.738,133.75,133.767, 133.779,133.796,133.807,133.818,133.828 ,133.839,133.85,133.86,133.871,133.881, 133.891,133.901,133.91,133.925,133.934, 133.943,133.952,133.962,133.978,133.986 ,133.995,134.004,134.013,134.022,134.03 ,134.047,134.063,134.077,134.104, 134.116,133.881,133.526,133.212,132.937 ,132.663,132.232,131.919,131.606, 131.331,131.019,130.705,130.236,130.064 ,130.064,130.064,130.062,130.061, 130.057,130.057,130.053,130.048,130.046 ,130.043,130.042,130.038,130.035, 130.032,130.028,130.025,130.018,130.013 ,130.01,130.008,130.003,129.998,129.993 ,129.988,129.976,129.969,129.965, 129.957,129.951,129.944,129.937,129.926 ,129.919,129.904,129.892,129.875, 129.857,130.272)
ORBIT_NUMBER = 4616
ORBITAL_ECCENTRICITY = 0.57
ORBITAL_INCLINATION = 86.69
ORBITAL_SEMIMAJOR_AXIS = 8530.76
PERIAPSIS_ALTITUDE = 295.21
PERIAPSIS_ARGUMENT_ANGLE = 265.71
PERIAPSIS_TIME = 2007-08-08T05:10:59.000Z
SPACECRAFT_ORIENTATION = (0.0,-1.0,0.0)
^MEX_ORIENTATION_DESC = "MEX_ORIENTATION_DESC.TXT"
SPACECRAFT_POINTING_MODE = ACROSSTRACK
^MEX_POINTING_DESC = "MEX_POINTING_DESC.TXT"
RIGHT_ASCENSION = -1e+32
DECLINATION = -1e+32
OFFSET_ANGLE = -0.12
SPACECRAFT_SOLAR_DISTANCE = 2.10977e+08
TARGET_NAME = MARS
/* CAMERA DATA ELEMENTS */
DETECTOR_TEMPERATURE = 19.5939
FOCAL_PLANE_TEMPERATURE = 9.3989
INST_CMPRS_NAME = "DISCRETE COSINE TRANSFORMATION (DCT)"
INST_CMPRS_RATIO = 10.1266
INST_CMPRS_QUALITY = 0
INST_CMPRS_QUANTZ_TBL_ID = 0
INSTRUMENT_TEMPERATURE = 13.273
LENS_TEMPERATURE = 10.0106
MACROPIXEL_SIZE = 2
MISSING_FRAMES = 0
PIXEL_SUBSAMPLING_FLAG = N
SIGNAL_CHAIN_ID = 2
/* RADIOMETRIC DATA ELEMENTS */
BANDWIDTH = 88.0
CENTER_FILTER_WAVELENGTH = 538.0
RADIANCE_OFFSET = 3.47669
RADIANCE_SCALING_FACTOR = 0.00224892
REFLECTANCE_SCALING_FACTOR = 8.61859e-05
MEX:REFLECTANCE_OFFSET = 0.133238
/* IMAGE OBJECT DEFINITIONS */
OBJECT = IMAGE
  INTERCHANGE_FORMAT = BINARY
  LINES = 10132
  LINE_SAMPLES = 3662
  SAMPLE_TYPE = UNSIGNED_INTEGER
  SAMPLE_BITS = 8
  BANDS = 1
  BAND_STORAGE_TYPE = BAND_SEQUENTIAL
  MAXIMUM = 255
  MEAN = 151.401
  MINIMUM = 1
  STANDARD_DEVIATION = 40.739
END_OBJECT = IMAGE
/* MAP OBJECT DEFINITIONS */
OBJECT = IMAGE_MAP_PROJECTION
  ^DATA_SET_MAP_PROJECTION_CATALOG= "DSMAP.CAT"
  A_AXIS_RADIUS = 3396.0
  B_AXIS_RADIUS = 3396.0
  C_AXIS_RADIUS = 3396.0
  CENTER_LATITUDE = 0.0
  CENTER_LONGITUDE = 132.0
  COORDINATE_SYSTEM_NAME = PLANETOGRAPHIC
  COORDINATE_SYSTEM_TYPE = "BODY-FIXED ROTATING"
  EASTERNMOST_LONGITUDE = 134.116
  FIRST_STANDARD_PARALLEL = "N/A"
  LINE_FIRST_PIXEL = 1
  LINE_LAST_PIXEL = 10132
  LINE_PROJECTION_OFFSET = -50503.75
  MAP_PROJECTION_ROTATION = 0.0
  MAP_PROJECTION_TYPE = SINUSOIDAL
  MAP_RESOLUTION = 1185.42760773333
  MAP_SCALE = 0.05
  MAXIMUM_LATITUDE = -42.6075
  MINIMUM_LATITUDE = -51.1528
  POSITIVE_LONGITUDE_DIRECTION = EAST
  REFERENCE_LATITUDE = "N/A"
  REFERENCE_LONGITUDE = "N/A"
  SAMPLE_FIRST_PIXEL = 1
  SAMPLE_LAST_PIXEL = 3662
  SAMPLE_PROJECTION_OFFSET = 1751.25
  SECOND_STANDARD_PARALLEL = "N/A"
  WESTERNMOST_LONGITUDE = 129.857
END_OBJECT = IMAGE_MAP_PROJECTION
/* The JPEG2000 image data file associated with this label. */
OBJECT = COMPRESSED_FILE
  FILE_NAME = "H4616_0001_GR3.JP2"
  RECORD_TYPE = UNDEFINED
  FILE_RECORDS = UNK
  ENCODING_TYPE = "JP2"
  INTERCHANGE_FORMAT = BINARY
  UNCOMPRESSED_FILE_NAME = "H4616_0001_GR3.IMG"
  REQUIRED_STORAGE_BYTES = "37125356"
  ^DESCRIPTION = "JP2INFO.TXT"
END_OBJECT = COMPRESSED_FILE
END
