PDS_VERSION_ID = PDS3
/* FILE DATA ELEMENTS */
RECORD_TYPE = STREAM
/* POINTERS TO DATA OBJECTS */
^COMPRESSED_FILE = "H4616_0001_S23.JP2"
/* IDENTIFICATION DATA ELEMENTS */
DATA_SET_ID = "MEX-M-HRSC-5-REFDR-MAPPROJECTED-V3.0"
DATA_SET_NAME = "MARS EXPRESS HRSC MAP PROJECTED REFDR V3.0"
DETECTOR_ID = MEX_HRSC_S2
EVENT_TYPE = "MARS-REGIONAL-MAPPING-Im-Fl"
INSTRUMENT_HOST_ID = MEX
INSTRUMENT_HOST_NAME = "MARS EXPRESS"
INSTRUMENT_ID = HRSC
INSTRUMENT_NAME = "HIGH RESOLUTION STEREO CAMERA"
MISSION_NAME = "MARS EXPRESS"
MISSION_PHASE_NAME = ME_Phase_9
PROCESSING_LEVEL_ID = 3
PRODUCT_CREATION_TIME = 2016-04-26T01:56:16.000Z
PRODUCT_ID = "H4616_0001_S23.JP2"
RELEASE_ID = 0053
REVISION_ID = 0000
/* QUALITY DATA ELEMENTS */
DATA_QUALITY_ID = 1
DATA_QUALITY_DESC = "Data calculated based on original SPICE kernels"
/* TIME DATA ELEMENTS */
SPACECRAFT_CLOCK_START_COUNT = "1/0134630482.09061"
SPACECRAFT_CLOCK_STOP_COUNT = "1/0134630844.14864"
START_TIME = 2007-08-08T05:24:00.388Z
STOP_TIME = 2007-08-08T05:27:26.317Z
/* ORBITAL DATA ELEMENTS */
ASCENDING_NODE_LONGITUDE = 131.82
MAXIMUM_RESOLUTION = 67.6
FOOTPRINT_POINT_LATITUDE = (-50.9939,-51.0053,-51.0147,-51.0236, -51.0318,-51.0404,-51.0473,-51.0537, -51.0594,-51.0645,-51.069,-51.0728, -50.8708,-50.6872,-50.5046,-50.3227, -50.141,-49.96,-49.7791,-49.5992, -49.4203,-49.2416,-49.0634,-48.8857, -48.7089,-48.5317,-48.3542,-48.178, -47.9153,-47.7417,-47.5685,-47.3959, -47.2237,-47.0511,-46.8796,-46.7092, -46.5379,-46.285,-46.1165,-45.9488, -45.615,-45.2835,-44.954,-44.6271, -44.3023,-43.9792,-43.7372,-43.4165, -43.1015,-42.6287,-42.6281,-42.6311, -42.6328,-42.6342,-42.6352,-42.6354, -42.6344,-42.6341,-42.6312,-42.6296, -42.6297,-42.6296,-42.6272,-42.6253, -42.6222,-43.0879,-43.4,-43.7161, -43.9542,-44.2728,-44.5932,-44.9159, -45.243,-45.6542,-46.0659,-46.2331, -46.4005,-46.5681,-46.8243,-46.995, -47.3281,-47.4999,-47.6726,-47.8449, -48.1064,-48.2905,-48.4594,-48.7144, -48.8921,-49.0673,-49.2445,-49.5117, -49.6869,-49.959,-50.1389,-50.3184, -50.4954,-50.6779,-50.8615,-50.9939)
FOOTPRINT_POINT_LONGITUDE = (130.017,130.398,130.736,131.074, 131.413,131.794,132.133,132.472,132.812 ,133.152,133.492,133.834,134.039, 134.056,134.073,134.09,134.106,134.122, 134.138,134.154,134.17,134.186,134.201, 134.216,134.231,134.246,134.26,134.274, 134.295,134.31,134.324,134.338,134.352, 134.365,134.379,134.392,134.405,134.426 ,134.439,134.452,134.478,134.503, 134.528,134.553,134.578,134.601,134.618 ,134.641,134.665,134.698,134.455, 134.013,133.62,133.278,132.838,132.448, 132.155,131.863,131.472,131.033,130.789 ,130.544,130.3,130.056,129.646,129.655, 129.66,129.664,129.666,129.67,129.673, 129.675,129.675,129.675,129.675,129.674 ,129.673,129.672,129.668,129.666, 129.665,129.662,129.659,129.656,129.65, 129.642,129.64,129.638,129.632,129.628, 129.623,129.615,129.611,129.6,129.594, 129.587,129.582,129.575,129.566, 130.017)
ORBIT_NUMBER = 4616
ORBITAL_ECCENTRICITY = 0.57
ORBITAL_INCLINATION = 86.69
ORBITAL_SEMIMAJOR_AXIS = 8530.76
PERIAPSIS_ALTITUDE = 295.21
PERIAPSIS_ARGUMENT_ANGLE = 265.71
PERIAPSIS_TIME = 2007-08-08T05:10:59.000Z
SPACECRAFT_ORIENTATION = (0.0,-1.0,0.0)
^MEX_ORIENTATION_DESC = "MEX_ORIENTATION_DESC.TXT"
SPACECRAFT_POINTING_MODE = ACROSSTRACK
^MEX_POINTING_DESC = "MEX_POINTING_DESC.TXT"
RIGHT_ASCENSION = -1e+32
DECLINATION = -1e+32
OFFSET_ANGLE = -0.12
SPACECRAFT_SOLAR_DISTANCE = 2.10977e+08
TARGET_NAME = MARS
/* CAMERA DATA ELEMENTS */
DETECTOR_TEMPERATURE = 20.4095
FOCAL_PLANE_TEMPERATURE = 9.3989
INST_CMPRS_NAME = "DISCRETE COSINE TRANSFORMATION (DCT)"
INST_CMPRS_RATIO = 11.3721
INST_CMPRS_QUALITY = 0
INST_CMPRS_QUANTZ_TBL_ID = 0
INSTRUMENT_TEMPERATURE = 13.273
LENS_TEMPERATURE = 10.0106
MACROPIXEL_SIZE = 2
MISSING_FRAMES = 0
PIXEL_SUBSAMPLING_FLAG = N
SIGNAL_CHAIN_ID = 1
/* RADIOMETRIC DATA ELEMENTS */
BANDWIDTH = 178.0
CENTER_FILTER_WAVELENGTH = 679.0
RADIANCE_OFFSET = 11.2195
RADIANCE_SCALING_FACTOR = 0.0104757
REFLECTANCE_SCALING_FACTOR = 0.000246937
MEX:REFLECTANCE_OFFSET = 0.26447
/* IMAGE OBJECT DEFINITIONS */
OBJECT = IMAGE
  INTERCHANGE_FORMAT = BINARY
  LINES = 10132
  LINE_SAMPLES = 3662
  SAMPLE_TYPE = UNSIGNED_INTEGER
  SAMPLE_BITS = 8
  BANDS = 1
  BAND_STORAGE_TYPE = BAND_SEQUENTIAL
  MAXIMUM = 253
  MEAN = 153.718
  MINIMUM = 1
  STANDARD_DEVIATION = 47.1398
END_OBJECT = IMAGE
/* MAP OBJECT DEFINITIONS */
OBJECT = IMAGE_MAP_PROJECTION
  ^DATA_SET_MAP_PROJECTION_CATALOG= "DSMAP.CAT"
  A_AXIS_RADIUS = 3396.0
  B_AXIS_RADIUS = 3396.0
  C_AXIS_RADIUS = 3396.0
  CENTER_LATITUDE = 0.0
  CENTER_LONGITUDE = 132.0
  COORDINATE_SYSTEM_NAME = PLANETOGRAPHIC
  COORDINATE_SYSTEM_TYPE = "BODY-FIXED ROTATING"
  EASTERNMOST_LONGITUDE = 134.698
  FIRST_STANDARD_PARALLEL = "N/A"
  LINE_FIRST_PIXEL = 1
  LINE_LAST_PIXEL = 10132
  LINE_PROJECTION_OFFSET = -50503.75
  MAP_PROJECTION_ROTATION = 0.0
  MAP_PROJECTION_TYPE = SINUSOIDAL
  MAP_RESOLUTION = 1185.42760773333
  MAP_SCALE = 0.05
  MAXIMUM_LATITUDE = -42.6222
  MINIMUM_LATITUDE = -51.0728
  POSITIVE_LONGITUDE_DIRECTION = EAST
  REFERENCE_LATITUDE = "N/A"
  REFERENCE_LONGITUDE = "N/A"
  SAMPLE_FIRST_PIXEL = 1
  SAMPLE_LAST_PIXEL = 3662
  SAMPLE_PROJECTION_OFFSET = 1751.25
  SECOND_STANDARD_PARALLEL = "N/A"
  WESTERNMOST_LONGITUDE = 129.566
END_OBJECT = IMAGE_MAP_PROJECTION
/* The JPEG2000 image data file associated with this label. */
OBJECT = COMPRESSED_FILE
  FILE_NAME = "H4616_0001_S23.JP2"
  RECORD_TYPE = UNDEFINED
  FILE_RECORDS = UNK
  ENCODING_TYPE = "JP2"
  INTERCHANGE_FORMAT = BINARY
  UNCOMPRESSED_FILE_NAME = "H4616_0001_S23.IMG"
  REQUIRED_STORAGE_BYTES = "37125356"
  ^DESCRIPTION = "JP2INFO.TXT"
END_OBJECT = COMPRESSED_FILE
END
