PDS_VERSION_ID = PDS3
/* FILE DATA ELEMENTS */
RECORD_TYPE = STREAM
/* POINTERS TO DATA OBJECTS */
^COMPRESSED_FILE = "H4623_0006_SR3.JP2"
/* IDENTIFICATION DATA ELEMENTS */
DATA_SET_ID = "MEX-M-HRSC-5-REFDR-MAPPROJECTED-V3.0"
DATA_SET_NAME = "MARS EXPRESS HRSC MAP PROJECTED REFDR V3.0"
DETECTOR_ID = MEX_HRSC_SRC
EVENT_TYPE = "MARS-REGIONAL-MAPPING-Gl-Eo-La"
INSTRUMENT_HOST_ID = MEX
INSTRUMENT_HOST_NAME = "MARS EXPRESS"
INSTRUMENT_ID = HRSC
INSTRUMENT_NAME = "HIGH RESOLUTION STEREO CAMERA"
MISSION_NAME = "MARS EXPRESS"
MISSION_PHASE_NAME = ME_Phase_9
PROCESSING_LEVEL_ID = 3
PRODUCT_CREATION_TIME = 2016-04-26T01:56:16.000Z
PRODUCT_ID = "H4623_0006_SR3.JP2"
RELEASE_ID = 0053
REVISION_ID = 0000
/* QUALITY DATA ELEMENTS */
DATA_QUALITY_ID = 1
DATA_QUALITY_DESC = "Data calculated based on original SPICE kernels"
/* TIME DATA ELEMENTS */
SPACECRAFT_CLOCK_START_COUNT = "1/0134799325.07281"
SPACECRAFT_CLOCK_STOP_COUNT = "1/0134799638.45906"
IMAGE_TIME = 2007-08-10T04:16:52.250Z
START_TIME = 2007-08-10T04:16:52.247Z
STOP_TIME = 2007-08-10T04:16:52.252Z
/* ORBITAL DATA ELEMENTS */
ASCENDING_NODE_LONGITUDE = 131.68
MAXIMUM_RESOLUTION = 3.017
FOOTPRINT_POINT_LATITUDE = (-81.1162,-81.1176,-81.1192,-81.121, -81.1237,-81.1265,-81.1282,-81.13, -81.1326,-81.135,-81.1367,-81.1381, -81.1396,-81.1421,-81.144,-81.1463, -81.1478,-81.1504,-81.152,-81.1535, -81.1557,-81.1574,-81.1586,-81.1601, -81.1615,-81.1607,-81.1599,-81.1591, -81.1583,-81.1575,-81.1567,-81.1559, -81.1551,-81.1543,-81.1534,-81.1526, -81.1518,-81.151,-81.1502,-81.1494, -81.1486,-81.1474,-81.1466,-81.1457, -81.1449,-81.1441,-81.1433,-81.1425, -81.1417,-81.141,-81.1385,-81.1372, -81.1359,-81.1337,-81.1316,-81.1302, -81.1285,-81.1258,-81.1245,-81.1218, -81.1199,-81.1184,-81.1162,-81.1145, -81.1132,-81.112,-81.1105,-81.1085, -81.107,-81.1051,-81.1033,-81.1006, -81.0975,-81.0952,-81.0943,-81.0951, -81.0959,-81.0967,-81.0975,-81.0983, -81.0991,-81.0999,-81.1007,-81.1015, -81.1024,-81.1032,-81.104,-81.1048, -81.1056,-81.1064,-81.1072,-81.108, -81.1088,-81.1096,-81.1104,-81.1112, -81.112,-81.1128,-81.114,-81.1162)
FOOTPRINT_POINT_LONGITUDE = (146.446,146.442,146.437,146.433, 146.425,146.417,146.413,146.408,146.401 ,146.394,146.389,146.386,146.381, 146.375,146.369,146.363,146.359,146.351 ,146.347,146.343,146.337,146.332, 146.329,146.325,146.32,146.308,146.296, 146.284,146.271,146.259,146.247,146.235 ,146.222,146.21,146.198,146.186,146.173 ,146.161,146.149,146.137,146.124, 146.105,146.093,146.081,146.069,146.057 ,146.044,146.032,146.02,146.009,146.016 ,146.019,146.023,146.029,146.035, 146.039,146.044,146.051,146.055,146.062 ,146.068,146.072,146.078,146.083, 146.087,146.09,146.094,146.1,146.104, 146.11,146.115,146.122,146.131,146.137, 146.151,146.163,146.175,146.188,146.2, 146.212,146.224,146.236,146.248,146.261 ,146.273,146.285,146.297,146.309, 146.322,146.334,146.346,146.358,146.37, 146.382,146.395,146.407,146.419,146.431 ,146.45,146.446)
ORBIT_NUMBER = 4623
ORBITAL_ECCENTRICITY = 0.57
ORBITAL_INCLINATION = 86.68
ORBITAL_SEMIMAJOR_AXIS = 8531.58
PERIAPSIS_ALTITUDE = 295.81
PERIAPSIS_ARGUMENT_ANGLE = 264.5
PERIAPSIS_TIME = 2007-08-10T04:13:27.000Z
SPACECRAFT_ORIENTATION = (0.0,-1.0,0.0)
^MEX_ORIENTATION_DESC = "MEX_ORIENTATION_DESC.TXT"
SPACECRAFT_POINTING_MODE = ACROSSTRACK
^MEX_POINTING_DESC = "MEX_POINTING_DESC.TXT"
RIGHT_ASCENSION = -1e+32
DECLINATION = -1e+32
OFFSET_ANGLE = 0.23
SPACECRAFT_SOLAR_DISTANCE = 2.11228e+08
TARGET_NAME = MARS
/* CAMERA DATA ELEMENTS */
BUFFER_MODE_ID = BUFFER_8
EXPOSURE_DURATION = 5.04
INST_CMPRS_NAME = NONE
INST_CMPRS_RATIO = 1.0
INST_CMPRS_QUALITY = -2147483648
INST_CMPRS_QUANTZ_TBL_ID = -2147483648
INSTRUMENT_TEMPERATURE = 7.24527
MISSING_FRAMES = 0
START_BIT = 0
/* RADIOMETRIC DATA ELEMENTS */
BANDWIDTH = 250.0
CENTER_FILTER_WAVELENGTH = 600.0
RADIANCE_OFFSET = -9.99e+31
RADIANCE_SCALING_FACTOR = -9.99e+31
REFLECTANCE_SCALING_FACTOR = -9.99e+31
MEX:REFLECTANCE_OFFSET = -9.99e+31
/* IMAGE OBJECT DEFINITIONS */
OBJECT = IMAGE
  INTERCHANGE_FORMAT = BINARY
  LINES = 1745
  LINE_SAMPLES = 1755
  SAMPLE_TYPE = UNSIGNED_INTEGER
  SAMPLE_BITS = 8
  BANDS = 1
  BAND_STORAGE_TYPE = BAND_SEQUENTIAL
  MAXIMUM = 243
  MEAN = 150.482
  MINIMUM = 21
  STANDARD_DEVIATION = 18.4532
END_OBJECT = IMAGE
/* MAP OBJECT DEFINITIONS */
OBJECT = IMAGE_MAP_PROJECTION
  ^DATA_SET_MAP_PROJECTION_CATALOG= "DSMAP.CAT"
  A_AXIS_RADIUS = 3396.19
  B_AXIS_RADIUS = 3396.19
  C_AXIS_RADIUS = 3396.19
  CENTER_LATITUDE = 0.0
  CENTER_LONGITUDE = 146.0
  COORDINATE_SYSTEM_NAME = PLANETOGRAPHIC
  COORDINATE_SYSTEM_TYPE = "BODY-FIXED ROTATING"
  EASTERNMOST_LONGITUDE = 146.45
  FIRST_STANDARD_PARALLEL = "N/A"
  LINE_FIRST_PIXEL = 1
  LINE_LAST_PIXEL = 1745
  LINE_PROJECTION_OFFSET = -1917470.0
  MAP_PROJECTION_ROTATION = 0.0
  MAP_PROJECTION_TYPE = SINUSOIDAL
  MAP_RESOLUTION = 23709.8786048756
  MAP_SCALE = 0.0025
  MAXIMUM_LATITUDE = -81.0943
  MINIMUM_LATITUDE = -81.1615
  POSITIVE_LONGITUDE_DIRECTION = EAST
  REFERENCE_LATITUDE = "N/A"
  REFERENCE_LONGITUDE = "N/A"
  SAMPLE_FIRST_PIXEL = 1
  SAMPLE_LAST_PIXEL = 1755
  SAMPLE_PROJECTION_OFFSET = 390.0
  SECOND_STANDARD_PARALLEL = "N/A"
  WESTERNMOST_LONGITUDE = 146.009
END_OBJECT = IMAGE_MAP_PROJECTION
/* The JPEG2000 image data file associated with this label. */
OBJECT = COMPRESSED_FILE
  FILE_NAME = "H4623_0006_SR3.JP2"
  RECORD_TYPE = UNDEFINED
  FILE_RECORDS = UNK
  ENCODING_TYPE = "JP2"
  INTERCHANGE_FORMAT = BINARY
  UNCOMPRESSED_FILE_NAME = "H4623_0006_SR3.IMG"
  REQUIRED_STORAGE_BYTES = "3083535"
  ^DESCRIPTION = "JP2INFO.TXT"
END_OBJECT = COMPRESSED_FILE
END
