PDS_VERSION_ID = PDS3
/* FILE DATA ELEMENTS */
RECORD_TYPE = STREAM
/* POINTERS TO DATA OBJECTS */
^COMPRESSED_FILE = "H4625_0000_RE3.JP2"
/* IDENTIFICATION DATA ELEMENTS */
DATA_SET_ID = "MEX-M-HRSC-5-REFDR-MAPPROJECTED-V3.0"
DATA_SET_NAME = "MARS EXPRESS HRSC MAP PROJECTED REFDR V3.0"
DETECTOR_ID = MEX_HRSC_RED
EVENT_TYPE = "MARS-REGIONAL-MAPPING-Gl-Pf"
INSTRUMENT_HOST_ID = MEX
INSTRUMENT_HOST_NAME = "MARS EXPRESS"
INSTRUMENT_ID = HRSC
INSTRUMENT_NAME = "HIGH RESOLUTION STEREO CAMERA"
MISSION_NAME = "MARS EXPRESS"
MISSION_PHASE_NAME = ME_Phase_9
PROCESSING_LEVEL_ID = 3
PRODUCT_CREATION_TIME = 2016-04-26T01:56:16.000Z
PRODUCT_ID = "H4625_0000_RE3.JP2"
RELEASE_ID = 0053
REVISION_ID = 0000
/* QUALITY DATA ELEMENTS */
DATA_QUALITY_ID = 2
DATA_QUALITY_DESC = "Data calculated based on photogrammetrically improved orbit and attitude data"
/* TIME DATA ELEMENTS */
SPACECRAFT_CLOCK_START_COUNT = "1/0134847790.09050"
SPACECRAFT_CLOCK_STOP_COUNT = "1/0134848065.38179"
START_TIME = 2007-08-10T17:44:10.687Z
STOP_TIME = 2007-08-10T17:47:38.770Z
/* ORBITAL DATA ELEMENTS */
ASCENDING_NODE_LONGITUDE = 131.64
MAXIMUM_RESOLUTION = 59
FOOTPRINT_POINT_LATITUDE = (-79.7626,-79.8567,-79.965,-79.9049, -79.7014,-79.3961,-79.1928,-78.9896, -78.7866,-78.5834,-78.2466,-78.0045, -77.7626,-77.5209,-77.2793,-77.0376, -76.7962,-76.5553,-76.314,-76.0725, -75.8325,-75.5928,-75.3529,-75.1132, -74.874,-74.6352,-74.397,-74.1587, -73.9153,-73.6717,-73.4277,-73.061, -72.812,-72.5658,-72.3177,-72.0639, -71.8093,-71.5566,-71.172,-70.9135, -70.6568,-70.3941,-70.1315,-69.8697, -69.6029,-69.2028,-68.9329,-68.6611, -68.3906,-67.922,-67.8881,-67.8505, -67.8196,-67.7713,-67.7209,-67.995, -68.4008,-68.6698,-68.9384,-69.3358, -69.6018,-69.8605,-70.1209,-70.51, -70.7654,-71.0212,-71.2759,-71.6521, -71.9034,-72.1524,-72.5217,-72.7678, -73.0121,-73.2524,-73.493,-73.7337, -74.0885,-74.3256,-74.561,-74.7969, -75.0324,-75.266,-75.6217,-75.8584, -76.0953,-76.4503,-76.6869,-76.9237, -77.2794,-77.5162,-77.8715,-78.1079, -78.3064,-78.6041,-78.8021,-79.0985, -79.296,-79.4933,-79.6905,-79.7626)
FOOTPRINT_POINT_LONGITUDE = (313.529,315.117,317.158,318.614, 318.916,319.348,319.621,319.884,320.138 ,320.381,320.765,321.028,321.28,321.521 ,321.752,321.975,322.188,322.394, 322.591,322.78,322.964,323.142,323.312, 323.476,323.635,323.789,323.938,324.082 ,324.224,324.363,324.496,324.691, 324.818,324.942,325.061,325.179,325.292 ,325.403,325.567,325.672,325.775, 325.877,325.975,326.071,326.166,326.304 ,326.394,326.481,326.567,326.543, 325.661,324.785,324.121,323.17,322.249, 322.15,321.997,321.892,321.784,321.616, 321.5,321.385,321.263,321.075,320.946, 320.814,320.677,320.467,320.321,320.172 ,319.941,319.781,319.617,319.451, 319.279,319.101,318.829,318.636,318.441 ,318.237,318.028,317.816,317.471, 317.232,316.983,316.594,316.321,316.037 ,315.588,315.274,314.778,314.428, 314.123,313.643,313.309,312.783,312.415 ,312.032,311.632,313.529)
ORBIT_NUMBER = 4625
ORBITAL_ECCENTRICITY = 0.57
ORBITAL_INCLINATION = 86.7
ORBITAL_SEMIMAJOR_AXIS = 8530.7
PERIAPSIS_ALTITUDE = 295.22
PERIAPSIS_ARGUMENT_ANGLE = 264.17
PERIAPSIS_TIME = 2007-08-10T17:39:51.000Z
SPACECRAFT_ORIENTATION = (0.0,-1.0,0.0)
^MEX_ORIENTATION_DESC = "MEX_ORIENTATION_DESC.TXT"
SPACECRAFT_POINTING_MODE = ACROSSTRACK
^MEX_POINTING_DESC = "MEX_POINTING_DESC.TXT"
RIGHT_ASCENSION = -1e+32
DECLINATION = -1e+32
OFFSET_ANGLE = -0.11
SPACECRAFT_SOLAR_DISTANCE = 2.11301e+08
TARGET_NAME = MARS
/* CAMERA DATA ELEMENTS */
DETECTOR_TEMPERATURE = 18.7783
FOCAL_PLANE_TEMPERATURE = 9.3989
INST_CMPRS_NAME = "DISCRETE COSINE TRANSFORMATION (DCT)"
INST_CMPRS_RATIO = 15.5808
INST_CMPRS_QUALITY = 0
INST_CMPRS_QUANTZ_TBL_ID = 0
INSTRUMENT_TEMPERATURE = 11.4379
LENS_TEMPERATURE = 9.6028
MACROPIXEL_SIZE = 4
MISSING_FRAMES = 0
PIXEL_SUBSAMPLING_FLAG = N
SIGNAL_CHAIN_ID = 2
/* RADIOMETRIC DATA ELEMENTS */
BANDWIDTH = 48.0
CENTER_FILTER_WAVELENGTH = 748.0
RADIANCE_OFFSET = 1.64568
RADIANCE_SCALING_FACTOR = 0.0035935
REFLECTANCE_SCALING_FACTOR = 0.000366143
MEX:REFLECTANCE_OFFSET = 0.167679
/* IMAGE OBJECT DEFINITIONS */
OBJECT = IMAGE
  INTERCHANGE_FORMAT = BINARY
  LINES = 14659
  LINE_SAMPLES = 4418
  SAMPLE_TYPE = UNSIGNED_INTEGER
  SAMPLE_BITS = 8
  BANDS = 1
  BAND_STORAGE_TYPE = BAND_SEQUENTIAL
  MAXIMUM = 255
  MEAN = 149.901
  MINIMUM = 1
  STANDARD_DEVIATION = 60.6556
END_OBJECT = IMAGE
/* MAP OBJECT DEFINITIONS */
OBJECT = IMAGE_MAP_PROJECTION
  ^DATA_SET_MAP_PROJECTION_CATALOG= "DSMAP.CAT"
  A_AXIS_RADIUS = 3396.0
  B_AXIS_RADIUS = 3396.0
  C_AXIS_RADIUS = 3396.0
  CENTER_LATITUDE = 0.0
  CENTER_LONGITUDE = 321.0
  COORDINATE_SYSTEM_NAME = PLANETOGRAPHIC
  COORDINATE_SYSTEM_TYPE = "BODY-FIXED ROTATING"
  EASTERNMOST_LONGITUDE = 326.567
  FIRST_STANDARD_PARALLEL = "N/A"
  LINE_FIRST_PIXEL = 1
  LINE_LAST_PIXEL = 14659
  LINE_PROJECTION_OFFSET = -80307.125
  MAP_PROJECTION_ROTATION = 0.0
  MAP_PROJECTION_TYPE = SINUSOIDAL
  MAP_RESOLUTION = 1185.42760773333
  MAP_SCALE = 0.05
  MAXIMUM_LATITUDE = -67.7209
  MINIMUM_LATITUDE = -79.965
  POSITIVE_LONGITUDE_DIRECTION = EAST
  REFERENCE_LATITUDE = "N/A"
  REFERENCE_LONGITUDE = "N/A"
  SAMPLE_FIRST_PIXEL = 1
  SAMPLE_LAST_PIXEL = 4418
  SAMPLE_PROJECTION_OFFSET = 1947.375
  SECOND_STANDARD_PARALLEL = "N/A"
  WESTERNMOST_LONGITUDE = 311.632
END_OBJECT = IMAGE_MAP_PROJECTION
/* The JPEG2000 image data file associated with this label. */
OBJECT = COMPRESSED_FILE
  FILE_NAME = "H4625_0000_RE3.JP2"
  RECORD_TYPE = UNDEFINED
  FILE_RECORDS = UNK
  ENCODING_TYPE = "JP2"
  INTERCHANGE_FORMAT = BINARY
  UNCOMPRESSED_FILE_NAME = "H4625_0000_RE3.IMG"
  REQUIRED_STORAGE_BYTES = "64789970"
  ^DESCRIPTION = "JP2INFO.TXT"
END_OBJECT = COMPRESSED_FILE
END
