PDS_VERSION_ID = PDS3
/* FILE DATA ELEMENTS */
RECORD_TYPE = STREAM
/* POINTERS TO DATA OBJECTS */
^COMPRESSED_FILE = "H4625_0002_SR3.JP2"
/* IDENTIFICATION DATA ELEMENTS */
DATA_SET_ID = "MEX-M-HRSC-5-REFDR-MAPPROJECTED-V3.0"
DATA_SET_NAME = "MARS EXPRESS HRSC MAP PROJECTED REFDR V3.0"
DETECTOR_ID = MEX_HRSC_SRC
EVENT_TYPE = "MARS-REGIONAL-MAPPING-Gl-Pf"
INSTRUMENT_HOST_ID = MEX
INSTRUMENT_HOST_NAME = "MARS EXPRESS"
INSTRUMENT_ID = HRSC
INSTRUMENT_NAME = "HIGH RESOLUTION STEREO CAMERA"
MISSION_NAME = "MARS EXPRESS"
MISSION_PHASE_NAME = ME_Phase_9
PROCESSING_LEVEL_ID = 3
PRODUCT_CREATION_TIME = 2016-04-26T01:56:16.000Z
PRODUCT_ID = "H4625_0002_SR3.JP2"
RELEASE_ID = 0053
REVISION_ID = 0000
/* QUALITY DATA ELEMENTS */
DATA_QUALITY_ID = 1
DATA_QUALITY_DESC = "Data calculated based on original SPICE kernels"
/* TIME DATA ELEMENTS */
SPACECRAFT_CLOCK_START_COUNT = "1/0134847790.09050"
SPACECRAFT_CLOCK_STOP_COUNT = "1/0134848065.38179"
IMAGE_TIME = 2007-08-10T17:44:48.134Z
START_TIME = 2007-08-10T17:44:48.132Z
STOP_TIME = 2007-08-10T17:44:48.137Z
/* ORBITAL DATA ELEMENTS */
ASCENDING_NODE_LONGITUDE = 131.64
MAXIMUM_RESOLUTION = 3.383
FOOTPRINT_POINT_LATITUDE = (-75.9127,-75.9153,-75.9173,-75.9205, -75.9229,-75.9266,-75.9285,-75.9307, -75.9327,-75.9346,-75.9372,-75.9398, -75.9424,-75.9444,-75.9462,-75.9485, -75.9502,-75.9527,-75.9554,-75.9583, -75.9599,-75.9622,-75.9648,-75.9665, -75.9684,-75.9679,-75.9674,-75.9669, -75.9664,-75.966,-75.9655,-75.965, -75.9645,-75.964,-75.9635,-75.963, -75.9625,-75.962,-75.9615,-75.9611, -75.9606,-75.9601,-75.9596,-75.9591, -75.9586,-75.958,-75.9575,-75.957, -75.9565,-75.9552,-75.9537,-75.9521, -75.9495,-75.9469,-75.9447,-75.9429, -75.9408,-75.9393,-75.9375,-75.9359, -75.9341,-75.9309,-75.9274,-75.9247, -75.9216,-75.9196,-75.9182,-75.9163, -75.9138,-75.9122,-75.91,-75.9084, -75.9043,-75.9015,-75.8998,-75.9003, -75.9008,-75.9013,-75.9018,-75.9023, -75.9028,-75.9033,-75.9037,-75.9042, -75.9047,-75.9052,-75.9057,-75.9062, -75.9067,-75.9072,-75.9077,-75.9081, -75.9086,-75.9091,-75.9096,-75.9101, -75.9106,-75.9111,-75.9115,-75.9127)
FOOTPRINT_POINT_LONGITUDE = (320.128,320.126,320.124,320.121, 320.119,320.116,320.114,320.112,320.11, 320.109,320.106,320.104,320.102,320.1, 320.098,320.096,320.095,320.093,320.09, 320.088,320.086,320.084,320.082,320.08, 320.073,320.064,320.055,320.046,320.036 ,320.027,320.018,320.009,320.0,319.99, 319.981,319.972,319.963,319.953,319.944 ,319.935,319.926,319.916,319.907, 319.898,319.889,319.877,319.868,319.859 ,319.85,319.844,319.846,319.847,319.85, 319.852,319.854,319.856,319.858,319.859 ,319.861,319.862,319.864,319.866,319.87 ,319.872,319.875,319.877,319.878,319.88 ,319.882,319.883,319.885,319.887,319.89 ,319.893,319.895,319.904,319.913, 319.922,319.932,319.941,319.95,319.959, 319.968,319.978,319.987,319.996,320.005 ,320.014,320.024,320.033,320.042, 320.051,320.06,320.07,320.079,320.088, 320.097,320.106,320.116,320.128)
ORBIT_NUMBER = 4625
ORBITAL_ECCENTRICITY = 0.57
ORBITAL_INCLINATION = 86.7
ORBITAL_SEMIMAJOR_AXIS = 8530.7
PERIAPSIS_ALTITUDE = 295.22
PERIAPSIS_ARGUMENT_ANGLE = 264.17
PERIAPSIS_TIME = 2007-08-10T17:39:51.000Z
SPACECRAFT_ORIENTATION = (0.0,-1.0,0.0)
^MEX_ORIENTATION_DESC = "MEX_ORIENTATION_DESC.TXT"
SPACECRAFT_POINTING_MODE = ACROSSTRACK
^MEX_POINTING_DESC = "MEX_POINTING_DESC.TXT"
RIGHT_ASCENSION = -1e+32
DECLINATION = -1e+32
OFFSET_ANGLE = -0.11
SPACECRAFT_SOLAR_DISTANCE = 2.11301e+08
TARGET_NAME = MARS
/* CAMERA DATA ELEMENTS */
BUFFER_MODE_ID = BUFFER_8
EXPOSURE_DURATION = 5.04
INST_CMPRS_NAME = NONE
INST_CMPRS_RATIO = 1.0
INST_CMPRS_QUALITY = -2147483648
INST_CMPRS_QUANTZ_TBL_ID = -2147483648
INSTRUMENT_TEMPERATURE = 9.88876
MISSING_FRAMES = 0
START_BIT = 0
/* RADIOMETRIC DATA ELEMENTS */
BANDWIDTH = 250.0
CENTER_FILTER_WAVELENGTH = 600.0
RADIANCE_OFFSET = -9.99e+31
RADIANCE_SCALING_FACTOR = -9.99e+31
REFLECTANCE_SCALING_FACTOR = -9.99e+31
MEX:REFLECTANCE_OFFSET = -9.99e+31
/* IMAGE OBJECT DEFINITIONS */
OBJECT = IMAGE
  INTERCHANGE_FORMAT = BINARY
  LINES = 1756
  LINE_SAMPLES = 1767
  SAMPLE_TYPE = UNSIGNED_INTEGER
  SAMPLE_BITS = 8
  BANDS = 1
  BAND_STORAGE_TYPE = BAND_SEQUENTIAL
  MAXIMUM = 246
  MEAN = 149.259
  MINIMUM = 19
  STANDARD_DEVIATION = 21.6588
END_OBJECT = IMAGE
/* MAP OBJECT DEFINITIONS */
OBJECT = IMAGE_MAP_PROJECTION
  ^DATA_SET_MAP_PROJECTION_CATALOG= "DSMAP.CAT"
  A_AXIS_RADIUS = 3396.19
  B_AXIS_RADIUS = 3396.19
  C_AXIS_RADIUS = 3396.19
  CENTER_LATITUDE = 0.0
  CENTER_LONGITUDE = 320.0
  COORDINATE_SYSTEM_NAME = PLANETOGRAPHIC
  COORDINATE_SYSTEM_TYPE = "BODY-FIXED ROTATING"
  EASTERNMOST_LONGITUDE = 320.128
  FIRST_STANDARD_PARALLEL = "N/A"
  LINE_FIRST_PIXEL = 1
  LINE_LAST_PIXEL = 1756
  LINE_PROJECTION_OFFSET = -1795209.0
  MAP_PROJECTION_ROTATION = 0.0
  MAP_PROJECTION_TYPE = SINUSOIDAL
  MAP_RESOLUTION = 23709.8786048756
  MAP_SCALE = 0.0025
  MAXIMUM_LATITUDE = -75.8998
  MINIMUM_LATITUDE = -75.9684
  POSITIVE_LONGITUDE_DIRECTION = EAST
  REFERENCE_LATITUDE = "N/A"
  REFERENCE_LONGITUDE = "N/A"
  SAMPLE_FIRST_PIXEL = 1
  SAMPLE_LAST_PIXEL = 1767
  SAMPLE_PROJECTION_OFFSET = 819.0
  SECOND_STANDARD_PARALLEL = "N/A"
  WESTERNMOST_LONGITUDE = 319.844
END_OBJECT = IMAGE_MAP_PROJECTION
/* The JPEG2000 image data file associated with this label. */
OBJECT = COMPRESSED_FILE
  FILE_NAME = "H4625_0002_SR3.JP2"
  RECORD_TYPE = UNDEFINED
  FILE_RECORDS = UNK
  ENCODING_TYPE = "JP2"
  INTERCHANGE_FORMAT = BINARY
  UNCOMPRESSED_FILE_NAME = "H4625_0002_SR3.IMG"
  REQUIRED_STORAGE_BYTES = "3124056"
  ^DESCRIPTION = "JP2INFO.TXT"
END_OBJECT = COMPRESSED_FILE
END
