PDS_VERSION_ID = PDS3
/* FILE DATA ELEMENTS */
RECORD_TYPE = STREAM
/* POINTERS TO DATA OBJECTS */
^COMPRESSED_FILE = "H4625_0009_IR3.JP2"
/* IDENTIFICATION DATA ELEMENTS */
DATA_SET_ID = "MEX-M-HRSC-5-REFDR-MAPPROJECTED-V3.0"
DATA_SET_NAME = "MARS EXPRESS HRSC MAP PROJECTED REFDR V3.0"
DETECTOR_ID = MEX_HRSC_IR
EVENT_TYPE = "MARS-REGIONAL-COLOR-Fl-Lc"
INSTRUMENT_HOST_ID = MEX
INSTRUMENT_HOST_NAME = "MARS EXPRESS"
INSTRUMENT_ID = HRSC
INSTRUMENT_NAME = "HIGH RESOLUTION STEREO CAMERA"
MISSION_NAME = "MARS EXPRESS"
MISSION_PHASE_NAME = ME_Phase_9
PROCESSING_LEVEL_ID = 3
PRODUCT_CREATION_TIME = 2016-04-26T01:56:16.000Z
PRODUCT_ID = "H4625_0009_IR3.JP2"
RELEASE_ID = 0053
REVISION_ID = 0000
/* QUALITY DATA ELEMENTS */
DATA_QUALITY_ID = 1
DATA_QUALITY_DESC = "Data calculated based on original SPICE kernels"
/* TIME DATA ELEMENTS */
SPACECRAFT_CLOCK_START_COUNT = "1/0134848614.09073"
SPACECRAFT_CLOCK_STOP_COUNT = "1/0134849421.55471"
START_TIME = 2007-08-10T17:57:20.130Z
STOP_TIME = 2007-08-10T18:00:04.761Z
/* ORBITAL DATA ELEMENTS */
ASCENDING_NODE_LONGITUDE = 131.64
MAXIMUM_RESOLUTION = 94.4
FOOTPRINT_POINT_LATITUDE = (-29.8069,-29.812,-29.8144,-29.817, -29.8182,-29.8169,-29.8142,-29.8099, -29.804,-29.7966,-29.7876,-29.7771, -29.7391,-29.5718,-29.3208,-29.1539, -28.9879,-28.8213,-28.6571,-28.4913, -28.3257,-28.1598,-27.9943,-27.8292, -27.6649,-27.4994,-27.3361,-27.1719, -27.008,-26.7627,-26.4364,-26.2737, -26.0278,-25.8641,-25.7019,-25.5409, -25.3773,-25.215,-25.0531,-24.733, -24.4943,-24.3304,-24.0149,-23.6183, -23.3061,-22.9948,-22.6002,-22.2865, -21.9755,-21.6462,-21.6615,-21.6766, -21.6885,-21.7072,-21.7231,-21.7327, -21.739,-21.7448,-21.7542,-21.76, -21.763,-21.7675,-21.7708,-21.7735, -21.7742,-21.7745,-21.7743,-21.9276, -22.2353,-22.5436,-22.8534,-23.0864, -23.3977,-23.7884,-24.0236,-24.3392, -24.7351,-25.1307,-25.4407,-25.6743, -25.9916,-26.3909,-26.7123,-26.8732, -27.0372,-27.2057,-27.4545,-27.6155, -27.7789,-28.0243,-28.188,-28.3514, -28.5148,-28.7617,-28.9262,-29.1743, -29.3395,-29.5054,-29.7543,-29.8069)
FOOTPRINT_POINT_LONGITUDE = (325.642,325.994,326.214,326.566, 326.918,327.446,327.798,328.15,328.502, 328.855,329.208,329.562,329.81,329.811, 329.814,329.815,329.817,329.818,329.819 ,329.82,329.821,329.823,329.824,329.825 ,329.826,329.828,329.829,329.83,329.831 ,329.832,329.834,329.835,329.837, 329.838,329.839,329.839,329.841,329.842 ,329.842,329.843,329.843,329.845, 329.844,329.844,329.843,329.841,329.841 ,329.841,329.84,329.792,329.54,329.19, 328.939,328.538,328.139,327.839,327.64, 327.44,327.041,326.791,326.592,326.242, 325.993,325.643,325.393,325.043,324.793 ,324.688,324.714,324.739,324.765, 324.784,324.808,324.839,324.857,324.882 ,324.912,324.941,324.96,324.975,324.997 ,325.023,325.045,325.055,325.067,325.08 ,325.098,325.107,325.118,325.133, 325.143,325.153,325.163,325.177,325.187 ,325.201,325.211,325.22,325.234, 325.642)
ORBIT_NUMBER = 4625
ORBITAL_ECCENTRICITY = 0.57
ORBITAL_INCLINATION = 86.7
ORBITAL_SEMIMAJOR_AXIS = 8530.7
PERIAPSIS_ALTITUDE = 295.22
PERIAPSIS_ARGUMENT_ANGLE = 264.17
PERIAPSIS_TIME = 2007-08-10T17:39:51.000Z
SPACECRAFT_ORIENTATION = (0.0,-1.0,0.0)
^MEX_ORIENTATION_DESC = "MEX_ORIENTATION_DESC.TXT"
SPACECRAFT_POINTING_MODE = ACROSSTRACK
^MEX_POINTING_DESC = "MEX_POINTING_DESC.TXT"
RIGHT_ASCENSION = -1e+32
DECLINATION = -1e+32
OFFSET_ANGLE = -0.11
SPACECRAFT_SOLAR_DISTANCE = 2.11301e+08
TARGET_NAME = MARS
/* CAMERA DATA ELEMENTS */
DETECTOR_TEMPERATURE = 20.0017
FOCAL_PLANE_TEMPERATURE = 9.8067
INST_CMPRS_NAME = "DISCRETE COSINE TRANSFORMATION (DCT)"
INST_CMPRS_RATIO = 9.05432
INST_CMPRS_QUALITY = 0
INST_CMPRS_QUANTZ_TBL_ID = 0
INSTRUMENT_TEMPERATURE = 14.2925
LENS_TEMPERATURE = 10.8262
MACROPIXEL_SIZE = 2
MISSING_FRAMES = 0
PIXEL_SUBSAMPLING_FLAG = N
SIGNAL_CHAIN_ID = 3
/* RADIOMETRIC DATA ELEMENTS */
BANDWIDTH = 81.0
CENTER_FILTER_WAVELENGTH = 955.5
RADIANCE_OFFSET = 2.1724
RADIANCE_SCALING_FACTOR = 0.00315799
REFLECTANCE_SCALING_FACTOR = 0.000304192
MEX:REFLECTANCE_OFFSET = 0.209256
/* IMAGE OBJECT DEFINITIONS */
OBJECT = IMAGE
  INTERCHANGE_FORMAT = BINARY
  LINES = 4860
  LINE_SAMPLES = 3378
  SAMPLE_TYPE = UNSIGNED_INTEGER
  SAMPLE_BITS = 8
  BANDS = 1
  BAND_STORAGE_TYPE = BAND_SEQUENTIAL
  MAXIMUM = 255
  MEAN = 110.005
  MINIMUM = 1
  STANDARD_DEVIATION = 42.1472
END_OBJECT = IMAGE
/* MAP OBJECT DEFINITIONS */
OBJECT = IMAGE_MAP_PROJECTION
  ^DATA_SET_MAP_PROJECTION_CATALOG= "DSMAP.CAT"
  A_AXIS_RADIUS = 3396.0
  B_AXIS_RADIUS = 3396.0
  C_AXIS_RADIUS = 3396.0
  CENTER_LATITUDE = 0.0
  CENTER_LONGITUDE = 327.0
  COORDINATE_SYSTEM_NAME = PLANETOGRAPHIC
  COORDINATE_SYSTEM_TYPE = "BODY-FIXED ROTATING"
  EASTERNMOST_LONGITUDE = 329.845
  FIRST_STANDARD_PARALLEL = "N/A"
  LINE_FIRST_PIXEL = 1
  LINE_LAST_PIXEL = 4860
  LINE_PROJECTION_OFFSET = -12807.25
  MAP_PROJECTION_ROTATION = 0.0
  MAP_PROJECTION_TYPE = SINUSOIDAL
  MAP_RESOLUTION = 592.713803866667
  MAP_SCALE = 0.1
  MAXIMUM_LATITUDE = -21.6462
  MINIMUM_LATITUDE = -29.8182
  POSITIVE_LONGITUDE_DIRECTION = EAST
  REFERENCE_LATITUDE = "N/A"
  REFERENCE_LONGITUDE = "N/A"
  SAMPLE_FIRST_PIXEL = 1
  SAMPLE_LAST_PIXEL = 3378
  SAMPLE_PROJECTION_OFFSET = 1581.75
  SECOND_STANDARD_PARALLEL = "N/A"
  WESTERNMOST_LONGITUDE = 324.688
END_OBJECT = IMAGE_MAP_PROJECTION
/* The JPEG2000 image data file associated with this label. */
OBJECT = COMPRESSED_FILE
  FILE_NAME = "H4625_0009_IR3.JP2"
  RECORD_TYPE = UNDEFINED
  FILE_RECORDS = UNK
  ENCODING_TYPE = "JP2"
  INTERCHANGE_FORMAT = BINARY
  UNCOMPRESSED_FILE_NAME = "H4625_0009_IR3.IMG"
  REQUIRED_STORAGE_BYTES = "16440726"
  ^DESCRIPTION = "JP2INFO.TXT"
END_OBJECT = COMPRESSED_FILE
END
