PDS_VERSION_ID = PDS3
/* FILE DATA ELEMENTS */
RECORD_TYPE = STREAM
/* POINTERS TO DATA OBJECTS */
^COMPRESSED_FILE = "H4625_0009_RE3.JP2"
/* IDENTIFICATION DATA ELEMENTS */
DATA_SET_ID = "MEX-M-HRSC-5-REFDR-MAPPROJECTED-V3.0"
DATA_SET_NAME = "MARS EXPRESS HRSC MAP PROJECTED REFDR V3.0"
DETECTOR_ID = MEX_HRSC_RED
EVENT_TYPE = "MARS-REGIONAL-COLOR-Fl-Lc"
INSTRUMENT_HOST_ID = MEX
INSTRUMENT_HOST_NAME = "MARS EXPRESS"
INSTRUMENT_ID = HRSC
INSTRUMENT_NAME = "HIGH RESOLUTION STEREO CAMERA"
MISSION_NAME = "MARS EXPRESS"
MISSION_PHASE_NAME = ME_Phase_9
PROCESSING_LEVEL_ID = 3
PRODUCT_CREATION_TIME = 2016-04-26T01:56:16.000Z
PRODUCT_ID = "H4625_0009_RE3.JP2"
RELEASE_ID = 0053
REVISION_ID = 0000
/* QUALITY DATA ELEMENTS */
DATA_QUALITY_ID = 1
DATA_QUALITY_DESC = "Data calculated based on original SPICE kernels"
/* TIME DATA ELEMENTS */
SPACECRAFT_CLOCK_START_COUNT = "1/0134848614.09073"
SPACECRAFT_CLOCK_STOP_COUNT = "1/0134849421.55471"
START_TIME = 2007-08-10T18:02:56.456Z
STOP_TIME = 2007-08-10T18:08:18.314Z
/* ORBITAL DATA ELEMENTS */
ASCENDING_NODE_LONGITUDE = 131.64
MAXIMUM_RESOLUTION = 136.5
FOOTPRINT_POINT_LATITUDE = (-29.8466,-29.8379,-29.8291,-29.8202, -29.8111,-29.802,-29.7927,-29.7833, -29.7715,-29.7619,-29.7522,-29.7424, -29.7325,-29.7226,-29.7126,-29.7024, -29.6844,-29.674,-29.6634,-29.6528, -29.6419,-29.631,-29.6199,-29.6087, -29.5408,-29.3573,-29.1745,-28.9924, -28.8115,-28.6307,-28.4512,-28.0951, -27.7418,-27.3914,-27.045,-26.7864, -26.2829,-25.8647,-25.5385,-25.2129, -24.8934,-24.4958,-24.1827,-23.947, -23.563,-23.257,-22.9605,-22.6584, -22.3652,-22.0712,-21.6295,-21.5049, -21.5302,-21.5525,-21.5737,-21.5892, -21.6039,-21.6276,-21.6483,-21.663, -21.6788,-21.6945,-21.7167,-21.7384, -21.7603,-21.7831,-21.8059,-21.8359, -21.8686,-21.8985,-21.9221,-21.9587, -21.9794,-22.0027,-22.0277,-22.2543, -22.5302,-22.8082,-23.0899,-23.3741, -23.6619,-23.9531,-24.2471,-24.5446, -24.8451,-25.1491,-25.4561,-25.7676, -26.1631,-26.6444,-26.9692,-27.2977, -27.7175,-27.9705,-28.3133,-28.6612, -28.9987,-29.345,-29.6094,-29.8466)
FOOTPRINT_POINT_LONGITUDE = (324.559,324.815,325.071,325.327, 325.582,325.837,326.091,326.346,326.665 ,326.919,327.174,327.428,327.683, 327.937,328.191,328.446,328.891,329.145 ,329.4,329.655,329.911,330.167,330.423, 330.68,330.917,330.928,330.94,330.951, 330.962,330.973,330.984,331.006,331.028 ,331.049,331.07,331.086,331.121,331.148 ,331.172,331.194,331.218,331.246,331.27 ,331.286,331.315,331.338,331.363, 331.385,331.409,331.432,331.462,331.162 ,330.764,330.367,330.051,329.733, 329.497,329.183,328.869,328.634,328.398 ,328.163,327.85,327.536,327.223,326.91, 326.596,326.204,325.733,325.341,325.027 ,324.554,324.239,323.924,323.607, 323.371,323.411,323.451,323.491,323.531 ,323.571,323.61,323.65,323.689,323.728, 323.767,323.806,323.844,323.891,323.948 ,323.985,324.022,324.066,324.093, 324.128,324.162,324.201,324.237,324.264 ,324.559)
ORBIT_NUMBER = 4625
ORBITAL_ECCENTRICITY = 0.57
ORBITAL_INCLINATION = 86.7
ORBITAL_SEMIMAJOR_AXIS = 8530.7
PERIAPSIS_ALTITUDE = 295.22
PERIAPSIS_ARGUMENT_ANGLE = 264.17
PERIAPSIS_TIME = 2007-08-10T17:39:51.000Z
SPACECRAFT_ORIENTATION = (0.0,-1.0,0.0)
^MEX_ORIENTATION_DESC = "MEX_ORIENTATION_DESC.TXT"
SPACECRAFT_POINTING_MODE = ACROSSTRACK
^MEX_POINTING_DESC = "MEX_POINTING_DESC.TXT"
RIGHT_ASCENSION = -1e+32
DECLINATION = -1e+32
OFFSET_ANGLE = -0.11
SPACECRAFT_SOLAR_DISTANCE = 2.11301e+08
TARGET_NAME = MARS
/* CAMERA DATA ELEMENTS */
DETECTOR_TEMPERATURE = 21.6329
FOCAL_PLANE_TEMPERATURE = 9.8067
INST_CMPRS_NAME = "DISCRETE COSINE TRANSFORMATION (DCT)"
INST_CMPRS_RATIO = 11.4657
INST_CMPRS_QUALITY = 0
INST_CMPRS_QUANTZ_TBL_ID = 0
INSTRUMENT_TEMPERATURE = 14.2925
LENS_TEMPERATURE = 10.8262
MACROPIXEL_SIZE = 2
MISSING_FRAMES = 0
PIXEL_SUBSAMPLING_FLAG = N
SIGNAL_CHAIN_ID = 3
/* RADIOMETRIC DATA ELEMENTS */
BANDWIDTH = 48.0
CENTER_FILTER_WAVELENGTH = 748.0
RADIANCE_OFFSET = 2.43883
RADIANCE_SCALING_FACTOR = 0.00374592
REFLECTANCE_SCALING_FACTOR = 0.000381677
MEX:REFLECTANCE_OFFSET = 0.248496
/* IMAGE OBJECT DEFINITIONS */
OBJECT = IMAGE
  INTERCHANGE_FORMAT = BINARY
  LINES = 4860
  LINE_SAMPLES = 3378
  SAMPLE_TYPE = UNSIGNED_INTEGER
  SAMPLE_BITS = 8
  BANDS = 1
  BAND_STORAGE_TYPE = BAND_SEQUENTIAL
  MAXIMUM = 225
  MEAN = 90.5238
  MINIMUM = 1
  STANDARD_DEVIATION = 39.6481
END_OBJECT = IMAGE
/* MAP OBJECT DEFINITIONS */
OBJECT = IMAGE_MAP_PROJECTION
  ^DATA_SET_MAP_PROJECTION_CATALOG= "DSMAP.CAT"
  A_AXIS_RADIUS = 3396.0
  B_AXIS_RADIUS = 3396.0
  C_AXIS_RADIUS = 3396.0
  CENTER_LATITUDE = 0.0
  CENTER_LONGITUDE = 327.0
  COORDINATE_SYSTEM_NAME = PLANETOGRAPHIC
  COORDINATE_SYSTEM_TYPE = "BODY-FIXED ROTATING"
  EASTERNMOST_LONGITUDE = 331.462
  FIRST_STANDARD_PARALLEL = "N/A"
  LINE_FIRST_PIXEL = 1
  LINE_LAST_PIXEL = 4860
  LINE_PROJECTION_OFFSET = -12807.25
  MAP_PROJECTION_ROTATION = 0.0
  MAP_PROJECTION_TYPE = SINUSOIDAL
  MAP_RESOLUTION = 592.713803866667
  MAP_SCALE = 0.1
  MAXIMUM_LATITUDE = -21.5049
  MINIMUM_LATITUDE = -29.8466
  POSITIVE_LONGITUDE_DIRECTION = EAST
  REFERENCE_LATITUDE = "N/A"
  REFERENCE_LONGITUDE = "N/A"
  SAMPLE_FIRST_PIXEL = 1
  SAMPLE_LAST_PIXEL = 3378
  SAMPLE_PROJECTION_OFFSET = 1581.75
  SECOND_STANDARD_PARALLEL = "N/A"
  WESTERNMOST_LONGITUDE = 323.371
END_OBJECT = IMAGE_MAP_PROJECTION
/* The JPEG2000 image data file associated with this label. */
OBJECT = COMPRESSED_FILE
  FILE_NAME = "H4625_0009_RE3.JP2"
  RECORD_TYPE = UNDEFINED
  FILE_RECORDS = UNK
  ENCODING_TYPE = "JP2"
  INTERCHANGE_FORMAT = BINARY
  UNCOMPRESSED_FILE_NAME = "H4625_0009_RE3.IMG"
  REQUIRED_STORAGE_BYTES = "16440726"
  ^DESCRIPTION = "JP2INFO.TXT"
END_OBJECT = COMPRESSED_FILE
END
