PDS_VERSION_ID = PDS3
/* FILE DATA ELEMENTS */
RECORD_TYPE = STREAM
/* POINTERS TO DATA OBJECTS */
^COMPRESSED_FILE = "H4632_0000_GR3.JP2"
/* IDENTIFICATION DATA ELEMENTS */
DATA_SET_ID = "MEX-M-HRSC-5-REFDR-MAPPROJECTED-V3.0"
DATA_SET_NAME = "MARS EXPRESS HRSC MAP PROJECTED REFDR V3.0"
DETECTOR_ID = MEX_HRSC_GREEN
EVENT_TYPE = "MARS-REGIONAL-MAPPING-Gl-Pf"
INSTRUMENT_HOST_ID = MEX
INSTRUMENT_HOST_NAME = "MARS EXPRESS"
INSTRUMENT_ID = HRSC
INSTRUMENT_NAME = "HIGH RESOLUTION STEREO CAMERA"
MISSION_NAME = "MARS EXPRESS"
MISSION_PHASE_NAME = ME_Phase_9
PROCESSING_LEVEL_ID = 3
PRODUCT_CREATION_TIME = 2016-04-26T01:56:16.000Z
PRODUCT_ID = "H4632_0000_GR3.JP2"
RELEASE_ID = 0053
REVISION_ID = 0000
/* QUALITY DATA ELEMENTS */
DATA_QUALITY_ID = 2
DATA_QUALITY_DESC = "Data calculated based on photogrammetrically improved orbit and attitude data"
/* TIME DATA ELEMENTS */
SPACECRAFT_CLOCK_START_COUNT = "1/0135017144.08246"
SPACECRAFT_CLOCK_STOP_COUNT = "1/0135017408.54536"
START_TIME = 2007-08-12T16:46:13.080Z
STOP_TIME = 2007-08-12T16:49:15.969Z
/* ORBITAL DATA ELEMENTS */
ASCENDING_NODE_LONGITUDE = 131.5
MAXIMUM_RESOLUTION = 54.7
FOOTPRINT_POINT_LATITUDE = (-80.4123,-80.5031,-80.6135,-80.7079, -80.648,-80.4517,-80.2551,-80.0584, -79.7628,-79.5655,-79.2692,-79.0717, -78.874,-78.6762,-78.4783,-78.1814, -77.9835,-77.6863,-77.4664,-77.23, -76.9936,-76.7572,-76.5208,-76.2845, -75.93,-75.6936,-75.4578,-75.2217, -74.9858,-74.75,-74.5143,-74.1612, -73.9258,-73.6908,-73.4558,-73.221, -72.9847,-72.744,-72.3831,-72.1428, -71.8992,-71.653,-71.4071,-71.1613, -70.9111,-70.6595,-70.4086,-70.0287, -69.7719,-69.3161,-69.2821,-69.2419, -69.2076,-69.1471,-69.2253,-69.4797, -69.7344,-69.9881,-70.237,-70.6106, -70.8594,-71.1031,-71.3467,-71.5905, -71.833,-72.0706,-72.3084,-72.5466, -72.7851,-73.0174,-73.2491,-73.4817, -73.83,-74.0626,-74.295,-74.5275, -74.7601,-75.1089,-75.4574,-75.6898, -75.9225,-76.1553,-76.387,-76.619, -76.8509,-77.0828,-77.3086,-77.6958, -77.8891,-78.1782,-78.4685,-78.6613, -78.8539,-79.0453,-79.2373,-79.4287, -79.7152,-79.9058,-80.0947,-80.4123)
FOOTPRINT_POINT_LONGITUDE = (342.3,343.66,345.473,347.202,348.485, 348.847,349.194,349.527,350.003,350.304 ,350.739,351.009,351.272,351.527, 351.771,352.121,352.345,352.667,352.896 ,353.13,353.357,353.575,353.786,353.989 ,354.28,354.468,354.644,354.818,354.985 ,355.148,355.305,355.528,355.673, 355.811,355.947,356.078,356.209,356.334 ,356.518,356.636,356.752,356.866, 356.977,357.084,357.192,357.297,357.395 ,357.542,357.638,357.804,356.951, 356.059,355.373,354.287,353.417,353.302 ,353.184,353.061,352.938,352.746, 352.611,352.479,352.341,352.2,352.053, 351.905,351.753,351.596,351.437,351.275 ,351.106,350.935,350.664,350.478, 350.284,350.084,349.877,349.553,349.211 ,348.973,348.727,348.474,348.206, 347.931,347.645,347.348,347.048,346.5, 346.213,345.76,345.291,344.962,344.621, 344.264,343.897,343.516,342.915,342.496 ,342.054,342.3)
ORBIT_NUMBER = 4632
ORBITAL_ECCENTRICITY = 0.57
ORBITAL_INCLINATION = 86.69
ORBITAL_SEMIMAJOR_AXIS = 8531.25
PERIAPSIS_ALTITUDE = 295.54
PERIAPSIS_ARGUMENT_ANGLE = 262.93
PERIAPSIS_TIME = 2007-08-12T16:42:17.000Z
SPACECRAFT_ORIENTATION = (0.0,-1.0,0.0)
^MEX_ORIENTATION_DESC = "MEX_ORIENTATION_DESC.TXT"
SPACECRAFT_POINTING_MODE = NADIR
^MEX_POINTING_DESC = "MEX_POINTING_DESC.TXT"
RIGHT_ASCENSION = -1e+32
DECLINATION = -1e+32
OFFSET_ANGLE = -1e+32
SPACECRAFT_SOLAR_DISTANCE = 2.11561e+08
TARGET_NAME = MARS
/* CAMERA DATA ELEMENTS */
DETECTOR_TEMPERATURE = 18.3705
FOCAL_PLANE_TEMPERATURE = 8.1755
INST_CMPRS_NAME = "DISCRETE COSINE TRANSFORMATION (DCT)"
INST_CMPRS_RATIO = 21.9105
INST_CMPRS_QUALITY = 0
INST_CMPRS_QUANTZ_TBL_ID = 0
INSTRUMENT_TEMPERATURE = 11.234
LENS_TEMPERATURE = 8.5833
MACROPIXEL_SIZE = 4
MISSING_FRAMES = 0
PIXEL_SUBSAMPLING_FLAG = N
SIGNAL_CHAIN_ID = 2
/* RADIOMETRIC DATA ELEMENTS */
BANDWIDTH = 88.0
CENTER_FILTER_WAVELENGTH = 538.0
RADIANCE_OFFSET = 1.9826
RADIANCE_SCALING_FACTOR = 0.010676
REFLECTANCE_SCALING_FACTOR = 0.000411402
MEX:REFLECTANCE_OFFSET = 0.0764001
/* IMAGE OBJECT DEFINITIONS */
OBJECT = IMAGE
  INTERCHANGE_FORMAT = BINARY
  LINES = 13806
  LINE_SAMPLES = 4485
  SAMPLE_TYPE = UNSIGNED_INTEGER
  SAMPLE_BITS = 8
  BANDS = 1
  BAND_STORAGE_TYPE = BAND_SEQUENTIAL
  MAXIMUM = 255
  MEAN = 56.8203
  MINIMUM = 1
  STANDARD_DEVIATION = 18.6681
END_OBJECT = IMAGE
/* MAP OBJECT DEFINITIONS */
OBJECT = IMAGE_MAP_PROJECTION
  ^DATA_SET_MAP_PROJECTION_CATALOG= "DSMAP.CAT"
  A_AXIS_RADIUS = 3396.0
  B_AXIS_RADIUS = 3396.0
  C_AXIS_RADIUS = 3396.0
  CENTER_LATITUDE = 0.0
  CENTER_LONGITUDE = 352.0
  COORDINATE_SYSTEM_NAME = PLANETOGRAPHIC
  COORDINATE_SYSTEM_TYPE = "BODY-FIXED ROTATING"
  EASTERNMOST_LONGITUDE = 357.804
  FIRST_STANDARD_PARALLEL = "N/A"
  LINE_FIRST_PIXEL = 1
  LINE_LAST_PIXEL = 13806
  LINE_PROJECTION_OFFSET = -81900.125
  MAP_PROJECTION_ROTATION = 0.0
  MAP_PROJECTION_TYPE = SINUSOIDAL
  MAP_RESOLUTION = 1185.42760773333
  MAP_SCALE = 0.05
  MAXIMUM_LATITUDE = -69.14709999999999
  MINIMUM_LATITUDE = -80.7079
  POSITIVE_LONGITUDE_DIRECTION = EAST
  REFERENCE_LATITUDE = "N/A"
  REFERENCE_LONGITUDE = "N/A"
  SAMPLE_FIRST_PIXEL = 1
  SAMPLE_LAST_PIXEL = 4485
  SAMPLE_PROJECTION_OFFSET = 2061.875
  SECOND_STANDARD_PARALLEL = "N/A"
  WESTERNMOST_LONGITUDE = 342.054
END_OBJECT = IMAGE_MAP_PROJECTION
/* The JPEG2000 image data file associated with this label. */
OBJECT = COMPRESSED_FILE
  FILE_NAME = "H4632_0000_GR3.JP2"
  RECORD_TYPE = UNDEFINED
  FILE_RECORDS = UNK
  ENCODING_TYPE = "JP2"
  INTERCHANGE_FORMAT = BINARY
  UNCOMPRESSED_FILE_NAME = "H4632_0000_GR3.IMG"
  REQUIRED_STORAGE_BYTES = "61946820"
  ^DESCRIPTION = "JP2INFO.TXT"
END_OBJECT = COMPRESSED_FILE
END
