PDS_VERSION_ID = PDS3
/* FILE DATA ELEMENTS */
RECORD_TYPE = STREAM
/* POINTERS TO DATA OBJECTS */
^COMPRESSED_FILE = "H4633_0005_SR3.JP2"
/* IDENTIFICATION DATA ELEMENTS */
DATA_SET_ID = "MEX-M-HRSC-5-REFDR-MAPPROJECTED-V3.0"
DATA_SET_NAME = "MARS EXPRESS HRSC MAP PROJECTED REFDR V3.0"
DETECTOR_ID = MEX_HRSC_SRC
EVENT_TYPE = "MARS-REGIONAL-MAPPING-Gl-Pf-Eo"
INSTRUMENT_HOST_ID = MEX
INSTRUMENT_HOST_NAME = "MARS EXPRESS"
INSTRUMENT_ID = HRSC
INSTRUMENT_NAME = "HIGH RESOLUTION STEREO CAMERA"
MISSION_NAME = "MARS EXPRESS"
MISSION_PHASE_NAME = ME_Phase_9
PROCESSING_LEVEL_ID = 3
PRODUCT_CREATION_TIME = 2016-04-26T01:56:16.000Z
PRODUCT_ID = "H4633_0005_SR3.JP2"
RELEASE_ID = 0053
REVISION_ID = 0000
/* QUALITY DATA ELEMENTS */
DATA_QUALITY_ID = 1
DATA_QUALITY_DESC = "Data calculated based on original SPICE kernels"
/* TIME DATA ELEMENTS */
SPACECRAFT_CLOCK_START_COUNT = "1/0135041305.07284"
SPACECRAFT_CLOCK_STOP_COUNT = "1/0135041556.14226"
IMAGE_TIME = 2007-08-12T23:29:35.350Z
START_TIME = 2007-08-12T23:29:35.348Z
STOP_TIME = 2007-08-12T23:29:35.353Z
/* ORBITAL DATA ELEMENTS */
ASCENDING_NODE_LONGITUDE = 131.48
MAXIMUM_RESOLUTION = 3.152
FOOTPRINT_POINT_LATITUDE = (-80.478,-80.4793,-80.4809,-80.4833, -80.4853,-80.487,-80.4898,-80.492, -80.4935,-80.4957,-80.4973,-80.4993, -80.5006,-80.5024,-80.5048,-80.5063, -80.5083,-80.5112,-80.513,-80.5152, -80.517,-80.5199,-80.5222,-80.5241, -80.5254,-80.527,-80.5272,-80.5265, -80.5256,-80.5248,-80.5241,-80.5234, -80.5225,-80.5217,-80.521,-80.5205, -80.5198,-80.5188,-80.5181,-80.5174, -80.5167,-80.5159,-80.5152,-80.5145, -80.5135,-80.5128,-80.5123,-80.5115, -80.5108,-80.5101,-80.508,-80.5051, -80.5035,-80.5016,-80.5003,-80.4979, -80.4964,-80.4945,-80.4914,-80.4891, -80.4878,-80.4859,-80.4844,-80.4817, -80.4799,-80.4771,-80.4751,-80.4726, -80.4711,-80.4693,-80.467,-80.4655, -80.4631,-80.4612,-80.4592,-80.4602, -80.4609,-80.4614,-80.462,-80.4629, -80.4636,-80.4643,-80.4651,-80.4658, -80.4665,-80.4672,-80.468,-80.4689, -80.4696,-80.4703,-80.4709,-80.4718, -80.4725,-80.473,-80.4739,-80.4745, -80.475,-80.4757,-80.4766,-80.478)
FOOTPRINT_POINT_LONGITUDE = (246.855,246.852,246.849,246.844, 246.839,246.836,246.83,246.825,246.822, 246.817,246.813,246.809,246.806,246.802 ,246.797,246.794,246.789,246.783, 246.779,246.775,246.771,246.764,246.759 ,246.755,246.752,246.749,246.734, 246.722,246.707,246.694,246.682,246.67, 246.655,246.643,246.63,246.621,246.609, 246.594,246.582,246.569,246.557,246.545 ,246.533,246.521,246.505,246.493, 246.484,246.472,246.46,246.448,246.44, 246.446,246.45,246.454,246.457,246.462, 246.465,246.47,246.476,246.482,246.484, 246.488,246.492,246.498,246.502,246.508 ,246.512,246.518,246.521,246.525,246.53 ,246.533,246.539,246.543,246.554, 246.569,246.582,246.591,246.6,246.615, 246.627,246.639,246.651,246.663,246.676 ,246.688,246.7,246.715,246.727,246.739, 246.748,246.764,246.776,246.785,246.8, 246.809,246.818,246.831,246.846, 246.855)
ORBIT_NUMBER = 4633
ORBITAL_ECCENTRICITY = 0.57
ORBITAL_INCLINATION = 86.69
ORBITAL_SEMIMAJOR_AXIS = 8532.36
PERIAPSIS_ALTITUDE = 295.02
PERIAPSIS_ARGUMENT_ANGLE = 262.77
PERIAPSIS_TIME = 2007-08-12T23:25:31.000Z
SPACECRAFT_ORIENTATION = (0.0,-1.0,0.0)
^MEX_ORIENTATION_DESC = "MEX_ORIENTATION_DESC.TXT"
SPACECRAFT_POINTING_MODE = NADIR
^MEX_POINTING_DESC = "MEX_POINTING_DESC.TXT"
RIGHT_ASCENSION = -1e+32
DECLINATION = -1e+32
OFFSET_ANGLE = -1e+32
SPACECRAFT_SOLAR_DISTANCE = 2.11598e+08
TARGET_NAME = MARS
/* CAMERA DATA ELEMENTS */
BUFFER_MODE_ID = BUFFER_8
EXPOSURE_DURATION = 5.04
INST_CMPRS_NAME = NONE
INST_CMPRS_RATIO = 1.0
INST_CMPRS_QUALITY = -2147483648
INST_CMPRS_QUANTZ_TBL_ID = -2147483648
INSTRUMENT_TEMPERATURE = 8.73405
MISSING_FRAMES = 0
START_BIT = 0
/* RADIOMETRIC DATA ELEMENTS */
BANDWIDTH = 250.0
CENTER_FILTER_WAVELENGTH = 600.0
RADIANCE_OFFSET = -9.99e+31
RADIANCE_SCALING_FACTOR = -9.99e+31
REFLECTANCE_SCALING_FACTOR = -9.99e+31
MEX:REFLECTANCE_OFFSET = -9.99e+31
/* IMAGE OBJECT DEFINITIONS */
OBJECT = IMAGE
  INTERCHANGE_FORMAT = BINARY
  LINES = 1770
  LINE_SAMPLES = 1773
  SAMPLE_TYPE = UNSIGNED_INTEGER
  SAMPLE_BITS = 8
  BANDS = 1
  BAND_STORAGE_TYPE = BAND_SEQUENTIAL
  MAXIMUM = 245
  MEAN = 148.248
  MINIMUM = 15
  STANDARD_DEVIATION = 17.8466
END_OBJECT = IMAGE
/* MAP OBJECT DEFINITIONS */
OBJECT = IMAGE_MAP_PROJECTION
  ^DATA_SET_MAP_PROJECTION_CATALOG= "DSMAP.CAT"
  A_AXIS_RADIUS = 3396.19
  B_AXIS_RADIUS = 3396.19
  C_AXIS_RADIUS = 3396.19
  CENTER_LATITUDE = 0.0
  CENTER_LONGITUDE = 247.0
  COORDINATE_SYSTEM_NAME = PLANETOGRAPHIC
  COORDINATE_SYSTEM_TYPE = "BODY-FIXED ROTATING"
  EASTERNMOST_LONGITUDE = 246.855
  FIRST_STANDARD_PARALLEL = "N/A"
  LINE_FIRST_PIXEL = 1
  LINE_LAST_PIXEL = 1770
  LINE_PROJECTION_OFFSET = -1902657.0
  MAP_PROJECTION_ROTATION = 0.0
  MAP_PROJECTION_TYPE = SINUSOIDAL
  MAP_RESOLUTION = 23709.8786048756
  MAP_SCALE = 0.0025
  MAXIMUM_LATITUDE = -80.4592
  MINIMUM_LATITUDE = -80.52719999999999
  POSITIVE_LONGITUDE_DIRECTION = EAST
  REFERENCE_LATITUDE = "N/A"
  REFERENCE_LONGITUDE = "N/A"
  SAMPLE_FIRST_PIXEL = 1
  SAMPLE_LAST_PIXEL = 1773
  SAMPLE_PROJECTION_OFFSET = 2270.0
  SECOND_STANDARD_PARALLEL = "N/A"
  WESTERNMOST_LONGITUDE = 246.44
END_OBJECT = IMAGE_MAP_PROJECTION
/* The JPEG2000 image data file associated with this label. */
OBJECT = COMPRESSED_FILE
  FILE_NAME = "H4633_0005_SR3.JP2"
  RECORD_TYPE = UNDEFINED
  FILE_RECORDS = UNK
  ENCODING_TYPE = "JP2"
  INTERCHANGE_FORMAT = BINARY
  UNCOMPRESSED_FILE_NAME = "H4633_0005_SR3.IMG"
  REQUIRED_STORAGE_BYTES = "3159486"
  ^DESCRIPTION = "JP2INFO.TXT"
END_OBJECT = COMPRESSED_FILE
END
