PDS_VERSION_ID = PDS3
/* FILE DATA ELEMENTS */
RECORD_TYPE = STREAM
/* POINTERS TO DATA OBJECTS */
^COMPRESSED_FILE = "H4636_0009_P13.JP2"
/* IDENTIFICATION DATA ELEMENTS */
DATA_SET_ID = "MEX-M-HRSC-5-REFDR-MAPPROJECTED-V3.0"
DATA_SET_NAME = "MARS EXPRESS HRSC MAP PROJECTED REFDR V3.0"
DETECTOR_ID = MEX_HRSC_P1
EVENT_TYPE = "MARS-REGIONAL-MAPPING-Gl-La"
INSTRUMENT_HOST_ID = MEX
INSTRUMENT_HOST_NAME = "MARS EXPRESS"
INSTRUMENT_ID = HRSC
INSTRUMENT_NAME = "HIGH RESOLUTION STEREO CAMERA"
MISSION_NAME = "MARS EXPRESS"
MISSION_PHASE_NAME = ME_Phase_9
PROCESSING_LEVEL_ID = 3
PRODUCT_CREATION_TIME = 2016-04-26T01:56:16.000Z
PRODUCT_ID = "H4636_0009_P13.JP2"
RELEASE_ID = 0053
REVISION_ID = 0000
/* QUALITY DATA ELEMENTS */
DATA_QUALITY_ID = 1
DATA_QUALITY_DESC = "Data calculated based on original SPICE kernels"
/* TIME DATA ELEMENTS */
SPACECRAFT_CLOCK_START_COUNT = "1/0135113868.08254"
SPACECRAFT_CLOCK_STOP_COUNT = "1/0135114028.30310"
START_TIME = 2007-08-13T19:38:01.617Z
STOP_TIME = 2007-08-13T19:39:33.124Z
/* ORBITAL DATA ELEMENTS */
ASCENDING_NODE_LONGITUDE = 131.42
MAXIMUM_RESOLUTION = 26.2
FOOTPRINT_POINT_LATITUDE = (-83.8228,-83.9502,-84.1007,-84.1889, -84.2634,-84.3055,-84.2033,-84.1008, -83.9975,-83.8939,-83.7375,-83.5799, -83.4712,-83.3618,-83.2521,-83.0859, -82.975,-82.8085,-82.6972,-82.5846, -82.4162,-82.2489,-82.1364,-82.0236, -81.9104,-81.7972,-81.6806,-81.5046, -81.3871,-81.2693,-81.0926,-80.9746, -80.8564,-80.7382,-80.6198,-80.5012, -80.3825,-80.2636,-80.1446,-79.9662, -79.8471,-79.7279,-79.5488,-79.4295, -79.31,-79.1905,-79.0709,-78.9513, -78.8315,-78.7118,-78.5921,-78.5486, -78.5004,-78.4528,-78.4126,-78.3488, -78.2737,-78.3582,-78.4749,-78.6499, -78.7665,-78.941,-79.0572,-79.2311, -79.4045,-79.5202,-79.6356,-79.7509, -79.8659,-79.9808,-80.0956,-80.2664, -80.4382,-80.5518,-80.6653,-80.8914, -81.0602,-81.1725,-81.3401,-81.448, -81.5556,-81.7162,-81.8214,-81.9297, -82.0888,-82.2471,-82.352,-82.456, -82.5581,-82.6616,-82.765,-82.9184, -83.0187,-83.1158,-83.2133,-83.311, -83.4543,-83.549,-83.6427,-83.8228)
FOOTPRINT_POINT_LONGITUDE = (295.251,296.884,299.003,300.359, 301.581,303.621,304.178,304.714,305.234 ,305.736,306.458,307.147,307.6,308.039, 308.464,309.083,309.476,310.04,310.402, 310.76,311.269,311.744,312.055,312.357, 312.652,312.937,313.222,313.636,313.902 ,314.162,314.537,314.779,315.015, 315.244,315.467,315.686,315.898,316.106 ,316.309,316.602,316.792,316.978, 317.249,317.424,317.595,317.762,317.925 ,318.085,318.241,318.394,318.543, 317.721,316.78,315.906,315.212,314.18, 313.047,312.386,312.192,311.894,311.689 ,311.374,311.157,310.824,310.479, 310.242,310.0,309.752,309.499,309.239, 308.973,308.561,308.135,307.841,307.541 ,306.916,306.426,306.088,305.566, 305.218,304.86,304.305,303.923,303.53, 302.921,302.286,301.848,301.397,300.935 ,300.458,299.967,299.204,298.678, 298.154,297.613,297.054,296.188,295.589 ,294.972,295.251)
ORBIT_NUMBER = 4636
ORBITAL_ECCENTRICITY = 0.57
ORBITAL_INCLINATION = 86.7
ORBITAL_SEMIMAJOR_AXIS = 8531.53
PERIAPSIS_ALTITUDE = 295.46
PERIAPSIS_ARGUMENT_ANGLE = 262.27
PERIAPSIS_TIME = 2007-08-13T19:35:08.000Z
SPACECRAFT_ORIENTATION = (0.0,-1.0,0.0)
^MEX_ORIENTATION_DESC = "MEX_ORIENTATION_DESC.TXT"
SPACECRAFT_POINTING_MODE = NADIR
^MEX_POINTING_DESC = "MEX_POINTING_DESC.TXT"
RIGHT_ASCENSION = -1e+32
DECLINATION = -1e+32
OFFSET_ANGLE = -1e+32
SPACECRAFT_SOLAR_DISTANCE = 2.11711e+08
TARGET_NAME = MARS
/* CAMERA DATA ELEMENTS */
DETECTOR_TEMPERATURE = 17.7588
FOCAL_PLANE_TEMPERATURE = 8.5833
INST_CMPRS_NAME = "DISCRETE COSINE TRANSFORMATION (DCT)"
INST_CMPRS_RATIO = 12.8687
INST_CMPRS_QUALITY = 0
INST_CMPRS_QUANTZ_TBL_ID = 0
INSTRUMENT_TEMPERATURE = 12.2535
LENS_TEMPERATURE = 8.9911
MACROPIXEL_SIZE = 2
MISSING_FRAMES = 0
PIXEL_SUBSAMPLING_FLAG = N
SIGNAL_CHAIN_ID = 3
/* RADIOMETRIC DATA ELEMENTS */
BANDWIDTH = 174.0
CENTER_FILTER_WAVELENGTH = 675.0
RADIANCE_OFFSET = 5.73085
RADIANCE_SCALING_FACTOR = 0.0331434
REFLECTANCE_SCALING_FACTOR = 0.000799044
MEX:REFLECTANCE_OFFSET = 0.138163
/* IMAGE OBJECT DEFINITIONS */
OBJECT = IMAGE
  INTERCHANGE_FORMAT = BINARY
  LINES = 14333
  LINE_SAMPLES = 7945
  SAMPLE_TYPE = UNSIGNED_INTEGER
  SAMPLE_BITS = 8
  BANDS = 1
  BAND_STORAGE_TYPE = BAND_SEQUENTIAL
  MAXIMUM = 254
  MEAN = 54.6274
  MINIMUM = 1
  STANDARD_DEVIATION = 57.1049
END_OBJECT = IMAGE
/* MAP OBJECT DEFINITIONS */
OBJECT = IMAGE_MAP_PROJECTION
  ^DATA_SET_MAP_PROJECTION_CATALOG= "DSMAP.CAT"
  A_AXIS_RADIUS = 3396.0
  B_AXIS_RADIUS = 3396.0
  C_AXIS_RADIUS = 3396.0
  CENTER_LATITUDE = 0.0
  CENTER_LONGITUDE = 310.0
  COORDINATE_SYSTEM_NAME = PLANETOGRAPHIC
  COORDINATE_SYSTEM_TYPE = "BODY-FIXED ROTATING"
  EASTERNMOST_LONGITUDE = 318.543
  FIRST_STANDARD_PARALLEL = "N/A"
  LINE_FIRST_PIXEL = 1
  LINE_LAST_PIXEL = 14333
  LINE_PROJECTION_OFFSET = -185462.25
  MAP_PROJECTION_ROTATION = 0.0
  MAP_PROJECTION_TYPE = SINUSOIDAL
  MAP_RESOLUTION = 2370.85521546667
  MAP_SCALE = 0.025
  MAXIMUM_LATITUDE = -78.27370000000001
  MINIMUM_LATITUDE = -84.30549999999999
  POSITIVE_LONGITUDE_DIRECTION = EAST
  REFERENCE_LATITUDE = "N/A"
  REFERENCE_LONGITUDE = "N/A"
  SAMPLE_FIRST_PIXEL = 1
  SAMPLE_LAST_PIXEL = 7945
  SAMPLE_PROJECTION_OFFSET = 3935.75
  SECOND_STANDARD_PARALLEL = "N/A"
  WESTERNMOST_LONGITUDE = 294.972
END_OBJECT = IMAGE_MAP_PROJECTION
/* The JPEG2000 image data file associated with this label. */
OBJECT = COMPRESSED_FILE
  FILE_NAME = "H4636_0009_P13.JP2"
  RECORD_TYPE = UNDEFINED
  FILE_RECORDS = UNK
  ENCODING_TYPE = "JP2"
  INTERCHANGE_FORMAT = BINARY
  UNCOMPRESSED_FILE_NAME = "H4636_0009_P13.IMG"
  REQUIRED_STORAGE_BYTES = "113907465"
  ^DESCRIPTION = "JP2INFO.TXT"
END_OBJECT = COMPRESSED_FILE
END
