PDS_VERSION_ID = PDS3
/* FILE DATA ELEMENTS */
RECORD_TYPE = STREAM
/* POINTERS TO DATA OBJECTS */
^COMPRESSED_FILE = "H4636_0009_RE3.JP2"
/* IDENTIFICATION DATA ELEMENTS */
DATA_SET_ID = "MEX-M-HRSC-5-REFDR-MAPPROJECTED-V3.0"
DATA_SET_NAME = "MARS EXPRESS HRSC MAP PROJECTED REFDR V3.0"
DETECTOR_ID = MEX_HRSC_RED
EVENT_TYPE = "MARS-REGIONAL-MAPPING-Gl-La"
INSTRUMENT_HOST_ID = MEX
INSTRUMENT_HOST_NAME = "MARS EXPRESS"
INSTRUMENT_ID = HRSC
INSTRUMENT_NAME = "HIGH RESOLUTION STEREO CAMERA"
MISSION_NAME = "MARS EXPRESS"
MISSION_PHASE_NAME = ME_Phase_9
PROCESSING_LEVEL_ID = 3
PRODUCT_CREATION_TIME = 2016-04-26T01:56:16.000Z
PRODUCT_ID = "H4636_0009_RE3.JP2"
RELEASE_ID = 0053
REVISION_ID = 0000
/* QUALITY DATA ELEMENTS */
DATA_QUALITY_ID = 1
DATA_QUALITY_DESC = "Data calculated based on original SPICE kernels"
/* TIME DATA ELEMENTS */
SPACECRAFT_CLOCK_START_COUNT = "1/0135113868.08254"
SPACECRAFT_CLOCK_STOP_COUNT = "1/0135114028.30310"
START_TIME = 2007-08-13T19:38:46.196Z
STOP_TIME = 2007-08-13T19:40:23.981Z
/* ORBITAL DATA ELEMENTS */
ASCENDING_NODE_LONGITUDE = 131.42
MAXIMUM_RESOLUTION = 56
FOOTPRINT_POINT_LATITUDE = (-83.6507,-83.7458,-83.8608,-83.9547, -84.024,-84.1065,-84.1759,-84.0576, -83.9012,-83.7445,-83.6396,-83.5349, -83.43,-83.324,-83.2179,-83.0597, -82.8996,-82.7924,-82.6329,-82.4729, -82.3637,-82.2554,-82.1472,-81.9851, -81.877,-81.7684,-81.6598,-81.551, -81.3878,-81.2789,-81.1151,-80.9514, -80.842,-80.7326,-80.6234,-80.5141, -80.4048,-80.278,-80.1475,-79.9514, -79.8208,-79.6903,-79.5597,-79.3637, -79.2331,-79.1024,-78.9717,-78.8413, -78.7107,-78.5801,-78.5159,-78.486, -78.4384,-78.3815,-78.2921,-78.2543, -78.2067,-78.3342,-78.5249,-78.6518, -78.7788,-78.9057,-79.0325,-79.1593, -79.3494,-79.5391,-79.6654,-79.7915, -79.979,-80.191,-80.4527,-80.6099, -80.7669,-80.8713,-81.0278,-81.1317, -81.2355,-81.3389,-81.4422,-81.5451, -81.6479,-81.7519,-81.9035,-82.0053, -82.1066,-82.2579,-82.3584,-82.4589, -82.5603,-82.6594,-82.7587,-82.8561, -82.9547,-83.0525,-83.1496,-83.2445, -83.3876,-83.4823,-83.5765,-83.6507)
FOOTPRINT_POINT_LONGITUDE = (296.251,297.496,299.105,300.517, 301.626,303.026,304.285,305.266,306.026 ,306.746,307.207,307.651,308.081, 308.497,308.9,309.48,310.034,310.39, 310.902,311.393,311.708,312.014,312.311 ,312.742,313.019,313.289,313.551, 313.806,314.177,314.416,314.763,315.097 ,315.313,315.523,315.729,315.929, 316.125,316.346,316.568,316.889,317.096 ,317.297,317.493,317.778,317.961,318.14 ,318.315,318.485,318.651,318.814, 317.729,317.121,316.215,315.196,313.714 ,313.128,312.408,312.201,311.883, 311.665,311.442,311.212,310.977,310.736 ,310.362,309.974,309.707,309.434, 309.012,308.51,307.864,307.453,307.028, 306.736,306.283,305.972,305.654,305.328 ,304.994,304.651,304.299,303.927,303.38 ,302.994,302.599,301.987,301.565, 301.127,300.665,300.206,299.73,299.254, 298.747,298.227,297.694,297.165,296.319 ,295.732,295.127,296.251)
ORBIT_NUMBER = 4636
ORBITAL_ECCENTRICITY = 0.57
ORBITAL_INCLINATION = 86.7
ORBITAL_SEMIMAJOR_AXIS = 8531.53
PERIAPSIS_ALTITUDE = 295.46
PERIAPSIS_ARGUMENT_ANGLE = 262.27
PERIAPSIS_TIME = 2007-08-13T19:35:08.000Z
SPACECRAFT_ORIENTATION = (0.0,-1.0,0.0)
^MEX_ORIENTATION_DESC = "MEX_ORIENTATION_DESC.TXT"
SPACECRAFT_POINTING_MODE = NADIR
^MEX_POINTING_DESC = "MEX_POINTING_DESC.TXT"
RIGHT_ASCENSION = -1e+32
DECLINATION = -1e+32
OFFSET_ANGLE = -1e+32
SPACECRAFT_SOLAR_DISTANCE = 2.11711e+08
TARGET_NAME = MARS
/* CAMERA DATA ELEMENTS */
DETECTOR_TEMPERATURE = 19.39
FOCAL_PLANE_TEMPERATURE = 8.5833
INST_CMPRS_NAME = "DISCRETE COSINE TRANSFORMATION (DCT)"
INST_CMPRS_RATIO = 24.811
INST_CMPRS_QUALITY = 0
INST_CMPRS_QUANTZ_TBL_ID = 0
INSTRUMENT_TEMPERATURE = 12.2535
LENS_TEMPERATURE = 8.9911
MACROPIXEL_SIZE = 4
MISSING_FRAMES = 0
PIXEL_SUBSAMPLING_FLAG = N
SIGNAL_CHAIN_ID = 2
/* RADIOMETRIC DATA ELEMENTS */
BANDWIDTH = 48.0
CENTER_FILTER_WAVELENGTH = 748.0
RADIANCE_OFFSET = 1.4899
RADIANCE_SCALING_FACTOR = 0.00781564
REFLECTANCE_SCALING_FACTOR = 0.000799429
MEX:REFLECTANCE_OFFSET = 0.152396
/* IMAGE OBJECT DEFINITIONS */
OBJECT = IMAGE
  INTERCHANGE_FORMAT = BINARY
  LINES = 7167
  LINE_SAMPLES = 3973
  SAMPLE_TYPE = UNSIGNED_INTEGER
  SAMPLE_BITS = 8
  BANDS = 1
  BAND_STORAGE_TYPE = BAND_SEQUENTIAL
  MAXIMUM = 254
  MEAN = 62.8646
  MINIMUM = 1
  STANDARD_DEVIATION = 53.9575
END_OBJECT = IMAGE
/* MAP OBJECT DEFINITIONS */
OBJECT = IMAGE_MAP_PROJECTION
  ^DATA_SET_MAP_PROJECTION_CATALOG= "DSMAP.CAT"
  A_AXIS_RADIUS = 3396.0
  B_AXIS_RADIUS = 3396.0
  C_AXIS_RADIUS = 3396.0
  CENTER_LATITUDE = 0.0
  CENTER_LONGITUDE = 310.0
  COORDINATE_SYSTEM_NAME = PLANETOGRAPHIC
  COORDINATE_SYSTEM_TYPE = "BODY-FIXED ROTATING"
  EASTERNMOST_LONGITUDE = 318.814
  FIRST_STANDARD_PARALLEL = "N/A"
  LINE_FIRST_PIXEL = 1
  LINE_LAST_PIXEL = 7167
  LINE_PROJECTION_OFFSET = -92731.375
  MAP_PROJECTION_ROTATION = 0.0
  MAP_PROJECTION_TYPE = SINUSOIDAL
  MAP_RESOLUTION = 1185.42760773333
  MAP_SCALE = 0.05
  MAXIMUM_LATITUDE = -78.2067
  MINIMUM_LATITUDE = -84.1759
  POSITIVE_LONGITUDE_DIRECTION = EAST
  REFERENCE_LATITUDE = "N/A"
  REFERENCE_LONGITUDE = "N/A"
  SAMPLE_FIRST_PIXEL = 1
  SAMPLE_LAST_PIXEL = 3973
  SAMPLE_PROJECTION_OFFSET = 1967.625
  SECOND_STANDARD_PARALLEL = "N/A"
  WESTERNMOST_LONGITUDE = 295.127
END_OBJECT = IMAGE_MAP_PROJECTION
/* The JPEG2000 image data file associated with this label. */
OBJECT = COMPRESSED_FILE
  FILE_NAME = "H4636_0009_RE3.JP2"
  RECORD_TYPE = UNDEFINED
  FILE_RECORDS = UNK
  ENCODING_TYPE = "JP2"
  INTERCHANGE_FORMAT = BINARY
  UNCOMPRESSED_FILE_NAME = "H4636_0009_RE3.IMG"
  REQUIRED_STORAGE_BYTES = "28498329"
  ^DESCRIPTION = "JP2INFO.TXT"
END_OBJECT = COMPRESSED_FILE
END
