PDS_VERSION_ID = PDS3
/* FILE DATA ELEMENTS */
RECORD_TYPE = STREAM
/* POINTERS TO DATA OBJECTS */
^COMPRESSED_FILE = "H4636_0009_S23.JP2"
/* IDENTIFICATION DATA ELEMENTS */
DATA_SET_ID = "MEX-M-HRSC-5-REFDR-MAPPROJECTED-V3.0"
DATA_SET_NAME = "MARS EXPRESS HRSC MAP PROJECTED REFDR V3.0"
DETECTOR_ID = MEX_HRSC_S2
EVENT_TYPE = "MARS-REGIONAL-MAPPING-Gl-La"
INSTRUMENT_HOST_ID = MEX
INSTRUMENT_HOST_NAME = "MARS EXPRESS"
INSTRUMENT_ID = HRSC
INSTRUMENT_NAME = "HIGH RESOLUTION STEREO CAMERA"
MISSION_NAME = "MARS EXPRESS"
MISSION_PHASE_NAME = ME_Phase_9
PROCESSING_LEVEL_ID = 3
PRODUCT_CREATION_TIME = 2016-04-26T01:56:16.000Z
PRODUCT_ID = "H4636_0009_S23.JP2"
RELEASE_ID = 0053
REVISION_ID = 0000
/* QUALITY DATA ELEMENTS */
DATA_QUALITY_ID = 1
DATA_QUALITY_DESC = "Data calculated based on original SPICE kernels"
/* TIME DATA ELEMENTS */
SPACECRAFT_CLOCK_START_COUNT = "1/0135113868.08254"
SPACECRAFT_CLOCK_STOP_COUNT = "1/0135114028.30310"
START_TIME = 2007-08-13T19:38:51.491Z
STOP_TIME = 2007-08-13T19:40:30.497Z
/* ORBITAL DATA ELEMENTS */
ASCENDING_NODE_LONGITUDE = 131.42
MAXIMUM_RESOLUTION = 28.7
FOOTPRINT_POINT_LATITUDE = (-83.7178,-83.815,-83.8858,-83.9772, -84.065,-84.1698,-84.0174,-83.9137, -83.8108,-83.7071,-83.6033,-83.4472, -83.29,-83.1845,-83.0801,-82.9218, -82.8155,-82.71,-82.6046,-82.4464, -82.2841,-82.1772,-82.0702,-81.9631, -81.8559,-81.7485,-81.641,-81.4793, -81.3716,-81.2639,-81.1558,-81.0478, -80.8855,-80.7773,-80.6546,-80.5256, -80.3966,-80.2676,-80.0741,-79.9448, -79.8157,-79.6221,-79.493,-79.3638, -79.2347,-79.1057,-78.912,-78.7187, -78.5413,-78.4794,-78.4291,-78.369, -78.3359,-78.2978,-78.2465,-78.1999, -78.326,-78.4515,-78.5769,-78.7023, -78.8277,-78.953,-79.0783,-79.2037, -79.3289,-79.4539,-79.5789,-79.7036, -79.8283,-79.9528,-80.0769,-80.2032, -80.4273,-80.5829,-80.79,-80.8932, -80.9965,-81.1509,-81.2535,-81.407, -81.5089,-81.6623,-81.7649,-81.9145, -82.0152,-82.1155,-82.2651,-82.3647, -82.4644,-82.565,-82.6632,-82.7615, -82.9063,-83.0039,-83.1004,-83.2423, -83.384,-83.4779,-83.5712,-83.7178)
FOOTPRINT_POINT_LONGITUDE = (297.296,298.635,299.667,301.077, 302.529,304.406,305.567,306.066,306.547 ,307.012,307.461,308.107,308.722, 309.117,309.498,310.048,310.402,310.744 ,311.077,311.557,312.018,312.314, 312.602,312.881,313.154,313.419,313.676 ,314.05,314.292,314.527,314.756,314.979 ,315.304,315.514,315.746,315.983, 316.214,316.438,316.763,316.972,317.176 ,317.472,317.663,317.849,318.03,318.207 ,318.463,318.711,318.385,317.099, 316.144,315.072,314.507,313.884,313.079 ,312.383,312.178,311.97,311.758,311.54, 311.317,311.088,310.854,310.613,310.366 ,310.113,309.853,309.588,309.314, 309.034,308.748,308.442,307.89,307.486, 306.925,306.634,306.335,305.874,305.557 ,305.068,304.732,304.206,303.839, 303.296,302.914,302.521,301.914,301.494 ,301.058,300.599,300.144,299.671, 298.953,298.442,297.92,297.13,296.293, 295.712,295.112,297.296)
ORBIT_NUMBER = 4636
ORBITAL_ECCENTRICITY = 0.57
ORBITAL_INCLINATION = 86.7
ORBITAL_SEMIMAJOR_AXIS = 8531.53
PERIAPSIS_ALTITUDE = 295.46
PERIAPSIS_ARGUMENT_ANGLE = 262.27
PERIAPSIS_TIME = 2007-08-13T19:35:08.000Z
SPACECRAFT_ORIENTATION = (0.0,-1.0,0.0)
^MEX_ORIENTATION_DESC = "MEX_ORIENTATION_DESC.TXT"
SPACECRAFT_POINTING_MODE = NADIR
^MEX_POINTING_DESC = "MEX_POINTING_DESC.TXT"
RIGHT_ASCENSION = -1e+32
DECLINATION = -1e+32
OFFSET_ANGLE = -1e+32
SPACECRAFT_SOLAR_DISTANCE = 2.11711e+08
TARGET_NAME = MARS
/* CAMERA DATA ELEMENTS */
DETECTOR_TEMPERATURE = 19.39
FOCAL_PLANE_TEMPERATURE = 8.5833
INST_CMPRS_NAME = "DISCRETE COSINE TRANSFORMATION (DCT)"
INST_CMPRS_RATIO = 13.066
INST_CMPRS_QUALITY = 0
INST_CMPRS_QUANTZ_TBL_ID = 0
INSTRUMENT_TEMPERATURE = 12.2535
LENS_TEMPERATURE = 8.9911
MACROPIXEL_SIZE = 2
MISSING_FRAMES = 0
PIXEL_SUBSAMPLING_FLAG = N
SIGNAL_CHAIN_ID = 1
/* RADIOMETRIC DATA ELEMENTS */
BANDWIDTH = 178.0
CENTER_FILTER_WAVELENGTH = 679.0
RADIANCE_OFFSET = 5.77392
RADIANCE_SCALING_FACTOR = 0.032886
REFLECTANCE_SCALING_FACTOR = 0.000780604
MEX:REFLECTANCE_OFFSET = 0.137054
/* IMAGE OBJECT DEFINITIONS */
OBJECT = IMAGE
  INTERCHANGE_FORMAT = BINARY
  LINES = 14333
  LINE_SAMPLES = 7945
  SAMPLE_TYPE = UNSIGNED_INTEGER
  SAMPLE_BITS = 8
  BANDS = 1
  BAND_STORAGE_TYPE = BAND_SEQUENTIAL
  MAXIMUM = 254
  MEAN = 55.1902
  MINIMUM = 1
  STANDARD_DEVIATION = 55.8108
END_OBJECT = IMAGE
/* MAP OBJECT DEFINITIONS */
OBJECT = IMAGE_MAP_PROJECTION
  ^DATA_SET_MAP_PROJECTION_CATALOG= "DSMAP.CAT"
  A_AXIS_RADIUS = 3396.0
  B_AXIS_RADIUS = 3396.0
  C_AXIS_RADIUS = 3396.0
  CENTER_LATITUDE = 0.0
  CENTER_LONGITUDE = 310.0
  COORDINATE_SYSTEM_NAME = PLANETOGRAPHIC
  COORDINATE_SYSTEM_TYPE = "BODY-FIXED ROTATING"
  EASTERNMOST_LONGITUDE = 318.711
  FIRST_STANDARD_PARALLEL = "N/A"
  LINE_FIRST_PIXEL = 1
  LINE_LAST_PIXEL = 14333
  LINE_PROJECTION_OFFSET = -185462.25
  MAP_PROJECTION_ROTATION = 0.0
  MAP_PROJECTION_TYPE = SINUSOIDAL
  MAP_RESOLUTION = 2370.85521546667
  MAP_SCALE = 0.025
  MAXIMUM_LATITUDE = -78.1999
  MINIMUM_LATITUDE = -84.1698
  POSITIVE_LONGITUDE_DIRECTION = EAST
  REFERENCE_LATITUDE = "N/A"
  REFERENCE_LONGITUDE = "N/A"
  SAMPLE_FIRST_PIXEL = 1
  SAMPLE_LAST_PIXEL = 7945
  SAMPLE_PROJECTION_OFFSET = 3935.75
  SECOND_STANDARD_PARALLEL = "N/A"
  WESTERNMOST_LONGITUDE = 295.112
END_OBJECT = IMAGE_MAP_PROJECTION
/* The JPEG2000 image data file associated with this label. */
OBJECT = COMPRESSED_FILE
  FILE_NAME = "H4636_0009_S23.JP2"
  RECORD_TYPE = UNDEFINED
  FILE_RECORDS = UNK
  ENCODING_TYPE = "JP2"
  INTERCHANGE_FORMAT = BINARY
  UNCOMPRESSED_FILE_NAME = "H4636_0009_S23.IMG"
  REQUIRED_STORAGE_BYTES = "113907465"
  ^DESCRIPTION = "JP2INFO.TXT"
END_OBJECT = COMPRESSED_FILE
END
