PDS_VERSION_ID = PDS3
/* FILE DATA ELEMENTS */
RECORD_TYPE = STREAM
/* POINTERS TO DATA OBJECTS */
^COMPRESSED_FILE = "H4636_0012_SR3.JP2"
/* IDENTIFICATION DATA ELEMENTS */
DATA_SET_ID = "MEX-M-HRSC-5-REFDR-MAPPROJECTED-V3.0"
DATA_SET_NAME = "MARS EXPRESS HRSC MAP PROJECTED REFDR V3.0"
DETECTOR_ID = MEX_HRSC_SRC
EVENT_TYPE = "MARS-REGIONAL-MAPPING-Gl-La"
INSTRUMENT_HOST_ID = MEX
INSTRUMENT_HOST_NAME = "MARS EXPRESS"
INSTRUMENT_ID = HRSC
INSTRUMENT_NAME = "HIGH RESOLUTION STEREO CAMERA"
MISSION_NAME = "MARS EXPRESS"
MISSION_PHASE_NAME = ME_Phase_9
PROCESSING_LEVEL_ID = 3
PRODUCT_CREATION_TIME = 2016-04-26T01:56:16.000Z
PRODUCT_ID = "H4636_0012_SR3.JP2"
RELEASE_ID = 0053
REVISION_ID = 0000
/* QUALITY DATA ELEMENTS */
DATA_QUALITY_ID = 1
DATA_QUALITY_DESC = "Data calculated based on original SPICE kernels"
/* TIME DATA ELEMENTS */
SPACECRAFT_CLOCK_START_COUNT = "1/0135113868.08254"
SPACECRAFT_CLOCK_STOP_COUNT = "1/0135114028.30310"
IMAGE_TIME = 2007-08-13T19:38:49.083Z
START_TIME = 2007-08-13T19:38:49.081Z
STOP_TIME = 2007-08-13T19:38:49.086Z
/* ORBITAL DATA ELEMENTS */
ASCENDING_NODE_LONGITUDE = 131.42
MAXIMUM_RESOLUTION = 3.072
FOOTPRINT_POINT_LATITUDE = (-82.3461,-82.3487,-82.3507,-82.3537, -82.3569,-82.358,-82.3596,-82.362, -82.3632,-82.3649,-82.3663,-82.368, -82.3698,-82.3723,-82.3751,-82.3768, -82.3794,-82.3813,-82.3837,-82.3852, -82.3868,-82.3888,-82.3906,-82.3922, -82.3915,-82.3906,-82.3897,-82.3889, -82.388,-82.3869,-82.386,-82.3849, -82.384,-82.3829,-82.382,-82.3811, -82.3802,-82.3795,-82.3787,-82.3778, -82.3766,-82.3758,-82.3749,-82.374, -82.3731,-82.3722,-82.3715,-82.3706, -82.3686,-82.3671,-82.3657,-82.364, -82.3618,-82.3606,-82.3591,-82.3576, -82.356,-82.3533,-82.3516,-82.3499, -82.3473,-82.346,-82.3445,-82.3414, -82.3391,-82.3377,-82.336,-82.3336, -82.3319,-82.3295,-82.327,-82.3251, -82.3237,-82.3225,-82.3233,-82.3242, -82.3249,-82.3258,-82.3265,-82.3276, -82.3287,-82.3296,-82.3304,-82.3313, -82.3324,-82.3333,-82.3342,-82.3351, -82.336,-82.3366,-82.3373,-82.3382, -82.3388,-82.3397,-82.3404,-82.3412, -82.3421,-82.3432,-82.3441,-82.3461)
FOOTPRINT_POINT_LONGITUDE = (306.926,306.917,306.91,306.9,306.889, 306.884,306.879,306.871,306.866,306.86, 306.855,306.85,306.843,306.834,306.825, 306.819,306.809,306.803,306.794,306.789 ,306.783,306.776,306.77,306.764,306.753 ,306.739,306.725,306.71,306.696,306.678 ,306.664,306.646,306.632,306.614,306.6, 306.586,306.572,306.561,306.547,306.533 ,306.515,306.501,306.487,306.472, 306.458,306.444,306.433,306.419,306.407 ,306.412,306.417,306.423,306.431, 306.435,306.441,306.446,306.451,306.461 ,306.467,306.473,306.483,306.487, 306.493,306.504,306.512,306.517,306.523 ,306.531,306.537,306.546,306.555, 306.561,306.566,306.576,306.59,306.604, 306.614,306.628,306.639,306.657,306.674 ,306.688,306.703,306.717,306.734, 306.748,306.763,306.777,306.791,306.802 ,306.812,306.826,306.837,306.851, 306.862,306.876,306.89,306.908,306.922, 306.926)
ORBIT_NUMBER = 4636
ORBITAL_ECCENTRICITY = 0.57
ORBITAL_INCLINATION = 86.7
ORBITAL_SEMIMAJOR_AXIS = 8531.53
PERIAPSIS_ALTITUDE = 295.46
PERIAPSIS_ARGUMENT_ANGLE = 262.27
PERIAPSIS_TIME = 2007-08-13T19:35:08.000Z
SPACECRAFT_ORIENTATION = (0.0,-1.0,0.0)
^MEX_ORIENTATION_DESC = "MEX_ORIENTATION_DESC.TXT"
SPACECRAFT_POINTING_MODE = NADIR
^MEX_POINTING_DESC = "MEX_POINTING_DESC.TXT"
RIGHT_ASCENSION = -1e+32
DECLINATION = -1e+32
OFFSET_ANGLE = -1e+32
SPACECRAFT_SOLAR_DISTANCE = 2.11711e+08
TARGET_NAME = MARS
/* CAMERA DATA ELEMENTS */
BUFFER_MODE_ID = BUFFER_8
EXPOSURE_DURATION = 5.04
INST_CMPRS_NAME = NONE
INST_CMPRS_RATIO = 1.0
INST_CMPRS_QUALITY = -2147483648
INST_CMPRS_QUANTZ_TBL_ID = -2147483648
INSTRUMENT_TEMPERATURE = 8.18182
MISSING_FRAMES = 0
START_BIT = 0
/* RADIOMETRIC DATA ELEMENTS */
BANDWIDTH = 250.0
CENTER_FILTER_WAVELENGTH = 600.0
RADIANCE_OFFSET = -9.99e+31
RADIANCE_SCALING_FACTOR = -9.99e+31
REFLECTANCE_SCALING_FACTOR = -9.99e+31
MEX:REFLECTANCE_OFFSET = -9.99e+31
/* IMAGE OBJECT DEFINITIONS */
OBJECT = IMAGE
  INTERCHANGE_FORMAT = BINARY
  LINES = 1796
  LINE_SAMPLES = 1799
  SAMPLE_TYPE = UNSIGNED_INTEGER
  SAMPLE_BITS = 8
  BANDS = 1
  BAND_STORAGE_TYPE = BAND_SEQUENTIAL
  MAXIMUM = 249
  MEAN = 144.48
  MINIMUM = 12
  STANDARD_DEVIATION = 21.633
END_OBJECT = IMAGE
/* MAP OBJECT DEFINITIONS */
OBJECT = IMAGE_MAP_PROJECTION
  ^DATA_SET_MAP_PROJECTION_CATALOG= "DSMAP.CAT"
  A_AXIS_RADIUS = 3396.19
  B_AXIS_RADIUS = 3396.19
  C_AXIS_RADIUS = 3396.19
  CENTER_LATITUDE = 0.0
  CENTER_LONGITUDE = 307.0
  COORDINATE_SYSTEM_NAME = PLANETOGRAPHIC
  COORDINATE_SYSTEM_TYPE = "BODY-FIXED ROTATING"
  EASTERNMOST_LONGITUDE = 306.926
  FIRST_STANDARD_PARALLEL = "N/A"
  LINE_FIRST_PIXEL = 1
  LINE_LAST_PIXEL = 1796
  LINE_PROJECTION_OFFSET = -1946578.0
  MAP_PROJECTION_ROTATION = 0.0
  MAP_PROJECTION_TYPE = SINUSOIDAL
  MAP_RESOLUTION = 23709.8786048756
  MAP_SCALE = 0.0025
  MAXIMUM_LATITUDE = -82.32250000000001
  MINIMUM_LATITUDE = -82.3922
  POSITIVE_LONGITUDE_DIRECTION = EAST
  REFERENCE_LATITUDE = "N/A"
  REFERENCE_LONGITUDE = "N/A"
  SAMPLE_FIRST_PIXEL = 1
  SAMPLE_LAST_PIXEL = 1799
  SAMPLE_PROJECTION_OFFSET = 1951.0
  SECOND_STANDARD_PARALLEL = "N/A"
  WESTERNMOST_LONGITUDE = 306.407
END_OBJECT = IMAGE_MAP_PROJECTION
/* The JPEG2000 image data file associated with this label. */
OBJECT = COMPRESSED_FILE
  FILE_NAME = "H4636_0012_SR3.JP2"
  RECORD_TYPE = UNDEFINED
  FILE_RECORDS = UNK
  ENCODING_TYPE = "JP2"
  INTERCHANGE_FORMAT = BINARY
  UNCOMPRESSED_FILE_NAME = "H4636_0012_SR3.IMG"
  REQUIRED_STORAGE_BYTES = "3252592"
  ^DESCRIPTION = "JP2INFO.TXT"
END_OBJECT = COMPRESSED_FILE
END
