PDS_VERSION_ID = PDS3
/* FILE DATA ELEMENTS */
RECORD_TYPE = STREAM
/* POINTERS TO DATA OBJECTS */
^COMPRESSED_FILE = "H4636_0016_SR3.JP2"
/* IDENTIFICATION DATA ELEMENTS */
DATA_SET_ID = "MEX-M-HRSC-5-REFDR-MAPPROJECTED-V3.0"
DATA_SET_NAME = "MARS EXPRESS HRSC MAP PROJECTED REFDR V3.0"
DETECTOR_ID = MEX_HRSC_SRC
EVENT_TYPE = "MARS-REGIONAL-MAPPING-Gl-La"
INSTRUMENT_HOST_ID = MEX
INSTRUMENT_HOST_NAME = "MARS EXPRESS"
INSTRUMENT_ID = HRSC
INSTRUMENT_NAME = "HIGH RESOLUTION STEREO CAMERA"
MISSION_NAME = "MARS EXPRESS"
MISSION_PHASE_NAME = ME_Phase_9
PROCESSING_LEVEL_ID = 3
PRODUCT_CREATION_TIME = 2016-04-26T01:56:16.000Z
PRODUCT_ID = "H4636_0016_SR3.JP2"
RELEASE_ID = 0053
REVISION_ID = 0000
/* QUALITY DATA ELEMENTS */
DATA_QUALITY_ID = 1
DATA_QUALITY_DESC = "Data calculated based on original SPICE kernels"
/* TIME DATA ELEMENTS */
SPACECRAFT_CLOCK_START_COUNT = "1/0135113868.08254"
SPACECRAFT_CLOCK_STOP_COUNT = "1/0135114028.30310"
IMAGE_TIME = 2007-08-13T19:38:51.263Z
START_TIME = 2007-08-13T19:38:51.261Z
STOP_TIME = 2007-08-13T19:38:51.266Z
/* ORBITAL DATA ELEMENTS */
ASCENDING_NODE_LONGITUDE = 131.42
MAXIMUM_RESOLUTION = 3.08
FOOTPRINT_POINT_LATITUDE = (-82.2176,-82.219,-82.2207,-82.2227, -82.2244,-82.2268,-82.2286,-82.2311, -82.234,-82.237,-82.2387,-82.2409, -82.2431,-82.245,-82.2463,-82.2483, -82.2499,-82.2516,-82.2537,-82.2555, -82.2569,-82.2591,-82.2617,-82.2637, -82.2628,-82.2619,-82.261,-82.2604, -82.2595,-82.2586,-82.2578,-82.2569, -82.2562,-82.2554,-82.2545,-82.2538, -82.253,-82.2521,-82.2512,-82.2503, -82.2495,-82.2486,-82.2477,-82.2468, -82.2459,-82.2451,-82.2442,-82.2433, -82.2422,-82.2402,-82.2387,-82.2367, -82.2355,-82.2335,-82.2319,-82.2301, -82.2274,-82.2257,-82.2229,-82.2217, -82.2197,-82.2183,-82.2162,-82.2133, -82.2119,-82.2106,-82.209,-82.2067, -82.205,-82.2031,-82.2016,-82.1995, -82.1973,-82.1958,-82.194,-82.1951, -82.1957,-82.1964,-82.197,-82.1979, -82.199,-82.1999,-82.2007,-82.2014, -82.2025,-82.2031,-82.204,-82.2051, -82.2062,-82.2071,-82.2081,-82.2088, -82.2099,-82.2107,-82.2118,-82.2127, -82.2138,-82.2146,-82.2155,-82.2176)
FOOTPRINT_POINT_LONGITUDE = (307.368,307.363,307.357,307.35,307.344 ,307.337,307.33,307.322,307.312,307.302 ,307.296,307.289,307.282,307.275,307.27 ,307.264,307.258,307.252,307.245, 307.239,307.235,307.227,307.218,307.207 ,307.193,307.179,307.165,307.154,307.14 ,307.126,307.112,307.098,307.087, 307.073,307.059,307.048,307.034,307.02, 307.006,306.992,306.978,306.964,306.95, 306.936,306.922,306.908,306.894,306.88, 306.862,306.858,306.863,306.87,306.874, 306.881,306.887,306.893,306.902,306.908 ,306.918,306.922,306.929,306.933, 306.941,306.951,306.955,306.96,306.966, 306.973,306.979,306.985,306.991,306.998 ,307.005,307.01,307.017,307.035,307.045 ,307.056,307.066,307.08,307.097,307.111 ,307.125,307.136,307.153,307.164, 307.178,307.195,307.213,307.227,307.244 ,307.255,307.272,307.286,307.304, 307.318,307.335,307.349,307.363, 307.368)
ORBIT_NUMBER = 4636
ORBITAL_ECCENTRICITY = 0.57
ORBITAL_INCLINATION = 86.7
ORBITAL_SEMIMAJOR_AXIS = 8531.53
PERIAPSIS_ALTITUDE = 295.46
PERIAPSIS_ARGUMENT_ANGLE = 262.27
PERIAPSIS_TIME = 2007-08-13T19:35:08.000Z
SPACECRAFT_ORIENTATION = (0.0,-1.0,0.0)
^MEX_ORIENTATION_DESC = "MEX_ORIENTATION_DESC.TXT"
SPACECRAFT_POINTING_MODE = NADIR
^MEX_POINTING_DESC = "MEX_POINTING_DESC.TXT"
RIGHT_ASCENSION = -1e+32
DECLINATION = -1e+32
OFFSET_ANGLE = -1e+32
SPACECRAFT_SOLAR_DISTANCE = 2.11711e+08
TARGET_NAME = MARS
/* CAMERA DATA ELEMENTS */
BUFFER_MODE_ID = BUFFER_8
EXPOSURE_DURATION = 5.04
INST_CMPRS_NAME = NONE
INST_CMPRS_RATIO = 1.0
INST_CMPRS_QUALITY = -2147483648
INST_CMPRS_QUANTZ_TBL_ID = -2147483648
INSTRUMENT_TEMPERATURE = 8.18182
MISSING_FRAMES = 0
START_BIT = 0
/* RADIOMETRIC DATA ELEMENTS */
BANDWIDTH = 250.0
CENTER_FILTER_WAVELENGTH = 600.0
RADIANCE_OFFSET = -9.99e+31
RADIANCE_SCALING_FACTOR = -9.99e+31
REFLECTANCE_SCALING_FACTOR = -9.99e+31
MEX:REFLECTANCE_OFFSET = -9.99e+31
/* IMAGE OBJECT DEFINITIONS */
OBJECT = IMAGE
  INTERCHANGE_FORMAT = BINARY
  LINES = 1796
  LINE_SAMPLES = 1803
  SAMPLE_TYPE = UNSIGNED_INTEGER
  SAMPLE_BITS = 8
  BANDS = 1
  BAND_STORAGE_TYPE = BAND_SEQUENTIAL
  MAXIMUM = 246
  MEAN = 144.889
  MINIMUM = 15
  STANDARD_DEVIATION = 22.6305
END_OBJECT = IMAGE
/* MAP OBJECT DEFINITIONS */
OBJECT = IMAGE_MAP_PROJECTION
  ^DATA_SET_MAP_PROJECTION_CATALOG= "DSMAP.CAT"
  A_AXIS_RADIUS = 3396.19
  B_AXIS_RADIUS = 3396.19
  C_AXIS_RADIUS = 3396.19
  CENTER_LATITUDE = 0.0
  CENTER_LONGITUDE = 307.0
  COORDINATE_SYSTEM_NAME = PLANETOGRAPHIC
  COORDINATE_SYSTEM_TYPE = "BODY-FIXED ROTATING"
  EASTERNMOST_LONGITUDE = 307.368
  FIRST_STANDARD_PARALLEL = "N/A"
  LINE_FIRST_PIXEL = 1
  LINE_LAST_PIXEL = 1796
  LINE_PROJECTION_OFFSET = -1943554.0
  MAP_PROJECTION_ROTATION = 0.0
  MAP_PROJECTION_TYPE = SINUSOIDAL
  MAP_RESOLUTION = 23709.8786048756
  MAP_SCALE = 0.0025
  MAXIMUM_LATITUDE = -82.194
  MINIMUM_LATITUDE = -82.2637
  POSITIVE_LONGITUDE_DIRECTION = EAST
  REFERENCE_LATITUDE = "N/A"
  REFERENCE_LONGITUDE = "N/A"
  SAMPLE_FIRST_PIXEL = 1
  SAMPLE_LAST_PIXEL = 1803
  SAMPLE_PROJECTION_OFFSET = 549.0
  SECOND_STANDARD_PARALLEL = "N/A"
  WESTERNMOST_LONGITUDE = 306.858
END_OBJECT = IMAGE_MAP_PROJECTION
/* The JPEG2000 image data file associated with this label. */
OBJECT = COMPRESSED_FILE
  FILE_NAME = "H4636_0016_SR3.JP2"
  RECORD_TYPE = UNDEFINED
  FILE_RECORDS = UNK
  ENCODING_TYPE = "JP2"
  INTERCHANGE_FORMAT = BINARY
  UNCOMPRESSED_FILE_NAME = "H4636_0016_SR3.IMG"
  REQUIRED_STORAGE_BYTES = "3259824"
  ^DESCRIPTION = "JP2INFO.TXT"
END_OBJECT = COMPRESSED_FILE
END
