PDS_VERSION_ID = PDS3
/* FILE DATA ELEMENTS */
RECORD_TYPE = STREAM
/* POINTERS TO DATA OBJECTS */
^COMPRESSED_FILE = "H4638_0000_P23.JP2"
/* IDENTIFICATION DATA ELEMENTS */
DATA_SET_ID = "MEX-M-HRSC-5-REFDR-MAPPROJECTED-V3.0"
DATA_SET_NAME = "MARS EXPRESS HRSC MAP PROJECTED REFDR V3.0"
DETECTOR_ID = MEX_HRSC_P2
EVENT_TYPE = "MARS-REGIONAL-MAPPING-Gl-Eo-La"
INSTRUMENT_HOST_ID = MEX
INSTRUMENT_HOST_NAME = "MARS EXPRESS"
INSTRUMENT_ID = HRSC
INSTRUMENT_NAME = "HIGH RESOLUTION STEREO CAMERA"
MISSION_NAME = "MARS EXPRESS"
MISSION_PHASE_NAME = ME_Phase_9
PROCESSING_LEVEL_ID = 3
PRODUCT_CREATION_TIME = 2016-04-26T01:56:16.000Z
PRODUCT_ID = "H4638_0000_P23.JP2"
RELEASE_ID = 0053
REVISION_ID = 0000
/* QUALITY DATA ELEMENTS */
DATA_QUALITY_ID = 1
DATA_QUALITY_DESC = "Data calculated based on original SPICE kernels"
/* TIME DATA ELEMENTS */
SPACECRAFT_CLOCK_START_COUNT = "1/0135162232.08274"
SPACECRAFT_CLOCK_STOP_COUNT = "1/0135162440.56004"
START_TIME = 2007-08-14T09:04:43.624Z
STOP_TIME = 2007-08-14T09:07:09.248Z
/* ORBITAL DATA ELEMENTS */
ASCENDING_NODE_LONGITUDE = 131.38
MAXIMUM_RESOLUTION = 26.7
FOOTPRINT_POINT_LATITUDE = (-84.9366,-85.0807,-85.286,-85.5022, -85.6696,-85.4682,-85.3311,-85.1922, -85.052,-84.8385,-84.6941,-84.5489, -84.4017,-84.2483,-84.094,-83.9387, -83.7825,-83.6255,-83.4682,-83.3102, -83.0718,-82.9122,-82.7519,-82.5102, -82.3489,-82.1872,-82.0253,-81.8632, -81.7006,-81.5379,-81.3751,-81.2123, -80.9672,-80.804,-80.6409,-80.4772, -80.3105,-80.1145,-79.9189,-79.7232, -79.5271,-79.3311,-79.1352,-78.9393, -78.7439,-78.5505,-78.3555,-78.1603, -77.965,-77.7697,-77.4747,-77.2779, -77.1949,-77.1127,-77.0472,-77.0012, -76.9427,-77.2024,-77.3939,-77.6802, -77.871,-78.0616,-78.252,-78.5365, -78.7263,-78.9165,-79.1064,-79.2963, -79.4858,-79.6751,-79.9527,-80.1104, -80.2668,-80.4242,-80.6592,-80.8933, -81.0492,-81.2044,-81.3594,-81.5139, -81.6679,-81.8212,-81.9741,-82.1263, -82.2774,-82.4275,-82.5769,-82.7989, -83.0194,-83.1659,-83.3096,-83.4519, -83.5926,-83.7994,-83.9317,-84.062, -84.315,-84.5601,-84.6793,-84.9366)
FOOTPRINT_POINT_LONGITUDE = (88.377,89.9639,92.4734,95.5073,96.7652 ,98.8256,100.098,101.295,102.423, 103.996,104.974,105.897,106.774,107.63, 108.441,109.21,109.939,110.632,111.29, 111.917,112.802,113.358,113.889,114.641 ,115.116,115.57,116.005,116.423,116.823 ,117.208,117.578,117.934,118.442, 118.766,119.078,119.378,119.672,120.004 ,120.324,120.63,120.925,121.208,121.48, 121.743,121.996,122.242,122.478,122.705 ,122.925,123.137,123.439,123.632, 122.598,120.895,119.731,118.983,118.067 ,117.27,117.008,116.603,116.32,116.029, 115.728,115.259,114.931,114.588,114.232 ,113.862,113.478,113.079,112.455, 112.088,111.715,111.32,110.706,110.057, 109.603,109.133,108.644,108.135,107.605 ,107.056,106.482,105.884,105.265, 104.622,103.952,102.892,101.752,100.937 ,100.105,99.2363,98.3277,96.8958, 95.9104,94.8832,92.7224,90.3391,89.0531 ,88.377)
ORBIT_NUMBER = 4638
ORBITAL_ECCENTRICITY = 0.57
ORBITAL_INCLINATION = 86.69
ORBITAL_SEMIMAJOR_AXIS = 8531.73
PERIAPSIS_ALTITUDE = 295.61
PERIAPSIS_ARGUMENT_ANGLE = 261.9
PERIAPSIS_TIME = 2007-08-14T09:01:32.000Z
SPACECRAFT_ORIENTATION = (0.0,-1.0,0.0)
^MEX_ORIENTATION_DESC = "MEX_ORIENTATION_DESC.TXT"
SPACECRAFT_POINTING_MODE = NADIR
^MEX_POINTING_DESC = "MEX_POINTING_DESC.TXT"
RIGHT_ASCENSION = -1e+32
DECLINATION = -1e+32
OFFSET_ANGLE = -1e+32
SPACECRAFT_SOLAR_DISTANCE = 2.11787e+08
TARGET_NAME = MARS
/* CAMERA DATA ELEMENTS */
DETECTOR_TEMPERATURE = 18.5744
FOCAL_PLANE_TEMPERATURE = 7.156
INST_CMPRS_NAME = "DISCRETE COSINE TRANSFORMATION (DCT)"
INST_CMPRS_RATIO = 7.2009
INST_CMPRS_QUALITY = 0
INST_CMPRS_QUANTZ_TBL_ID = 0
INSTRUMENT_TEMPERATURE = 11.0301
LENS_TEMPERATURE = 8.7872
MACROPIXEL_SIZE = 2
MISSING_FRAMES = 0
PIXEL_SUBSAMPLING_FLAG = N
SIGNAL_CHAIN_ID = 3
/* RADIOMETRIC DATA ELEMENTS */
BANDWIDTH = 177.0
CENTER_FILTER_WAVELENGTH = 676.5
RADIANCE_OFFSET = 4.24381
RADIANCE_SCALING_FACTOR = 0.0109902
REFLECTANCE_SCALING_FACTOR = 0.000261376
MEX:REFLECTANCE_OFFSET = 0.100929
/* IMAGE OBJECT DEFINITIONS */
OBJECT = IMAGE
  INTERCHANGE_FORMAT = BINARY
  LINES = 20685
  LINE_SAMPLES = 10934
  SAMPLE_TYPE = UNSIGNED_INTEGER
  SAMPLE_BITS = 8
  BANDS = 1
  BAND_STORAGE_TYPE = BAND_SEQUENTIAL
  MAXIMUM = 255
  MEAN = 109.664
  MINIMUM = 1
  STANDARD_DEVIATION = 36.6156
END_OBJECT = IMAGE
/* MAP OBJECT DEFINITIONS */
OBJECT = IMAGE_MAP_PROJECTION
  ^DATA_SET_MAP_PROJECTION_CATALOG= "DSMAP.CAT"
  A_AXIS_RADIUS = 3396.0
  B_AXIS_RADIUS = 3396.0
  C_AXIS_RADIUS = 3396.0
  CENTER_LATITUDE = 0.0
  CENTER_LONGITUDE = 113.0
  COORDINATE_SYSTEM_NAME = PLANETOGRAPHIC
  COORDINATE_SYSTEM_TYPE = "BODY-FIXED ROTATING"
  EASTERNMOST_LONGITUDE = 123.632
  FIRST_STANDARD_PARALLEL = "N/A"
  LINE_FIRST_PIXEL = 1
  LINE_LAST_PIXEL = 20685
  LINE_PROJECTION_OFFSET = -182398.75
  MAP_PROJECTION_ROTATION = 0.0
  MAP_PROJECTION_TYPE = SINUSOIDAL
  MAP_RESOLUTION = 2370.85521546667
  MAP_SCALE = 0.025
  MAXIMUM_LATITUDE = -76.9427
  MINIMUM_LATITUDE = -85.6696
  POSITIVE_LONGITUDE_DIRECTION = EAST
  REFERENCE_LATITUDE = "N/A"
  REFERENCE_LONGITUDE = "N/A"
  SAMPLE_FIRST_PIXEL = 1
  SAMPLE_LAST_PIXEL = 10934
  SAMPLE_PROJECTION_OFFSET = 5492.75
  SECOND_STANDARD_PARALLEL = "N/A"
  WESTERNMOST_LONGITUDE = 88.377
END_OBJECT = IMAGE_MAP_PROJECTION
/* The JPEG2000 image data file associated with this label. */
OBJECT = COMPRESSED_FILE
  FILE_NAME = "H4638_0000_P23.JP2"
  RECORD_TYPE = UNDEFINED
  FILE_RECORDS = UNK
  ENCODING_TYPE = "JP2"
  INTERCHANGE_FORMAT = BINARY
  UNCOMPRESSED_FILE_NAME = "H4638_0000_P23.IMG"
  REQUIRED_STORAGE_BYTES = "226202592"
  ^DESCRIPTION = "JP2INFO.TXT"
END_OBJECT = COMPRESSED_FILE
END
