PDS_VERSION_ID = PDS3
/* FILE DATA ELEMENTS */
RECORD_TYPE = STREAM
/* POINTERS TO DATA OBJECTS */
^COMPRESSED_FILE = "H4638_0001_SR3.JP2"
/* IDENTIFICATION DATA ELEMENTS */
DATA_SET_ID = "MEX-M-HRSC-5-REFDR-MAPPROJECTED-V3.0"
DATA_SET_NAME = "MARS EXPRESS HRSC MAP PROJECTED REFDR V3.0"
DETECTOR_ID = MEX_HRSC_SRC
EVENT_TYPE = "MARS-REGIONAL-MAPPING-Gl-Eo-La"
INSTRUMENT_HOST_ID = MEX
INSTRUMENT_HOST_NAME = "MARS EXPRESS"
INSTRUMENT_ID = HRSC
INSTRUMENT_NAME = "HIGH RESOLUTION STEREO CAMERA"
MISSION_NAME = "MARS EXPRESS"
MISSION_PHASE_NAME = ME_Phase_9
PROCESSING_LEVEL_ID = 3
PRODUCT_CREATION_TIME = 2016-04-26T01:56:16.000Z
PRODUCT_ID = "H4638_0001_SR3.JP2"
RELEASE_ID = 0053
REVISION_ID = 0000
/* QUALITY DATA ELEMENTS */
DATA_QUALITY_ID = 1
DATA_QUALITY_DESC = "Data calculated based on original SPICE kernels"
/* TIME DATA ELEMENTS */
SPACECRAFT_CLOCK_START_COUNT = "1/0135162232.08274"
SPACECRAFT_CLOCK_STOP_COUNT = "1/0135162440.56004"
IMAGE_TIME = 2007-08-14T09:04:38.476Z
START_TIME = 2007-08-14T09:04:38.218Z
STOP_TIME = 2007-08-14T09:04:38.734Z
/* ORBITAL DATA ELEMENTS */
ASCENDING_NODE_LONGITUDE = 131.38
MAXIMUM_RESOLUTION = 2.961
FOOTPRINT_POINT_LATITUDE = (-84.5687,-84.5699,-84.5716,-84.5727, -84.5742,-84.5761,-84.5784,-84.5803, -84.5821,-84.5833,-84.5854,-84.587, -84.5888,-84.5909,-84.592,-84.5935, -84.596,-84.5975,-84.5993,-84.6007, -84.6018,-84.6037,-84.6052,-84.6063, -84.6078,-84.6075,-84.6057,-84.6045, -84.6033,-84.602,-84.6011,-84.5999, -84.599,-84.5978,-84.5966,-84.5953, -84.5941,-84.5926,-84.5914,-84.5901, -84.5889,-84.5877,-84.5865,-84.5853, -84.584,-84.5828,-84.5816,-84.5804, -84.5791,-84.5774,-84.5752,-84.5736, -84.5724,-84.5703,-84.5681,-84.5666, -84.5646,-84.5631,-84.562,-84.5601, -84.5589,-84.5573,-84.5556,-84.5534, -84.552,-84.55,-84.5487,-84.5475, -84.5462,-84.5441,-84.5425,-84.5414, -84.5397,-84.5383,-84.538,-84.5389, -84.5401,-84.5413,-84.5422,-84.5437, -84.545,-84.5462,-84.5474,-84.5489, -84.5504,-84.5516,-84.5532,-84.5544, -84.5556,-84.5568,-84.558,-84.5589, -84.5601,-84.561,-84.5622,-84.5634, -84.5647,-84.5656,-84.5671,-84.5687)
FOOTPRINT_POINT_LONGITUDE = (98.6038,98.5942,98.5808,98.5719, 98.5598,98.5447,98.5262,98.5115,98.4964 ,98.4868,98.4702,98.458,98.4432,98.4262 ,98.4175,98.4053,98.385,98.3731,98.3583 ,98.3476,98.3386,98.3231,98.3109, 98.3025,98.2902,98.2715,98.246,98.229, 98.2121,98.1951,98.1824,98.1654,98.1527 ,98.1358,98.1188,98.1019,98.085,98.0638 ,98.0469,98.03,98.0132,97.9963,97.9794, 97.9625,97.9457,97.9288,97.912,97.8952, 97.8783,97.8548,97.8726,97.8863,97.8953 ,97.9125,97.9306,97.9426,97.9591, 97.9717,97.9804,97.9959,98.0056,98.0182 ,98.032,98.0504,98.0613,98.0774,98.0883 ,98.0973,98.1079,98.1246,98.1374, 98.1467,98.1601,98.1717,98.1881,98.2007 ,98.2175,98.2343,98.2469,98.2679, 98.2847,98.3015,98.3183,98.3393,98.3604 ,98.3772,98.3983,98.4152,98.432,98.4489 ,98.4658,98.4785,98.4954,98.508,98.5249 ,98.5419,98.5588,98.5715,98.5927, 98.6038)
ORBIT_NUMBER = 4638
ORBITAL_ECCENTRICITY = 0.57
ORBITAL_INCLINATION = 86.69
ORBITAL_SEMIMAJOR_AXIS = 8531.73
PERIAPSIS_ALTITUDE = 295.61
PERIAPSIS_ARGUMENT_ANGLE = 261.9
PERIAPSIS_TIME = 2007-08-14T09:01:32.000Z
SPACECRAFT_ORIENTATION = (0.0,-1.0,0.0)
^MEX_ORIENTATION_DESC = "MEX_ORIENTATION_DESC.TXT"
SPACECRAFT_POINTING_MODE = NADIR
^MEX_POINTING_DESC = "MEX_POINTING_DESC.TXT"
RIGHT_ASCENSION = -1e+32
DECLINATION = -1e+32
OFFSET_ANGLE = -1e+32
SPACECRAFT_SOLAR_DISTANCE = 2.11787e+08
TARGET_NAME = MARS
/* CAMERA DATA ELEMENTS */
BUFFER_MODE_ID = BUFFER_8
EXPOSURE_DURATION = 516.096
INST_CMPRS_NAME = NONE
INST_CMPRS_RATIO = 1.0
INST_CMPRS_QUALITY = -2147483648
INST_CMPRS_QUANTZ_TBL_ID = -2147483648
INSTRUMENT_TEMPERATURE = 6.59311
MISSING_FRAMES = 0
START_BIT = 0
/* RADIOMETRIC DATA ELEMENTS */
BANDWIDTH = 250.0
CENTER_FILTER_WAVELENGTH = 600.0
RADIANCE_OFFSET = -9.99e+31
RADIANCE_SCALING_FACTOR = -9.99e+31
REFLECTANCE_SCALING_FACTOR = -9.99e+31
MEX:REFLECTANCE_OFFSET = -9.99e+31
/* IMAGE OBJECT DEFINITIONS */
OBJECT = IMAGE
  INTERCHANGE_FORMAT = BINARY
  LINES = 1830
  LINE_SAMPLES = 1833
  SAMPLE_TYPE = UNSIGNED_INTEGER
  SAMPLE_BITS = 8
  BANDS = 1
  BAND_STORAGE_TYPE = BAND_SEQUENTIAL
  MAXIMUM = 255
  MEAN = 254.999
  MINIMUM = 39
  STANDARD_DEVIATION = 0.288488
END_OBJECT = IMAGE
/* MAP OBJECT DEFINITIONS */
OBJECT = IMAGE_MAP_PROJECTION
  ^DATA_SET_MAP_PROJECTION_CATALOG= "DSMAP.CAT"
  A_AXIS_RADIUS = 3396.19
  B_AXIS_RADIUS = 3396.19
  C_AXIS_RADIUS = 3396.19
  CENTER_LATITUDE = 0.0
  CENTER_LONGITUDE = 98.0
  COORDINATE_SYSTEM_NAME = PLANETOGRAPHIC
  COORDINATE_SYSTEM_TYPE = "BODY-FIXED ROTATING"
  EASTERNMOST_LONGITUDE = 98.60380000000001
  FIRST_STANDARD_PARALLEL = "N/A"
  LINE_FIRST_PIXEL = 1
  LINE_LAST_PIXEL = 1830
  LINE_PROJECTION_OFFSET = -1998787.0
  MAP_PROJECTION_ROTATION = 0.0
  MAP_PROJECTION_TYPE = SINUSOIDAL
  MAP_RESOLUTION = 23709.8786048756
  MAP_SCALE = 0.0025
  MAXIMUM_LATITUDE = -84.538
  MINIMUM_LATITUDE = -84.6078
  POSITIVE_LONGITUDE_DIRECTION = EAST
  REFERENCE_LATITUDE = "N/A"
  REFERENCE_LONGITUDE = "N/A"
  SAMPLE_FIRST_PIXEL = 1
  SAMPLE_LAST_PIXEL = 1833
  SAMPLE_PROJECTION_OFFSET = 411.0
  SECOND_STANDARD_PARALLEL = "N/A"
  WESTERNMOST_LONGITUDE = 97.8548
END_OBJECT = IMAGE_MAP_PROJECTION
/* The JPEG2000 image data file associated with this label. */
OBJECT = COMPRESSED_FILE
  FILE_NAME = "H4638_0001_SR3.JP2"
  RECORD_TYPE = UNDEFINED
  FILE_RECORDS = UNK
  ENCODING_TYPE = "JP2"
  INTERCHANGE_FORMAT = BINARY
  UNCOMPRESSED_FILE_NAME = "H4638_0001_SR3.IMG"
  REQUIRED_STORAGE_BYTES = "3376386"
  ^DESCRIPTION = "JP2INFO.TXT"
END_OBJECT = COMPRESSED_FILE
END
