PDS_VERSION_ID = PDS3
/* FILE DATA ELEMENTS */
RECORD_TYPE = STREAM
/* POINTERS TO DATA OBJECTS */
^COMPRESSED_FILE = "H4638_0005_SR3.JP2"
/* IDENTIFICATION DATA ELEMENTS */
DATA_SET_ID = "MEX-M-HRSC-5-REFDR-MAPPROJECTED-V3.0"
DATA_SET_NAME = "MARS EXPRESS HRSC MAP PROJECTED REFDR V3.0"
DETECTOR_ID = MEX_HRSC_SRC
EVENT_TYPE = "MARS-REGIONAL-MAPPING-Gl-Eo-La"
INSTRUMENT_HOST_ID = MEX
INSTRUMENT_HOST_NAME = "MARS EXPRESS"
INSTRUMENT_ID = HRSC
INSTRUMENT_NAME = "HIGH RESOLUTION STEREO CAMERA"
MISSION_NAME = "MARS EXPRESS"
MISSION_PHASE_NAME = ME_Phase_9
PROCESSING_LEVEL_ID = 3
PRODUCT_CREATION_TIME = 2016-04-26T01:56:16.000Z
PRODUCT_ID = "H4638_0005_SR3.JP2"
RELEASE_ID = 0053
REVISION_ID = 0000
/* QUALITY DATA ELEMENTS */
DATA_QUALITY_ID = 1
DATA_QUALITY_DESC = "Data calculated based on original SPICE kernels"
/* TIME DATA ELEMENTS */
SPACECRAFT_CLOCK_START_COUNT = "1/0135162232.08274"
SPACECRAFT_CLOCK_STOP_COUNT = "1/0135162440.56004"
IMAGE_TIME = 2007-08-14T09:04:40.656Z
START_TIME = 2007-08-14T09:04:40.654Z
STOP_TIME = 2007-08-14T09:04:40.659Z
/* ORBITAL DATA ELEMENTS */
ASCENDING_NODE_LONGITUDE = 131.38
MAXIMUM_RESOLUTION = 2.967
FOOTPRINT_POINT_LATITUDE = (-84.4549,-84.4565,-84.458,-84.46, -84.4612,-84.4623,-84.4639,-84.466, -84.468,-84.4696,-84.4713,-84.4738, -84.4749,-84.4764,-84.4781,-84.4792, -84.4806,-84.483,-84.4842,-84.4853, -84.4869,-84.489,-84.4904,-84.4916, -84.4935,-84.4933,-84.4915,-84.4903, -84.4891,-84.4876,-84.4864,-84.4855, -84.4843,-84.4831,-84.4819,-84.4807, -84.4798,-84.4786,-84.4777,-84.4765, -84.4753,-84.4741,-84.4726,-84.4714, -84.4702,-84.4693,-84.4681,-84.4669, -84.4657,-84.4635,-84.4625,-84.4609, -84.4589,-84.4577,-84.4555,-84.4537, -84.4523,-84.4498,-84.4482,-84.4472, -84.4456,-84.4441,-84.4421,-84.4405, -84.4394,-84.4375,-84.4357,-84.434, -84.433,-84.4312,-84.43,-84.4285, -84.4275,-84.4258,-84.4244,-84.4243, -84.4252,-84.4267,-84.4279,-84.4294, -84.4306,-84.4318,-84.4326,-84.4341, -84.4353,-84.4365,-84.4374,-84.4386, -84.4395,-84.441,-84.4422,-84.4434, -84.4448,-84.446,-84.4475,-84.4487, -84.4496,-84.4511,-84.4529,-84.4549)
FOOTPRINT_POINT_LONGITUDE = (99.4855,99.4735,99.4622,99.4471, 99.4379,99.4299,99.418,99.402,99.3869, 99.3749,99.3613,99.3428,99.3342,99.3231 ,99.3098,99.3018,99.2907,99.2727, 99.2634,99.2554,99.2427,99.2269,99.2163 ,99.207,99.1921,99.1673,99.142,99.1251, 99.1083,99.0872,99.0704,99.0577,99.0409 ,99.0241,99.0073,98.9904,98.9778,98.961 ,98.9484,98.9317,98.9149,98.8981, 98.8771,98.8604,98.8436,98.8311,98.8143 ,98.7976,98.7809,98.7612,98.7693, 98.7818,98.7968,98.8061,98.8236,98.8373 ,98.8481,98.8674,98.8795,98.8873, 98.8997,98.9108,98.9263,98.9384,98.9474 ,98.9616,98.9755,98.9882,98.9965, 99.0098,99.0193,99.0307,99.0384,99.0514 ,99.0619,99.0825,99.0949,99.1158, 99.1325,99.1533,99.17,99.1867,99.1992, 99.2201,99.2369,99.2536,99.2661,99.2829 ,99.2954,99.3164,99.3331,99.3499, 99.3709,99.3877,99.4087,99.4255,99.4381 ,99.4591,99.4843,99.4855)
ORBIT_NUMBER = 4638
ORBITAL_ECCENTRICITY = 0.57
ORBITAL_INCLINATION = 86.69
ORBITAL_SEMIMAJOR_AXIS = 8531.73
PERIAPSIS_ALTITUDE = 295.61
PERIAPSIS_ARGUMENT_ANGLE = 261.9
PERIAPSIS_TIME = 2007-08-14T09:01:32.000Z
SPACECRAFT_ORIENTATION = (0.0,-1.0,0.0)
^MEX_ORIENTATION_DESC = "MEX_ORIENTATION_DESC.TXT"
SPACECRAFT_POINTING_MODE = NADIR
^MEX_POINTING_DESC = "MEX_POINTING_DESC.TXT"
RIGHT_ASCENSION = -1e+32
DECLINATION = -1e+32
OFFSET_ANGLE = -1e+32
SPACECRAFT_SOLAR_DISTANCE = 2.11787e+08
TARGET_NAME = MARS
/* CAMERA DATA ELEMENTS */
BUFFER_MODE_ID = BUFFER_8
EXPOSURE_DURATION = 5.04
INST_CMPRS_NAME = NONE
INST_CMPRS_RATIO = 1.0
INST_CMPRS_QUALITY = -2147483648
INST_CMPRS_QUANTZ_TBL_ID = -2147483648
INSTRUMENT_TEMPERATURE = 6.69633
MISSING_FRAMES = 0
START_BIT = 0
/* RADIOMETRIC DATA ELEMENTS */
BANDWIDTH = 250.0
CENTER_FILTER_WAVELENGTH = 600.0
RADIANCE_OFFSET = -9.99e+31
RADIANCE_SCALING_FACTOR = -9.99e+31
REFLECTANCE_SCALING_FACTOR = -9.99e+31
MEX:REFLECTANCE_OFFSET = -9.99e+31
/* IMAGE OBJECT DEFINITIONS */
OBJECT = IMAGE
  INTERCHANGE_FORMAT = BINARY
  LINES = 1830
  LINE_SAMPLES = 1833
  SAMPLE_TYPE = UNSIGNED_INTEGER
  SAMPLE_BITS = 8
  BANDS = 1
  BAND_STORAGE_TYPE = BAND_SEQUENTIAL
  MAXIMUM = 250
  MEAN = 140.878
  MINIMUM = 21
  STANDARD_DEVIATION = 18.6897
END_OBJECT = IMAGE
/* MAP OBJECT DEFINITIONS */
OBJECT = IMAGE_MAP_PROJECTION
  ^DATA_SET_MAP_PROJECTION_CATALOG= "DSMAP.CAT"
  A_AXIS_RADIUS = 3396.19
  B_AXIS_RADIUS = 3396.19
  C_AXIS_RADIUS = 3396.19
  CENTER_LATITUDE = 0.0
  CENTER_LONGITUDE = 99.0
  COORDINATE_SYSTEM_NAME = PLANETOGRAPHIC
  COORDINATE_SYSTEM_TYPE = "BODY-FIXED ROTATING"
  EASTERNMOST_LONGITUDE = 99.4855
  FIRST_STANDARD_PARALLEL = "N/A"
  LINE_FIRST_PIXEL = 1
  LINE_LAST_PIXEL = 1830
  LINE_PROJECTION_OFFSET = -1996101.0
  MAP_PROJECTION_ROTATION = 0.0
  MAP_PROJECTION_TYPE = SINUSOIDAL
  MAP_RESOLUTION = 23709.8786048756
  MAP_SCALE = 0.0025
  MAXIMUM_LATITUDE = -84.4243
  MINIMUM_LATITUDE = -84.4935
  POSITIVE_LONGITUDE_DIRECTION = EAST
  REFERENCE_LATITUDE = "N/A"
  REFERENCE_LONGITUDE = "N/A"
  SAMPLE_FIRST_PIXEL = 1
  SAMPLE_LAST_PIXEL = 1833
  SAMPLE_PROJECTION_OFFSET = 639.0
  SECOND_STANDARD_PARALLEL = "N/A"
  WESTERNMOST_LONGITUDE = 98.7612
END_OBJECT = IMAGE_MAP_PROJECTION
/* The JPEG2000 image data file associated with this label. */
OBJECT = COMPRESSED_FILE
  FILE_NAME = "H4638_0005_SR3.JP2"
  RECORD_TYPE = UNDEFINED
  FILE_RECORDS = UNK
  ENCODING_TYPE = "JP2"
  INTERCHANGE_FORMAT = BINARY
  UNCOMPRESSED_FILE_NAME = "H4638_0005_SR3.IMG"
  REQUIRED_STORAGE_BYTES = "3376386"
  ^DESCRIPTION = "JP2INFO.TXT"
END_OBJECT = COMPRESSED_FILE
END
