PDS_VERSION_ID = PDS3
/* FILE DATA ELEMENTS */
RECORD_TYPE = STREAM
/* POINTERS TO DATA OBJECTS */
^COMPRESSED_FILE = "H4638_0009_IR3.JP2"
/* IDENTIFICATION DATA ELEMENTS */
DATA_SET_ID = "MEX-M-HRSC-5-REFDR-MAPPROJECTED-V3.0"
DATA_SET_NAME = "MARS EXPRESS HRSC MAP PROJECTED REFDR V3.0"
DETECTOR_ID = MEX_HRSC_IR
EVENT_TYPE = "MARS-REGIONAL-MAPPING-Im-Fl"
INSTRUMENT_HOST_ID = MEX
INSTRUMENT_HOST_NAME = "MARS EXPRESS"
INSTRUMENT_ID = HRSC
INSTRUMENT_NAME = "HIGH RESOLUTION STEREO CAMERA"
MISSION_NAME = "MARS EXPRESS"
MISSION_PHASE_NAME = ME_Phase_9
PROCESSING_LEVEL_ID = 3
PRODUCT_CREATION_TIME = 2016-04-26T01:56:16.000Z
PRODUCT_ID = "H4638_0009_IR3.JP2"
RELEASE_ID = 0053
REVISION_ID = 0000
/* QUALITY DATA ELEMENTS */
DATA_QUALITY_ID = 1
DATA_QUALITY_DESC = "Data calculated based on original SPICE kernels"
/* TIME DATA ELEMENTS */
SPACECRAFT_CLOCK_START_COUNT = "1/0135162764.08230"
SPACECRAFT_CLOCK_STOP_COUNT = "1/0135163242.38617"
START_TIME = 2007-08-14T09:12:59.397Z
STOP_TIME = 2007-08-14T09:16:17.190Z
/* ORBITAL DATA ELEMENTS */
ASCENDING_NODE_LONGITUDE = 131.38
MAXIMUM_RESOLUTION = 57.2
FOOTPRINT_POINT_LATITUDE = (-51.8908,-51.9172,-51.9488,-51.9685, -51.9826,-51.9946,-52.0013,-51.6321, -51.3185,-50.6819,-50.2535,-50.036, -49.7095,-49.4913,-49.2711,-49.0513, -48.8259,-48.4919,-48.2667,-48.04, -47.8128,-47.5851,-47.3543,-47.0063, -46.7736,-46.5389,-46.3039,-46.0694, -45.7178,-45.4851,-45.2524,-45.0202, -44.7857,-44.5525,-44.3208,-43.9738, -43.7444,-43.5185,-43.2874,-42.9412, -42.7127,-42.2559,-41.9139,-41.6863, -41.4592,-41.2325,-41.0066,-40.7816, -40.6645,-40.6662,-40.6655,-40.6618, -40.6587,-40.6541,-40.6434,-40.6332, -40.6251,-40.6034,-40.7008,-40.931, -41.1554,-41.3802,-41.7147,-41.9367, -42.1631,-42.3961,-42.6225,-42.964, -43.3065,-43.5352,-43.7646,-44.1097, -44.3397,-44.5702,-44.8009,-45.0327, -45.2652,-45.4968,-45.8464,-46.0807, -46.4287,-46.6625,-46.8939,-47.2398, -47.4694,-47.6964,-47.9233,-48.1481, -48.373,-48.5951,-48.818,-49.0385, -49.2593,-49.5863,-50.021,-50.4451, -50.8728,-51.187,-51.7111,-51.8908)
FOOTPRINT_POINT_LONGITUDE = (127.648,128.203,128.981,129.575, 130.095,130.653,131.063,131.212,131.237 ,131.286,131.317,131.333,131.356, 131.371,131.386,131.4,131.417,131.437, 131.451,131.466,131.479,131.493,131.506 ,131.527,131.54,131.553,131.566,131.579 ,131.597,131.609,131.62,131.632,131.644 ,131.656,131.667,131.683,131.693, 131.701,131.711,131.727,131.736,131.755 ,131.768,131.777,131.786,131.795, 131.803,131.81,131.57,131.242,130.914, 130.423,129.972,129.645,129.113,128.704 ,128.378,127.966,127.583,127.587, 127.588,127.589,127.589,127.588,127.588 ,127.59,127.589,127.588,127.586,127.584 ,127.582,127.579,127.576,127.573, 127.569,127.566,127.562,127.557,127.55, 127.545,127.535,127.529,127.522,127.512 ,127.504,127.496,127.488,127.48,127.471 ,127.462,127.453,127.443,127.433, 127.418,127.397,127.372,127.349,127.329 ,127.297,127.648)
ORBIT_NUMBER = 4638
ORBITAL_ECCENTRICITY = 0.57
ORBITAL_INCLINATION = 86.69
ORBITAL_SEMIMAJOR_AXIS = 8531.73
PERIAPSIS_ALTITUDE = 295.61
PERIAPSIS_ARGUMENT_ANGLE = 261.9
PERIAPSIS_TIME = 2007-08-14T09:01:32.000Z
SPACECRAFT_ORIENTATION = (0.0,-1.0,0.0)
^MEX_ORIENTATION_DESC = "MEX_ORIENTATION_DESC.TXT"
SPACECRAFT_POINTING_MODE = NADIR
^MEX_POINTING_DESC = "MEX_POINTING_DESC.TXT"
RIGHT_ASCENSION = -1e+32
DECLINATION = -1e+32
OFFSET_ANGLE = -1e+32
SPACECRAFT_SOLAR_DISTANCE = 2.11787e+08
TARGET_NAME = MARS
/* CAMERA DATA ELEMENTS */
DETECTOR_TEMPERATURE = 19.1861
FOCAL_PLANE_TEMPERATURE = 8.7872
INST_CMPRS_NAME = "DISCRETE COSINE TRANSFORMATION (DCT)"
INST_CMPRS_RATIO = 9.40549
INST_CMPRS_QUALITY = 0
INST_CMPRS_QUANTZ_TBL_ID = 0
INSTRUMENT_TEMPERATURE = 11.6418
LENS_TEMPERATURE = 8.9911
MACROPIXEL_SIZE = 2
MISSING_FRAMES = 0
PIXEL_SUBSAMPLING_FLAG = N
SIGNAL_CHAIN_ID = 3
/* RADIOMETRIC DATA ELEMENTS */
BANDWIDTH = 81.0
CENTER_FILTER_WAVELENGTH = 955.5
RADIANCE_OFFSET = 2.28174
RADIANCE_SCALING_FACTOR = 0.00368146
REFLECTANCE_SCALING_FACTOR = 0.000356247
MEX:REFLECTANCE_OFFSET = 0.220799
/* IMAGE OBJECT DEFINITIONS */
OBJECT = IMAGE
  INTERCHANGE_FORMAT = BINARY
  LINES = 13417
  LINE_SAMPLES = 4307
  SAMPLE_TYPE = UNSIGNED_INTEGER
  SAMPLE_BITS = 8
  BANDS = 1
  BAND_STORAGE_TYPE = BAND_SEQUENTIAL
  MAXIMUM = 255
  MEAN = 158.074
  MINIMUM = 1
  STANDARD_DEVIATION = 46.8819
END_OBJECT = IMAGE
/* MAP OBJECT DEFINITIONS */
OBJECT = IMAGE_MAP_PROJECTION
  ^DATA_SET_MAP_PROJECTION_CATALOG= "DSMAP.CAT"
  A_AXIS_RADIUS = 3396.0
  B_AXIS_RADIUS = 3396.0
  C_AXIS_RADIUS = 3396.0
  CENTER_LATITUDE = 0.0
  CENTER_LONGITUDE = 130.0
  COORDINATE_SYSTEM_NAME = PLANETOGRAPHIC
  COORDINATE_SYSTEM_TYPE = "BODY-FIXED ROTATING"
  EASTERNMOST_LONGITUDE = 131.81
  FIRST_STANDARD_PARALLEL = "N/A"
  LINE_FIRST_PIXEL = 1
  LINE_LAST_PIXEL = 13417
  LINE_PROJECTION_OFFSET = -48136.25
  MAP_PROJECTION_ROTATION = 0.0
  MAP_PROJECTION_TYPE = SINUSOIDAL
  MAP_RESOLUTION = 1185.42760773333
  MAP_SCALE = 0.05
  MAXIMUM_LATITUDE = -40.6034
  MINIMUM_LATITUDE = -52.0013
  POSITIVE_LONGITUDE_DIRECTION = EAST
  REFERENCE_LATITUDE = "N/A"
  REFERENCE_LONGITUDE = "N/A"
  SAMPLE_FIRST_PIXEL = 1
  SAMPLE_LAST_PIXEL = 4307
  SAMPLE_PROJECTION_OFFSET = 2455.75
  SECOND_STANDARD_PARALLEL = "N/A"
  WESTERNMOST_LONGITUDE = 127.297
END_OBJECT = IMAGE_MAP_PROJECTION
/* The JPEG2000 image data file associated with this label. */
OBJECT = COMPRESSED_FILE
  FILE_NAME = "H4638_0009_IR3.JP2"
  RECORD_TYPE = UNDEFINED
  FILE_RECORDS = UNK
  ENCODING_TYPE = "JP2"
  INTERCHANGE_FORMAT = BINARY
  UNCOMPRESSED_FILE_NAME = "H4638_0009_IR3.IMG"
  REQUIRED_STORAGE_BYTES = "57812861"
  ^DESCRIPTION = "JP2INFO.TXT"
END_OBJECT = COMPRESSED_FILE
END
