PDS_VERSION_ID = PDS3
/* FILE DATA ELEMENTS */
RECORD_TYPE = STREAM
/* POINTERS TO DATA OBJECTS */
^COMPRESSED_FILE = "H4638_0009_ND3.JP2"
/* IDENTIFICATION DATA ELEMENTS */
DATA_SET_ID = "MEX-M-HRSC-5-REFDR-MAPPROJECTED-V3.0"
DATA_SET_NAME = "MARS EXPRESS HRSC MAP PROJECTED REFDR V3.0"
DETECTOR_ID = MEX_HRSC_NADIR
EVENT_TYPE = "MARS-REGIONAL-MAPPING-Im-Fl"
INSTRUMENT_HOST_ID = MEX
INSTRUMENT_HOST_NAME = "MARS EXPRESS"
INSTRUMENT_ID = HRSC
INSTRUMENT_NAME = "HIGH RESOLUTION STEREO CAMERA"
MISSION_NAME = "MARS EXPRESS"
MISSION_PHASE_NAME = ME_Phase_9
PROCESSING_LEVEL_ID = 3
PRODUCT_CREATION_TIME = 2016-04-26T01:56:16.000Z
PRODUCT_ID = "H4638_0009_ND3.JP2"
RELEASE_ID = 0053
REVISION_ID = 0000
/* QUALITY DATA ELEMENTS */
DATA_QUALITY_ID = 1
DATA_QUALITY_DESC = "Data calculated based on original SPICE kernels"
/* TIME DATA ELEMENTS */
SPACECRAFT_CLOCK_START_COUNT = "1/0135162764.08230"
SPACECRAFT_CLOCK_STOP_COUNT = "1/0135163242.38617"
START_TIME = 2007-08-14T09:14:01.992Z
STOP_TIME = 2007-08-14T09:17:51.040Z
/* ORBITAL DATA ELEMENTS */
ASCENDING_NODE_LONGITUDE = 131.38
MAXIMUM_RESOLUTION = 30
FOOTPRINT_POINT_LATITUDE = (-51.8378,-51.8607,-51.8804,-51.9007, -51.9101,-51.9171,-51.9254,-51.582, -51.3516,-51.1193,-50.7694,-50.4168, -50.1802,-49.9443,-49.709,-49.4743, -49.2401,-49.0065,-48.7735,-48.5411, -48.3093,-48.0781,-47.8475,-47.6174, -47.3879,-47.1591,-46.9308,-46.7031, -46.4759,-46.2494,-46.0235,-45.7981, -45.5733,-45.3491,-45.1254,-44.9024, -44.68,-44.4581,-44.2368,-44.0161, -43.796,-43.5764,-43.3573,-42.9212, -42.4872,-42.0556,-41.6262,-41.1991, -40.7743,-40.6416,-40.6463,-40.6482, -40.6487,-40.6458,-40.643,-40.638, -40.6272,-40.6163,-40.6064,-41.0264, -41.4486,-41.8732,-42.3001,-42.7294, -43.161,-43.595,-44.0314,-44.4701, -44.6904,-44.9112,-45.1327,-45.3547, -45.5773,-45.8006,-46.0244,-46.2488, -46.4738,-46.6994,-46.9256,-47.1525, -47.3799,-47.6079,-47.8365,-48.0657, -48.2955,-48.5258,-48.7568,-48.9884, -49.2206,-49.4534,-49.6868,-49.9208, -50.1553,-50.3905,-50.6235,-50.8561, -51.087,-51.4315,-51.773,-51.8378)
FOOTPRINT_POINT_LONGITUDE = (127.863,128.481,129.101,129.885,130.34 ,130.755,131.348,131.378,131.396, 131.416,131.445,131.473,131.491,131.509 ,131.527,131.544,131.561,131.578, 131.594,131.61,131.627,131.642,131.658, 131.672,131.687,131.702,131.716,131.73, 131.744,131.758,131.771,131.784,131.797 ,131.809,131.821,131.834,131.848,131.86 ,131.872,131.883,131.894,131.905, 131.914,131.937,131.957,131.977,131.997 ,132.016,132.034,131.759,131.243, 130.869,130.214,129.607,129.28,128.859, 128.205,127.687,127.292,127.299,127.303 ,127.307,127.314,127.316,127.318, 127.319,127.319,127.317,127.316,127.314 ,127.313,127.31,127.307,127.305,127.302 ,127.298,127.294,127.289,127.284, 127.279,127.274,127.268,127.262,127.255 ,127.248,127.24,127.232,127.224,127.215 ,127.206,127.197,127.187,127.175, 127.163,127.153,127.14,127.127,127.11, 127.089,127.863)
ORBIT_NUMBER = 4638
ORBITAL_ECCENTRICITY = 0.57
ORBITAL_INCLINATION = 86.69
ORBITAL_SEMIMAJOR_AXIS = 8531.73
PERIAPSIS_ALTITUDE = 295.61
PERIAPSIS_ARGUMENT_ANGLE = 261.9
PERIAPSIS_TIME = 2007-08-14T09:01:32.000Z
SPACECRAFT_ORIENTATION = (0.0,-1.0,0.0)
^MEX_ORIENTATION_DESC = "MEX_ORIENTATION_DESC.TXT"
SPACECRAFT_POINTING_MODE = NADIR
^MEX_POINTING_DESC = "MEX_POINTING_DESC.TXT"
RIGHT_ASCENSION = -1e+32
DECLINATION = -1e+32
OFFSET_ANGLE = -1e+32
SPACECRAFT_SOLAR_DISTANCE = 2.11787e+08
TARGET_NAME = MARS
/* CAMERA DATA ELEMENTS */
DETECTOR_TEMPERATURE = 19.39
FOCAL_PLANE_TEMPERATURE = 8.7872
INST_CMPRS_NAME = "DISCRETE COSINE TRANSFORMATION (DCT)"
INST_CMPRS_RATIO = 6.77789
INST_CMPRS_QUALITY = 0
INST_CMPRS_QUANTZ_TBL_ID = 0
INSTRUMENT_TEMPERATURE = 11.6418
LENS_TEMPERATURE = 8.9911
MACROPIXEL_SIZE = 1
MISSING_FRAMES = 0
PIXEL_SUBSAMPLING_FLAG = N
SIGNAL_CHAIN_ID = 0
/* RADIOMETRIC DATA ELEMENTS */
BANDWIDTH = 177.0
CENTER_FILTER_WAVELENGTH = 677.5
RADIANCE_OFFSET = 9.54704
RADIANCE_SCALING_FACTOR = 0.0126302
REFLECTANCE_SCALING_FACTOR = 0.000300953
MEX:REFLECTANCE_OFFSET = 0.227488
/* IMAGE OBJECT DEFINITIONS */
OBJECT = IMAGE
  INTERCHANGE_FORMAT = BINARY
  LINES = 26834
  LINE_SAMPLES = 8613
  SAMPLE_TYPE = UNSIGNED_INTEGER
  SAMPLE_BITS = 8
  BANDS = 1
  BAND_STORAGE_TYPE = BAND_SEQUENTIAL
  MAXIMUM = 254
  MEAN = 161.884
  MINIMUM = 1
  STANDARD_DEVIATION = 43.14
END_OBJECT = IMAGE
/* MAP OBJECT DEFINITIONS */
OBJECT = IMAGE_MAP_PROJECTION
  ^DATA_SET_MAP_PROJECTION_CATALOG= "DSMAP.CAT"
  A_AXIS_RADIUS = 3396.0
  B_AXIS_RADIUS = 3396.0
  C_AXIS_RADIUS = 3396.0
  CENTER_LATITUDE = 0.0
  CENTER_LONGITUDE = 130.0
  COORDINATE_SYSTEM_NAME = PLANETOGRAPHIC
  COORDINATE_SYSTEM_TYPE = "BODY-FIXED ROTATING"
  EASTERNMOST_LONGITUDE = 132.034
  FIRST_STANDARD_PARALLEL = "N/A"
  LINE_FIRST_PIXEL = 1
  LINE_LAST_PIXEL = 26834
  LINE_PROJECTION_OFFSET = -96272.0
  MAP_PROJECTION_ROTATION = 0.0
  MAP_PROJECTION_TYPE = SINUSOIDAL
  MAP_RESOLUTION = 2370.85521546667
  MAP_SCALE = 0.025
  MAXIMUM_LATITUDE = -40.6064
  MINIMUM_LATITUDE = -51.9254
  POSITIVE_LONGITUDE_DIRECTION = EAST
  REFERENCE_LATITUDE = "N/A"
  REFERENCE_LONGITUDE = "N/A"
  SAMPLE_FIRST_PIXEL = 1
  SAMPLE_LAST_PIXEL = 8613
  SAMPLE_PROJECTION_OFFSET = 4912.0
  SECOND_STANDARD_PARALLEL = "N/A"
  WESTERNMOST_LONGITUDE = 127.089
END_OBJECT = IMAGE_MAP_PROJECTION
/* The JPEG2000 image data file associated with this label. */
OBJECT = COMPRESSED_FILE
  FILE_NAME = "H4638_0009_ND3.JP2"
  RECORD_TYPE = UNDEFINED
  FILE_RECORDS = UNK
  ENCODING_TYPE = "JP2"
  INTERCHANGE_FORMAT = BINARY
  UNCOMPRESSED_FILE_NAME = "H4638_0009_ND3.IMG"
  REQUIRED_STORAGE_BYTES = "231155694"
  ^DESCRIPTION = "JP2INFO.TXT"
END_OBJECT = COMPRESSED_FILE
END
