PDS_VERSION_ID = PDS3
/* FILE DATA ELEMENTS */
RECORD_TYPE = STREAM
/* POINTERS TO DATA OBJECTS */
^COMPRESSED_FILE = "H4638_0009_S23.JP2"
/* IDENTIFICATION DATA ELEMENTS */
DATA_SET_ID = "MEX-M-HRSC-5-REFDR-MAPPROJECTED-V3.0"
DATA_SET_NAME = "MARS EXPRESS HRSC MAP PROJECTED REFDR V3.0"
DETECTOR_ID = MEX_HRSC_S2
EVENT_TYPE = "MARS-REGIONAL-MAPPING-Im-Fl"
INSTRUMENT_HOST_ID = MEX
INSTRUMENT_HOST_NAME = "MARS EXPRESS"
INSTRUMENT_ID = HRSC
INSTRUMENT_NAME = "HIGH RESOLUTION STEREO CAMERA"
MISSION_NAME = "MARS EXPRESS"
MISSION_PHASE_NAME = ME_Phase_9
PROCESSING_LEVEL_ID = 3
PRODUCT_CREATION_TIME = 2016-04-26T01:56:16.000Z
PRODUCT_ID = "H4638_0009_S23.JP2"
RELEASE_ID = 0053
REVISION_ID = 0000
/* QUALITY DATA ELEMENTS */
DATA_QUALITY_ID = 1
DATA_QUALITY_DESC = "Data calculated based on original SPICE kernels"
/* TIME DATA ELEMENTS */
SPACECRAFT_CLOCK_START_COUNT = "1/0135162764.08230"
SPACECRAFT_CLOCK_STOP_COUNT = "1/0135163242.38617"
START_TIME = 2007-08-14T09:15:43.501Z
STOP_TIME = 2007-08-14T09:20:44.681Z
/* ORBITAL DATA ELEMENTS */
ASCENDING_NODE_LONGITUDE = 131.38
MAXIMUM_RESOLUTION = 75
FOOTPRINT_POINT_LATITUDE = (-51.7454,-51.7568,-51.7686,-51.7783, -51.7872,-51.7953,-51.8026,-51.8092, -51.815,-51.82,-51.8242,-51.8276, -51.7791,-51.526,-51.2737,-51.0228, -50.7754,-50.5273,-50.2802,-50.0338, -49.7895,-49.5459,-49.1814,-48.9403, -48.7011,-48.4627,-48.2254,-47.9891, -47.7537,-47.5196,-47.1696,-46.9387, -46.7175,-46.38,-46.1531,-45.9274, -45.6956,-45.4647,-45.2424,-44.9091, -44.4771,-44.1522,-43.7214,-43.2868, -42.9746,-42.4532,-42.0399,-41.6315, -41.2267,-40.8273,-40.6046,-40.608, -40.6109,-40.6156,-40.625,-40.6355, -40.6404,-40.6433,-40.6468,-40.6484, -40.653,-40.6624,-40.6556,-40.758, -41.1492,-41.6436,-42.0447,-42.4498, -42.9624,-43.3753,-43.6898,-44.112, -44.6471,-45.08,-45.4088,-45.6287, -45.8491,-46.0707,-46.4103,-46.6392, -46.8559,-47.1995,-47.4287,-47.7713, -48.0042,-48.2387,-48.4786,-48.8314, -49.0661,-49.3054,-49.5451,-49.7865, -50.0297,-50.2736,-50.5184,-50.889, -51.1363,-51.5068,-51.7535,-51.7454)
FOOTPRINT_POINT_LONGITUDE = (127.146,127.529,127.959,128.342, 128.724,129.107,129.49,129.872,130.255, 130.638,131.021,131.406,131.809,131.835 ,131.86,131.886,131.912,131.936,131.961 ,131.984,132.008,132.031,132.065, 132.087,132.11,132.131,132.153,132.174, 132.195,132.215,132.245,132.266,132.289 ,132.321,132.341,132.36,132.375,132.391 ,132.409,132.436,132.475,132.502, 132.537,132.567,132.594,132.636,132.669 ,132.702,132.733,132.765,132.557, 132.147,131.68,131.39,130.927,130.29, 129.595,129.305,128.784,128.494,128.087 ,127.678,127.157,126.789,126.804, 126.822,126.834,126.846,126.86,126.87, 126.876,126.884,126.891,126.895,126.897 ,126.898,126.899,126.9,126.898,126.896, 126.899,126.896,126.894,126.892,126.888 ,126.884,126.877,126.871,126.867,126.86 ,126.854,126.847,126.839,126.831, 126.822,126.807,126.797,126.782,126.773 ,127.146)
ORBIT_NUMBER = 4638
ORBITAL_ECCENTRICITY = 0.57
ORBITAL_INCLINATION = 86.69
ORBITAL_SEMIMAJOR_AXIS = 8531.73
PERIAPSIS_ALTITUDE = 295.61
PERIAPSIS_ARGUMENT_ANGLE = 261.9
PERIAPSIS_TIME = 2007-08-14T09:01:32.000Z
SPACECRAFT_ORIENTATION = (0.0,-1.0,0.0)
^MEX_ORIENTATION_DESC = "MEX_ORIENTATION_DESC.TXT"
SPACECRAFT_POINTING_MODE = NADIR
^MEX_POINTING_DESC = "MEX_POINTING_DESC.TXT"
RIGHT_ASCENSION = -1e+32
DECLINATION = -1e+32
OFFSET_ANGLE = -1e+32
SPACECRAFT_SOLAR_DISTANCE = 2.11787e+08
TARGET_NAME = MARS
/* CAMERA DATA ELEMENTS */
DETECTOR_TEMPERATURE = 20.4095
FOCAL_PLANE_TEMPERATURE = 8.7872
INST_CMPRS_NAME = "DISCRETE COSINE TRANSFORMATION (DCT)"
INST_CMPRS_RATIO = 11.3015
INST_CMPRS_QUALITY = 0
INST_CMPRS_QUANTZ_TBL_ID = 0
INSTRUMENT_TEMPERATURE = 11.6418
LENS_TEMPERATURE = 8.9911
MACROPIXEL_SIZE = 2
MISSING_FRAMES = 0
PIXEL_SUBSAMPLING_FLAG = N
SIGNAL_CHAIN_ID = 1
/* RADIOMETRIC DATA ELEMENTS */
BANDWIDTH = 178.0
CENTER_FILTER_WAVELENGTH = 679.0
RADIANCE_OFFSET = 10.1172
RADIANCE_SCALING_FACTOR = 0.0123057
REFLECTANCE_SCALING_FACTOR = 0.000292309
MEX:REFLECTANCE_OFFSET = 0.240323
/* IMAGE OBJECT DEFINITIONS */
OBJECT = IMAGE
  INTERCHANGE_FORMAT = BINARY
  LINES = 13417
  LINE_SAMPLES = 4307
  SAMPLE_TYPE = UNSIGNED_INTEGER
  SAMPLE_BITS = 8
  BANDS = 1
  BAND_STORAGE_TYPE = BAND_SEQUENTIAL
  MAXIMUM = 254
  MEAN = 166.492
  MINIMUM = 1
  STANDARD_DEVIATION = 44.4001
END_OBJECT = IMAGE
/* MAP OBJECT DEFINITIONS */
OBJECT = IMAGE_MAP_PROJECTION
  ^DATA_SET_MAP_PROJECTION_CATALOG= "DSMAP.CAT"
  A_AXIS_RADIUS = 3396.0
  B_AXIS_RADIUS = 3396.0
  C_AXIS_RADIUS = 3396.0
  CENTER_LATITUDE = 0.0
  CENTER_LONGITUDE = 130.0
  COORDINATE_SYSTEM_NAME = PLANETOGRAPHIC
  COORDINATE_SYSTEM_TYPE = "BODY-FIXED ROTATING"
  EASTERNMOST_LONGITUDE = 132.765
  FIRST_STANDARD_PARALLEL = "N/A"
  LINE_FIRST_PIXEL = 1
  LINE_LAST_PIXEL = 13417
  LINE_PROJECTION_OFFSET = -48136.25
  MAP_PROJECTION_ROTATION = 0.0
  MAP_PROJECTION_TYPE = SINUSOIDAL
  MAP_RESOLUTION = 1185.42760773333
  MAP_SCALE = 0.05
  MAXIMUM_LATITUDE = -40.6046
  MINIMUM_LATITUDE = -51.8276
  POSITIVE_LONGITUDE_DIRECTION = EAST
  REFERENCE_LATITUDE = "N/A"
  REFERENCE_LONGITUDE = "N/A"
  SAMPLE_FIRST_PIXEL = 1
  SAMPLE_LAST_PIXEL = 4307
  SAMPLE_PROJECTION_OFFSET = 2455.75
  SECOND_STANDARD_PARALLEL = "N/A"
  WESTERNMOST_LONGITUDE = 126.773
END_OBJECT = IMAGE_MAP_PROJECTION
/* The JPEG2000 image data file associated with this label. */
OBJECT = COMPRESSED_FILE
  FILE_NAME = "H4638_0009_S23.JP2"
  RECORD_TYPE = UNDEFINED
  FILE_RECORDS = UNK
  ENCODING_TYPE = "JP2"
  INTERCHANGE_FORMAT = BINARY
  UNCOMPRESSED_FILE_NAME = "H4638_0009_S23.IMG"
  REQUIRED_STORAGE_BYTES = "57812861"
  ^DESCRIPTION = "JP2INFO.TXT"
END_OBJECT = COMPRESSED_FILE
END
