PDS_VERSION_ID = PDS3
/* FILE DATA ELEMENTS */
RECORD_TYPE = STREAM
/* POINTERS TO DATA OBJECTS */
^COMPRESSED_FILE = "H4641_0000_S23.JP2"
/* IDENTIFICATION DATA ELEMENTS */
DATA_SET_ID = "MEX-M-HRSC-5-REFDR-MAPPROJECTED-V3.0"
DATA_SET_NAME = "MARS EXPRESS HRSC MAP PROJECTED REFDR V3.0"
DETECTOR_ID = MEX_HRSC_S2
EVENT_TYPE = "MARS-REGIONAL-MAPPING-Im-Fl-Pf"
INSTRUMENT_HOST_ID = MEX
INSTRUMENT_HOST_NAME = "MARS EXPRESS"
INSTRUMENT_ID = HRSC
INSTRUMENT_NAME = "HIGH RESOLUTION STEREO CAMERA"
MISSION_NAME = "MARS EXPRESS"
MISSION_PHASE_NAME = ME_Phase_9
PROCESSING_LEVEL_ID = 3
PRODUCT_CREATION_TIME = 2016-04-26T01:56:16.000Z
PRODUCT_ID = "H4641_0000_S23.JP2"
RELEASE_ID = 0053
REVISION_ID = 0000
/* QUALITY DATA ELEMENTS */
DATA_QUALITY_ID = 1
DATA_QUALITY_DESC = "Data calculated based on original SPICE kernels"
/* TIME DATA ELEMENTS */
SPACECRAFT_CLOCK_START_COUNT = "1/0135234937.07291"
SPACECRAFT_CLOCK_STOP_COUNT = "1/0135235351.02792"
START_TIME = 2007-08-15T05:16:51.379Z
STOP_TIME = 2007-08-15T05:22:33.117Z
/* ORBITAL DATA ELEMENTS */
ASCENDING_NODE_LONGITUDE = 131.32
MAXIMUM_RESOLUTION = 33.7
FOOTPRINT_POINT_LATITUDE = (-77.8736,-77.9962,-78.0903,-78.2987, -78.0018,-77.6963,-77.2415,-76.9339, -76.6271,-76.3157,-76.0019,-75.688, -75.3685,-74.8891,-74.4013,-73.91, -73.5787,-73.2486,-72.9138,-72.5766, -72.2324,-71.8907,-71.5436,-71.1954, -70.6646,-70.1286,-69.7687,-69.4031, -69.0341,-68.663,-68.2894,-67.7234, -67.1499,-66.7639,-66.3743,-65.9806, -65.5916,-64.9816,-64.5744,-64.1642, -63.7517,-63.3308,-62.9159,-62.2674, -61.8362,-61.3989,-60.9593,-60.5131, -60.0649,-60.0205,-59.9965,-59.9711, -59.9525,-59.9297,-59.8848,-60.3178, -60.7596,-61.1969,-61.6291,-62.0581, -62.4819,-62.8994,-63.313,-63.9332, -64.3381,-64.9479,-65.3454,-65.9353, -66.3252,-66.7106,-67.0928,-67.4714, -68.0327,-68.5876,-68.9535,-69.3171, -69.8561,-70.2125,-70.5631,-70.913, -71.2583,-71.6025,-71.9402,-72.2787, -72.6128,-72.95,-73.4371,-73.7627, -74.0836,-74.4056,-74.7223,-75.0371, -75.3532,-75.6619,-75.9715,-76.2783, -76.5788,-76.8791,-77.3252,-77.8736)
FOOTPRINT_POINT_LONGITUDE = (181.899,183.859,185.548,187.819, 188.163,188.486,188.947,189.24,189.519, 189.788,190.047,190.294,190.533,190.875 ,191.199,191.504,191.701,191.89,192.075 ,192.251,192.422,192.588,192.749, 192.904,193.128,193.342,193.479,193.614 ,193.742,193.868,193.991,194.17,194.341 ,194.451,194.559,194.664,194.771, 194.916,195.011,195.104,195.197,195.285 ,195.377,195.499,195.583,195.663, 195.743,195.82,195.896,195.341,194.454, 193.662,193.151,192.452,191.382,191.015 ,190.941,190.864,190.785,190.702, 190.617,190.53,190.44,190.293,190.194, 190.029,189.918,189.745,189.622,189.498 ,189.369,189.235,189.026,188.806, 188.653,188.493,188.243,188.07,187.892, 187.707,187.516,187.317,187.116,186.903 ,186.683,186.448,186.099,185.851, 185.594,185.323,185.044,184.754,184.447 ,184.132,183.801,183.457,183.106, 182.737,182.149,181.899)
ORBIT_NUMBER = 4641
ORBITAL_ECCENTRICITY = 0.57
ORBITAL_INCLINATION = 86.69
ORBITAL_SEMIMAJOR_AXIS = 8532.83
PERIAPSIS_ALTITUDE = 295.33
PERIAPSIS_ARGUMENT_ANGLE = 261.39
PERIAPSIS_TIME = 2007-08-15T05:11:10.000Z
SPACECRAFT_ORIENTATION = (0.0,-1.0,0.0)
^MEX_ORIENTATION_DESC = "MEX_ORIENTATION_DESC.TXT"
SPACECRAFT_POINTING_MODE = NADIR
^MEX_POINTING_DESC = "MEX_POINTING_DESC.TXT"
RIGHT_ASCENSION = -1e+32
DECLINATION = -1e+32
OFFSET_ANGLE = -1e+32
SPACECRAFT_SOLAR_DISTANCE = 2.11902e+08
TARGET_NAME = MARS
/* CAMERA DATA ELEMENTS */
DETECTOR_TEMPERATURE = 18.7783
FOCAL_PLANE_TEMPERATURE = 8.5833
INST_CMPRS_NAME = "DISCRETE COSINE TRANSFORMATION (DCT)"
INST_CMPRS_RATIO = 12.6672
INST_CMPRS_QUALITY = 0
INST_CMPRS_QUANTZ_TBL_ID = 0
INSTRUMENT_TEMPERATURE = 11.4379
LENS_TEMPERATURE = 9.195
MACROPIXEL_SIZE = 2
MISSING_FRAMES = 0
PIXEL_SUBSAMPLING_FLAG = N
SIGNAL_CHAIN_ID = 1
/* RADIOMETRIC DATA ELEMENTS */
BANDWIDTH = 178.0
CENTER_FILTER_WAVELENGTH = 679.0
RADIANCE_OFFSET = 5.35604
RADIANCE_SCALING_FACTOR = 0.019649
REFLECTANCE_SCALING_FACTOR = 0.000467245
MEX:REFLECTANCE_OFFSET = 0.127364
/* IMAGE OBJECT DEFINITIONS */
OBJECT = IMAGE
  INTERCHANGE_FORMAT = BINARY
  LINES = 43688
  LINE_SAMPLES = 10089
  SAMPLE_TYPE = UNSIGNED_INTEGER
  SAMPLE_BITS = 8
  BANDS = 1
  BAND_STORAGE_TYPE = BAND_SEQUENTIAL
  MAXIMUM = 255
  MEAN = 153.743
  MINIMUM = 1
  STANDARD_DEVIATION = 50.963
END_OBJECT = IMAGE
/* MAP OBJECT DEFINITIONS */
OBJECT = IMAGE_MAP_PROJECTION
  ^DATA_SET_MAP_PROJECTION_CATALOG= "DSMAP.CAT"
  A_AXIS_RADIUS = 3396.0
  B_AXIS_RADIUS = 3396.0
  C_AXIS_RADIUS = 3396.0
  CENTER_LATITUDE = 0.0
  CENTER_LONGITUDE = 191.0
  COORDINATE_SYSTEM_NAME = PLANETOGRAPHIC
  COORDINATE_SYSTEM_TYPE = "BODY-FIXED ROTATING"
  EASTERNMOST_LONGITUDE = 195.896
  FIRST_STANDARD_PARALLEL = "N/A"
  LINE_FIRST_PIXEL = 1
  LINE_LAST_PIXEL = 43688
  LINE_PROJECTION_OFFSET = -141983.75
  MAP_PROJECTION_ROTATION = 0.0
  MAP_PROJECTION_TYPE = SINUSOIDAL
  MAP_RESOLUTION = 2370.85521546667
  MAP_SCALE = 0.025
  MAXIMUM_LATITUDE = -59.8848
  MINIMUM_LATITUDE = -78.2987
  POSITIVE_LONGITUDE_DIRECTION = EAST
  REFERENCE_LATITUDE = "N/A"
  REFERENCE_LONGITUDE = "N/A"
  SAMPLE_FIRST_PIXEL = 1
  SAMPLE_LAST_PIXEL = 10089
  SAMPLE_PROJECTION_OFFSET = 4724.75
  SECOND_STANDARD_PARALLEL = "N/A"
  WESTERNMOST_LONGITUDE = 181.899
END_OBJECT = IMAGE_MAP_PROJECTION
/* The JPEG2000 image data file associated with this label. */
OBJECT = COMPRESSED_FILE
  FILE_NAME = "H4641_0000_S23.JP2"
  RECORD_TYPE = UNDEFINED
  FILE_RECORDS = UNK
  ENCODING_TYPE = "JP2"
  INTERCHANGE_FORMAT = BINARY
  UNCOMPRESSED_FILE_NAME = "H4641_0000_S23.IMG"
  REQUIRED_STORAGE_BYTES = "440798499"
  ^DESCRIPTION = "JP2INFO.TXT"
END_OBJECT = COMPRESSED_FILE
END
