PDS_VERSION_ID = PDS3
/* FILE DATA ELEMENTS */
RECORD_TYPE = STREAM
/* POINTERS TO DATA OBJECTS */
^COMPRESSED_FILE = "H4641_0001_SR3.JP2"
/* IDENTIFICATION DATA ELEMENTS */
DATA_SET_ID = "MEX-M-HRSC-5-REFDR-MAPPROJECTED-V3.0"
DATA_SET_NAME = "MARS EXPRESS HRSC MAP PROJECTED REFDR V3.0"
DETECTOR_ID = MEX_HRSC_SRC
EVENT_TYPE = "MARS-REGIONAL-MAPPING-Im-Fl-Pf"
INSTRUMENT_HOST_ID = MEX
INSTRUMENT_HOST_NAME = "MARS EXPRESS"
INSTRUMENT_ID = HRSC
INSTRUMENT_NAME = "HIGH RESOLUTION STEREO CAMERA"
MISSION_NAME = "MARS EXPRESS"
MISSION_PHASE_NAME = ME_Phase_9
PROCESSING_LEVEL_ID = 3
PRODUCT_CREATION_TIME = 2016-04-26T01:56:16.000Z
PRODUCT_ID = "H4641_0001_SR3.JP2"
RELEASE_ID = 0053
REVISION_ID = 0000
/* QUALITY DATA ELEMENTS */
DATA_QUALITY_ID = 1
DATA_QUALITY_DESC = "Data calculated based on original SPICE kernels"
/* TIME DATA ELEMENTS */
SPACECRAFT_CLOCK_START_COUNT = "1/0135234937.07291"
SPACECRAFT_CLOCK_STOP_COUNT = "1/0135235351.02792"
IMAGE_TIME = 2007-08-15T05:18:52.700Z
START_TIME = 2007-08-15T05:18:52.442Z
STOP_TIME = 2007-08-15T05:18:52.958Z
/* ORBITAL DATA ELEMENTS */
ASCENDING_NODE_LONGITUDE = 131.32
MAXIMUM_RESOLUTION = 4.376
FOOTPRINT_POINT_LATITUDE = (-68.4675,-68.4695,-68.473,-68.4758, -68.4788,-68.4832,-68.4851,-68.4887, -68.4925,-68.4949,-68.4969,-68.5004, -68.5046,-68.5084,-68.5114,-68.5148, -68.5176,-68.5205,-68.5238,-68.5272, -68.5305,-68.5327,-68.5351,-68.5379, -68.5402,-68.5397,-68.5393,-68.539, -68.5386,-68.5381,-68.5378,-68.5374, -68.537,-68.5366,-68.5363,-68.5359, -68.5355,-68.5351,-68.5347,-68.5343, -68.5339,-68.5335,-68.5331,-68.5327, -68.5323,-68.5319,-68.5315,-68.5311, -68.5307,-68.5292,-68.5258,-68.5222, -68.5198,-68.517,-68.515,-68.5119, -68.509,-68.5065,-68.5048,-68.5026, -68.4989,-68.4959,-68.4931,-68.4905, -68.4873,-68.4846,-68.4818,-68.4798, -68.4768,-68.4748,-68.4723,-68.4685, -68.4644,-68.4603,-68.4571,-68.4564, -68.4568,-68.4572,-68.4575,-68.4579, -68.4583,-68.4587,-68.4592,-68.4597, -68.4601,-68.4604,-68.4607,-68.461, -68.4613,-68.4618,-68.4622,-68.4627, -68.4631,-68.4635,-68.4641,-68.4646, -68.465,-68.4653,-68.4657,-68.4675)
FOOTPRINT_POINT_LONGITUDE = (191.445,191.445,191.443,191.442, 191.441,191.44,191.439,191.438,191.436, 191.435,191.435,191.433,191.432,191.43, 191.429,191.428,191.427,191.426,191.425 ,191.424,191.423,191.422,191.421,191.42 ,191.419,191.409,191.401,191.395, 191.387,191.377,191.369,191.361,191.353 ,191.344,191.338,191.33,191.322,191.314 ,191.306,191.298,191.29,191.282,191.274 ,191.266,191.258,191.25,191.242,191.234 ,191.226,191.215,191.216,191.218, 191.219,191.22,191.22,191.222,191.223, 191.223,191.224,191.225,191.226,191.227 ,191.228,191.229,191.231,191.232, 191.233,191.233,191.234,191.235,191.236 ,191.238,191.239,191.241,191.242, 191.246,191.254,191.262,191.268,191.276 ,191.284,191.292,191.302,191.312,191.32 ,191.328,191.334,191.34,191.346,191.356 ,191.364,191.374,191.382,191.39,191.402 ,191.412,191.421,191.429,191.437, 191.445)
ORBIT_NUMBER = 4641
ORBITAL_ECCENTRICITY = 0.57
ORBITAL_INCLINATION = 86.69
ORBITAL_SEMIMAJOR_AXIS = 8532.83
PERIAPSIS_ALTITUDE = 295.33
PERIAPSIS_ARGUMENT_ANGLE = 261.39
PERIAPSIS_TIME = 2007-08-15T05:11:10.000Z
SPACECRAFT_ORIENTATION = (0.0,-1.0,0.0)
^MEX_ORIENTATION_DESC = "MEX_ORIENTATION_DESC.TXT"
SPACECRAFT_POINTING_MODE = NADIR
^MEX_POINTING_DESC = "MEX_POINTING_DESC.TXT"
RIGHT_ASCENSION = -1e+32
DECLINATION = -1e+32
OFFSET_ANGLE = -1e+32
SPACECRAFT_SOLAR_DISTANCE = 2.11902e+08
TARGET_NAME = MARS
/* CAMERA DATA ELEMENTS */
BUFFER_MODE_ID = BUFFER_8
EXPOSURE_DURATION = 516.096
INST_CMPRS_NAME = NONE
INST_CMPRS_RATIO = 1.0
INST_CMPRS_QUALITY = -2147483648
INST_CMPRS_QUANTZ_TBL_ID = -2147483648
INSTRUMENT_TEMPERATURE = 10.944
MISSING_FRAMES = 0
START_BIT = 0
/* RADIOMETRIC DATA ELEMENTS */
BANDWIDTH = 250.0
CENTER_FILTER_WAVELENGTH = 600.0
RADIANCE_OFFSET = -9.99e+31
RADIANCE_SCALING_FACTOR = -9.99e+31
REFLECTANCE_SCALING_FACTOR = -9.99e+31
MEX:REFLECTANCE_OFFSET = -9.99e+31
/* IMAGE OBJECT DEFINITIONS */
OBJECT = IMAGE
  INTERCHANGE_FORMAT = BINARY
  LINES = 1073
  LINE_SAMPLES = 1085
  SAMPLE_TYPE = UNSIGNED_INTEGER
  SAMPLE_BITS = 8
  BANDS = 1
  BAND_STORAGE_TYPE = BAND_SEQUENTIAL
  MAXIMUM = 255
  MEAN = 253.666
  MINIMUM = 1
  STANDARD_DEVIATION = 17.8365
END_OBJECT = IMAGE
/* MAP OBJECT DEFINITIONS */
OBJECT = IMAGE_MAP_PROJECTION
  ^DATA_SET_MAP_PROJECTION_CATALOG= "DSMAP.CAT"
  A_AXIS_RADIUS = 3396.19
  B_AXIS_RADIUS = 3396.19
  C_AXIS_RADIUS = 3396.19
  CENTER_LATITUDE = 0.0
  CENTER_LONGITUDE = 191.0
  COORDINATE_SYSTEM_NAME = PLANETOGRAPHIC
  COORDINATE_SYSTEM_TYPE = "BODY-FIXED ROTATING"
  EASTERNMOST_LONGITUDE = 191.445
  FIRST_STANDARD_PARALLEL = "N/A"
  LINE_FIRST_PIXEL = 1
  LINE_LAST_PIXEL = 1073
  LINE_PROJECTION_OFFSET = -809808.0
  MAP_PROJECTION_ROTATION = 0.0
  MAP_PROJECTION_TYPE = SINUSOIDAL
  MAP_RESOLUTION = 11854.9393024378
  MAP_SCALE = 0.005
  MAXIMUM_LATITUDE = -68.4564
  MINIMUM_LATITUDE = -68.5402
  POSITIVE_LONGITUDE_DIRECTION = EAST
  REFERENCE_LATITUDE = "N/A"
  REFERENCE_LONGITUDE = "N/A"
  SAMPLE_FIRST_PIXEL = 1
  SAMPLE_LAST_PIXEL = 1085
  SAMPLE_PROJECTION_OFFSET = -883.0
  SECOND_STANDARD_PARALLEL = "N/A"
  WESTERNMOST_LONGITUDE = 191.215
END_OBJECT = IMAGE_MAP_PROJECTION
/* The JPEG2000 image data file associated with this label. */
OBJECT = COMPRESSED_FILE
  FILE_NAME = "H4641_0001_SR3.JP2"
  RECORD_TYPE = UNDEFINED
  FILE_RECORDS = UNK
  ENCODING_TYPE = "JP2"
  INTERCHANGE_FORMAT = BINARY
  UNCOMPRESSED_FILE_NAME = "H4641_0001_SR3.IMG"
  REQUIRED_STORAGE_BYTES = "1182650"
  ^DESCRIPTION = "JP2INFO.TXT"
END_OBJECT = COMPRESSED_FILE
END
