PDS_VERSION_ID = PDS3
/* FILE DATA ELEMENTS */
RECORD_TYPE = STREAM
/* POINTERS TO DATA OBJECTS */
^COMPRESSED_FILE = "H4642_0000_RE3.JP2"
/* IDENTIFICATION DATA ELEMENTS */
DATA_SET_ID = "MEX-M-HRSC-5-REFDR-MAPPROJECTED-V3.0"
DATA_SET_NAME = "MARS EXPRESS HRSC MAP PROJECTED REFDR V3.0"
DETECTOR_ID = MEX_HRSC_RED
EVENT_TYPE = "MARS-REGIONAL-MAPPING-Im-Pf"
INSTRUMENT_HOST_ID = MEX
INSTRUMENT_HOST_NAME = "MARS EXPRESS"
INSTRUMENT_ID = HRSC
INSTRUMENT_NAME = "HIGH RESOLUTION STEREO CAMERA"
MISSION_NAME = "MARS EXPRESS"
MISSION_PHASE_NAME = ME_Phase_9
PROCESSING_LEVEL_ID = 3
PRODUCT_CREATION_TIME = 2016-04-26T01:56:16.000Z
PRODUCT_ID = "H4642_0000_RE3.JP2"
RELEASE_ID = 0053
REVISION_ID = 0000
/* QUALITY DATA ELEMENTS */
DATA_QUALITY_ID = 1
DATA_QUALITY_DESC = "Data calculated based on original SPICE kernels"
/* TIME DATA ELEMENTS */
SPACECRAFT_CLOCK_START_COUNT = "1/0135259382.09086"
SPACECRAFT_CLOCK_STOP_COUNT = "1/0135259879.07959"
START_TIME = 2007-08-15T12:04:53.532Z
STOP_TIME = 2007-08-15T12:10:51.628Z
/* ORBITAL DATA ELEMENTS */
ASCENDING_NODE_LONGITUDE = 131.3
MAXIMUM_RESOLUTION = 52.3
FOOTPRINT_POINT_LATITUDE = (-62.0043,-62.0387,-62.0793,-62.121, -62.144,-62.1639,-61.6618,-61.2256, -60.7853,-60.3406,-60.0411,-59.7384, -59.4317,-59.1277,-58.8197,-58.5067, -58.0372,-57.566,-57.2498,-56.9281, -56.6096,-56.2881,-55.9612,-55.6312, -55.2987,-54.9612,-54.623,-54.1111, -53.7691,-53.4219,-53.07,-52.7258, -52.3792,-51.8577,-51.3415,-51.0052, -50.6558,-50.3307,-49.9968,-49.664, -49.3238,-48.9961,-48.5074,-48.186, -47.8636,-47.5447,-47.0634,-46.7486, -46.4351,-46.1253,-46.1013,-46.1037, -46.1026,-46.097,-46.0944,-46.0898, -46.0817,-46.3877,-46.693,-47.0015, -47.4718,-47.7872,-48.2608,-48.5809, -48.8996,-49.3921,-49.7204,-50.0507, -50.3824,-50.8816,-51.2081,-51.5487, -51.8966,-52.2454,-52.5928,-52.9411, -53.2872,-53.6305,-53.9711,-54.3076, -54.6305,-54.9743,-55.297,-55.6314, -56.122,-56.445,-56.7645,-57.0847, -57.4007,-57.7111,-58.0244,-58.3363, -58.6424,-58.9475,-59.2527,-59.8463, -60.4449,-61.02,-61.6026,-62.0043)
FOOTPRINT_POINT_LONGITUDE = (92.8017,93.5095,94.4396,95.5491, 96.2607,96.9752,97.2781,97.3571,97.4345 ,97.5103,97.559,97.6073,97.6533,97.7013 ,97.7476,97.792,97.8593,97.9276,97.9725 ,98.0153,98.0609,98.1054,98.1474, 98.1885,98.229,98.2676,98.3067,98.3643, 98.4035,98.4408,98.4768,98.5174,98.5547 ,98.6059,98.6557,98.6911,98.7171, 98.7593,98.7906,98.8206,98.8448,98.8743 ,98.9171,98.9461,98.9728,99.0,99.0399, 99.0654,99.0902,99.1156,98.4453,97.617, 96.9969,96.1701,95.1852,94.352,93.7588, 93.7587,93.7595,93.7588,93.7573,93.7535 ,93.7481,93.7423,93.7378,93.7224, 93.7124,93.7016,93.69,93.676,93.6687, 93.6521,93.6305,93.6085,93.5874,93.5657 ,93.5438,93.5209,93.4969,93.473,93.4568 ,93.4215,93.3996,93.3655,93.3171, 93.2848,93.2522,93.2159,93.1799,93.1457 ,93.1062,93.065,93.0259,92.9838,92.9389 ,92.8558,92.7545,92.6638,92.5533, 92.8017)
ORBIT_NUMBER = 4642
ORBITAL_ECCENTRICITY = 0.57
ORBITAL_INCLINATION = 86.7
ORBITAL_SEMIMAJOR_AXIS = 8531.17
PERIAPSIS_ALTITUDE = 294.8
PERIAPSIS_ARGUMENT_ANGLE = 261.21
PERIAPSIS_TIME = 2007-08-15T11:54:25.000Z
SPACECRAFT_ORIENTATION = (0.0,-1.0,0.0)
^MEX_ORIENTATION_DESC = "MEX_ORIENTATION_DESC.TXT"
SPACECRAFT_POINTING_MODE = NADIR
^MEX_POINTING_DESC = "MEX_POINTING_DESC.TXT"
RIGHT_ASCENSION = -1e+32
DECLINATION = -1e+32
OFFSET_ANGLE = -1e+32
SPACECRAFT_SOLAR_DISTANCE = 2.11941e+08
TARGET_NAME = MARS
/* CAMERA DATA ELEMENTS */
DETECTOR_TEMPERATURE = 18.3705
FOCAL_PLANE_TEMPERATURE = 8.3794
INST_CMPRS_NAME = "DISCRETE COSINE TRANSFORMATION (DCT)"
INST_CMPRS_RATIO = 11.7813
INST_CMPRS_QUALITY = 0
INST_CMPRS_QUANTZ_TBL_ID = 0
INSTRUMENT_TEMPERATURE = 11.234
LENS_TEMPERATURE = 8.5833
MACROPIXEL_SIZE = 2
MISSING_FRAMES = 2
PIXEL_SUBSAMPLING_FLAG = N
SIGNAL_CHAIN_ID = 3
/* RADIOMETRIC DATA ELEMENTS */
BANDWIDTH = 48.0
CENTER_FILTER_WAVELENGTH = 748.0
RADIANCE_OFFSET = 1.70962
RADIANCE_SCALING_FACTOR = 0.00587923
REFLECTANCE_SCALING_FACTOR = 0.000602671
MEX:REFLECTANCE_OFFSET = 0.17525
/* IMAGE OBJECT DEFINITIONS */
OBJECT = IMAGE
  INTERCHANGE_FORMAT = BINARY
  LINES = 19232
  LINE_SAMPLES = 4053
  SAMPLE_TYPE = UNSIGNED_INTEGER
  SAMPLE_BITS = 8
  BANDS = 1
  BAND_STORAGE_TYPE = BAND_SEQUENTIAL
  MAXIMUM = 255
  MEAN = 164.242
  MINIMUM = 1
  STANDARD_DEVIATION = 47.0959
END_OBJECT = IMAGE
/* MAP OBJECT DEFINITIONS */
OBJECT = IMAGE_MAP_PROJECTION
  ^DATA_SET_MAP_PROJECTION_CATALOG= "DSMAP.CAT"
  A_AXIS_RADIUS = 3396.0
  B_AXIS_RADIUS = 3396.0
  C_AXIS_RADIUS = 3396.0
  CENTER_LATITUDE = 0.0
  CENTER_LONGITUDE = 96.0
  COORDINATE_SYSTEM_NAME = PLANETOGRAPHIC
  COORDINATE_SYSTEM_TYPE = "BODY-FIXED ROTATING"
  EASTERNMOST_LONGITUDE = 99.1156
  FIRST_STANDARD_PARALLEL = "N/A"
  LINE_FIRST_PIXEL = 1
  LINE_LAST_PIXEL = 19232
  LINE_PROJECTION_OFFSET = -54575.75
  MAP_PROJECTION_ROTATION = 0.0
  MAP_PROJECTION_TYPE = SINUSOIDAL
  MAP_RESOLUTION = 1185.42760773333
  MAP_SCALE = 0.05
  MAXIMUM_LATITUDE = -46.0817
  MINIMUM_LATITUDE = -62.1639
  POSITIVE_LONGITUDE_DIRECTION = EAST
  REFERENCE_LATITUDE = "N/A"
  REFERENCE_LONGITUDE = "N/A"
  SAMPLE_FIRST_PIXEL = 1
  SAMPLE_LAST_PIXEL = 4053
  SAMPLE_PROJECTION_OFFSET = 1874.75
  SECOND_STANDARD_PARALLEL = "N/A"
  WESTERNMOST_LONGITUDE = 92.55329999999999
END_OBJECT = IMAGE_MAP_PROJECTION
/* The JPEG2000 image data file associated with this label. */
OBJECT = COMPRESSED_FILE
  FILE_NAME = "H4642_0000_RE3.JP2"
  RECORD_TYPE = UNDEFINED
  FILE_RECORDS = UNK
  ENCODING_TYPE = "JP2"
  INTERCHANGE_FORMAT = BINARY
  UNCOMPRESSED_FILE_NAME = "H4642_0000_RE3.IMG"
  REQUIRED_STORAGE_BYTES = "77971614"
  ^DESCRIPTION = "JP2INFO.TXT"
END_OBJECT = COMPRESSED_FILE
END
