PDS_VERSION_ID = PDS3
/* FILE DATA ELEMENTS */
RECORD_TYPE = STREAM
/* POINTERS TO DATA OBJECTS */
^COMPRESSED_FILE = "H4642_0000_S23.JP2"
/* IDENTIFICATION DATA ELEMENTS */
DATA_SET_ID = "MEX-M-HRSC-5-REFDR-MAPPROJECTED-V3.0"
DATA_SET_NAME = "MARS EXPRESS HRSC MAP PROJECTED REFDR V3.0"
DETECTOR_ID = MEX_HRSC_S2
EVENT_TYPE = "MARS-REGIONAL-MAPPING-Im-Pf"
INSTRUMENT_HOST_ID = MEX
INSTRUMENT_HOST_NAME = "MARS EXPRESS"
INSTRUMENT_ID = HRSC
INSTRUMENT_NAME = "HIGH RESOLUTION STEREO CAMERA"
MISSION_NAME = "MARS EXPRESS"
MISSION_PHASE_NAME = ME_Phase_9
PROCESSING_LEVEL_ID = 3
PRODUCT_CREATION_TIME = 2016-04-26T01:56:16.000Z
PRODUCT_ID = "H4642_0000_S23.JP2"
RELEASE_ID = 0053
REVISION_ID = 0000
/* QUALITY DATA ELEMENTS */
DATA_QUALITY_ID = 1
DATA_QUALITY_DESC = "Data calculated based on original SPICE kernels"
/* TIME DATA ELEMENTS */
SPACECRAFT_CLOCK_START_COUNT = "1/0135259382.09086"
SPACECRAFT_CLOCK_STOP_COUNT = "1/0135259879.07959"
START_TIME = 2007-08-15T12:05:06.305Z
STOP_TIME = 2007-08-15T12:11:21.221Z
/* ORBITAL DATA ELEMENTS */
ASCENDING_NODE_LONGITUDE = 131.3
MAXIMUM_RESOLUTION = 54.5
FOOTPRINT_POINT_LATITUDE = (-62.013,-62.0534,-62.0825,-62.1086, -62.1319,-62.1521,-61.655,-61.0639, -60.7612,-60.3071,-59.8463,-59.5351, -59.0669,-58.7524,-58.4329,-58.113, -57.7921,-57.4718,-56.9855,-56.4972, -56.1709,-55.8366,-55.4993,-55.1599, -54.8145,-54.4704,-54.1195,-53.5997, -53.2486,-52.9016,-52.3967,-52.0547, -51.7163,-51.3819,-51.0496,-50.6824, -50.2117,-49.8862,-49.5623,-49.2295, -48.9114,-48.5948,-48.2646,-47.9341, -47.6233,-47.3162,-47.0098,-46.7055, -46.403,-46.0843,-46.0892,-46.0926, -46.0926,-46.0841,-46.0865,-46.0929, -46.0894,-46.3812,-47.1224,-47.5745, -47.8787,-48.1973,-48.524,-48.835, -49.312,-49.631,-49.9528,-50.2746, -50.5919,-50.9413,-51.4261,-51.7649, -52.1085,-52.4488,-52.7905,-53.1325, -53.4761,-53.8218,-54.1664,-54.4866, -54.8419,-55.1681,-55.5079,-56.0135, -56.3432,-56.6686,-57.1575,-57.4789, -57.9541,-58.2722,-58.5855,-58.8954, -59.2078,-59.5139,-59.8135,-60.1227, -60.7228,-61.1588,-61.749,-62.013)
FOOTPRINT_POINT_LONGITUDE = (93.1714,94.0787,94.8058,95.5332, 96.2624,96.9942,97.3496,97.4603,97.512, 97.5901,97.6661,97.7148,97.7885,97.8367 ,97.8832,97.9299,97.9765,98.0239, 98.0932,98.163,98.21,98.2536,98.2964, 98.339,98.3791,98.4207,98.4598,98.5227, 98.5605,98.5982,98.659,98.6945,98.7299, 98.7655,98.8003,98.8304,98.8901,98.9221 ,98.9534,98.9788,99.0097,99.0397, 99.0714,99.1013,99.1296,99.1581,99.1856 ,99.2126,99.2393,98.9447,98.4572, 97.7538,96.7278,95.8639,95.2139,94.4507 ,93.9602,93.669,93.6713,93.67,93.6681, 93.6674,93.6629,93.6584,93.6465,93.6382 ,93.6287,93.6193,93.6127,93.6006, 93.5864,93.568,93.5468,93.5275,93.5073, 93.487,93.4656,93.4429,93.419,93.4081, 93.3713,93.3512,93.3193,93.2686,93.2365 ,93.2045,93.1509,93.1147,93.0598,93.019 ,92.9788,92.9381,92.8926,92.8491, 92.8081,92.7563,92.6577,92.5884,92.4777 ,93.1714)
ORBIT_NUMBER = 4642
ORBITAL_ECCENTRICITY = 0.57
ORBITAL_INCLINATION = 86.7
ORBITAL_SEMIMAJOR_AXIS = 8531.17
PERIAPSIS_ALTITUDE = 294.8
PERIAPSIS_ARGUMENT_ANGLE = 261.21
PERIAPSIS_TIME = 2007-08-15T11:54:25.000Z
SPACECRAFT_ORIENTATION = (0.0,-1.0,0.0)
^MEX_ORIENTATION_DESC = "MEX_ORIENTATION_DESC.TXT"
SPACECRAFT_POINTING_MODE = NADIR
^MEX_POINTING_DESC = "MEX_POINTING_DESC.TXT"
RIGHT_ASCENSION = -1e+32
DECLINATION = -1e+32
OFFSET_ANGLE = -1e+32
SPACECRAFT_SOLAR_DISTANCE = 2.11941e+08
TARGET_NAME = MARS
/* CAMERA DATA ELEMENTS */
DETECTOR_TEMPERATURE = 18.3705
FOCAL_PLANE_TEMPERATURE = 8.3794
INST_CMPRS_NAME = "DISCRETE COSINE TRANSFORMATION (DCT)"
INST_CMPRS_RATIO = 11.9329
INST_CMPRS_QUALITY = 0
INST_CMPRS_QUANTZ_TBL_ID = 0
INSTRUMENT_TEMPERATURE = 11.234
LENS_TEMPERATURE = 8.5833
MACROPIXEL_SIZE = 2
MISSING_FRAMES = 10
PIXEL_SUBSAMPLING_FLAG = N
SIGNAL_CHAIN_ID = 1
/* RADIOMETRIC DATA ELEMENTS */
BANDWIDTH = 178.0
CENTER_FILTER_WAVELENGTH = 679.0
RADIANCE_OFFSET = 7.49227
RADIANCE_SCALING_FACTOR = 0.0209022
REFLECTANCE_SCALING_FACTOR = 0.000497227
MEX:REFLECTANCE_OFFSET = 0.178228
/* IMAGE OBJECT DEFINITIONS */
OBJECT = IMAGE
  INTERCHANGE_FORMAT = BINARY
  LINES = 19232
  LINE_SAMPLES = 4053
  SAMPLE_TYPE = UNSIGNED_INTEGER
  SAMPLE_BITS = 8
  BANDS = 1
  BAND_STORAGE_TYPE = BAND_SEQUENTIAL
  MAXIMUM = 255
  MEAN = 169.016
  MINIMUM = 1
  STANDARD_DEVIATION = 48.4933
END_OBJECT = IMAGE
/* MAP OBJECT DEFINITIONS */
OBJECT = IMAGE_MAP_PROJECTION
  ^DATA_SET_MAP_PROJECTION_CATALOG= "DSMAP.CAT"
  A_AXIS_RADIUS = 3396.0
  B_AXIS_RADIUS = 3396.0
  C_AXIS_RADIUS = 3396.0
  CENTER_LATITUDE = 0.0
  CENTER_LONGITUDE = 96.0
  COORDINATE_SYSTEM_NAME = PLANETOGRAPHIC
  COORDINATE_SYSTEM_TYPE = "BODY-FIXED ROTATING"
  EASTERNMOST_LONGITUDE = 99.2393
  FIRST_STANDARD_PARALLEL = "N/A"
  LINE_FIRST_PIXEL = 1
  LINE_LAST_PIXEL = 19232
  LINE_PROJECTION_OFFSET = -54575.75
  MAP_PROJECTION_ROTATION = 0.0
  MAP_PROJECTION_TYPE = SINUSOIDAL
  MAP_RESOLUTION = 1185.42760773333
  MAP_SCALE = 0.05
  MAXIMUM_LATITUDE = -46.0841
  MINIMUM_LATITUDE = -62.1521
  POSITIVE_LONGITUDE_DIRECTION = EAST
  REFERENCE_LATITUDE = "N/A"
  REFERENCE_LONGITUDE = "N/A"
  SAMPLE_FIRST_PIXEL = 1
  SAMPLE_LAST_PIXEL = 4053
  SAMPLE_PROJECTION_OFFSET = 1874.75
  SECOND_STANDARD_PARALLEL = "N/A"
  WESTERNMOST_LONGITUDE = 92.4777
END_OBJECT = IMAGE_MAP_PROJECTION
/* The JPEG2000 image data file associated with this label. */
OBJECT = COMPRESSED_FILE
  FILE_NAME = "H4642_0000_S23.JP2"
  RECORD_TYPE = UNDEFINED
  FILE_RECORDS = UNK
  ENCODING_TYPE = "JP2"
  INTERCHANGE_FORMAT = BINARY
  UNCOMPRESSED_FILE_NAME = "H4642_0000_S23.IMG"
  REQUIRED_STORAGE_BYTES = "77971614"
  ^DESCRIPTION = "JP2INFO.TXT"
END_OBJECT = COMPRESSED_FILE
END
