PDS_VERSION_ID = PDS3
/* FILE DATA ELEMENTS */
RECORD_TYPE = STREAM
/* POINTERS TO DATA OBJECTS */
^COMPRESSED_FILE = "H4643_0000_ND3.JP2"
/* IDENTIFICATION DATA ELEMENTS */
DATA_SET_ID = "MEX-M-HRSC-5-REFDR-MAPPROJECTED-V3.0"
DATA_SET_NAME = "MARS EXPRESS HRSC MAP PROJECTED REFDR V3.0"
DETECTOR_ID = MEX_HRSC_NADIR
EVENT_TYPE = "MARS-REGIONAL-MAPPING-Im-Fl-Lc"
INSTRUMENT_HOST_ID = MEX
INSTRUMENT_HOST_NAME = "MARS EXPRESS"
INSTRUMENT_ID = HRSC
INSTRUMENT_NAME = "HIGH RESOLUTION STEREO CAMERA"
MISSION_NAME = "MARS EXPRESS"
MISSION_PHASE_NAME = ME_Phase_9
PROCESSING_LEVEL_ID = 3
PRODUCT_CREATION_TIME = 2016-04-26T01:56:16.000Z
PRODUCT_ID = "H4643_0000_ND3.JP2"
RELEASE_ID = 0053
REVISION_ID = 0000
/* QUALITY DATA ELEMENTS */
DATA_QUALITY_ID = 1
DATA_QUALITY_DESC = "Data calculated based on original SPICE kernels"
/* TIME DATA ELEMENTS */
SPACECRAFT_CLOCK_START_COUNT = "1/0135283750.09047"
SPACECRAFT_CLOCK_STOP_COUNT = "1/0135284266.38806"
START_TIME = 2007-08-15T18:50:31.777Z
STOP_TIME = 2007-08-15T18:54:36.765Z
/* ORBITAL DATA ELEMENTS */
ASCENDING_NODE_LONGITUDE = 131.28
MAXIMUM_RESOLUTION = 30.2
FOOTPRINT_POINT_LATITUDE = (-51.3432,-51.3663,-51.3859,-51.4058, -51.4148,-51.4214,-51.3081,-50.9459, -50.5805,-50.2121,-49.8404,-49.5914, -49.343,-49.0953,-48.8483,-48.6019, -48.3562,-48.1112,-47.8668,-47.6231, -47.3801,-47.1377,-46.896,-46.655, -46.4147,-46.1751,-45.9361,-45.6978, -45.4599,-45.2229,-44.9865,-44.7508, -44.5157,-44.2813,-44.0476,-43.8145, -43.5822,-43.3504,-43.1193,-42.8889, -42.6591,-42.4299,-42.2015,-41.9736, -41.5199,-41.0688,-40.6203,-40.1743, -39.7308,-39.5955,-39.5987,-39.6055, -39.6077,-39.608,-39.6048,-39.6013, -39.5934,-39.5827,-39.5726,-40.0104, -40.4508,-40.8939,-41.3397,-41.7881, -42.2391,-42.6929,-43.1493,-43.3785, -43.6084,-43.839,-44.0702,-44.3021, -44.5347,-44.768,-45.0019,-45.2366, -45.4719,-45.7078,-45.9445,-46.1818, -46.4199,-46.6586,-46.8979,-47.138, -47.3788,-47.6202,-47.8623,-48.1051, -48.3486,-48.5927,-48.8375,-49.0831, -49.3293,-49.5761,-49.8237,-50.192, -50.5573,-50.9195,-51.2785,-51.3432)
FOOTPRINT_POINT_LONGITUDE = (356.434,357.071,357.709,358.517, 358.985,359.412,360.029,360.06,360.089, 360.119,360.146,360.164,360.183,360.201 ,360.219,360.237,360.253,360.27,360.286 ,360.302,360.318,360.334,360.348, 360.364,360.379,360.397,360.41,360.424, 360.433,360.446,360.459,360.472,360.485 ,360.497,360.509,360.52,360.534,360.544 ,360.555,360.567,360.578,360.589, 360.599,360.609,360.63,360.649,360.669, 360.687,360.704,360.417,359.873,359.492 ,359.054,358.423,357.791,357.402, 356.818,356.235,355.766,355.78,355.792, 355.801,355.808,355.814,355.819,355.824 ,355.826,355.827,355.828,355.828, 355.828,355.828,355.827,355.826,355.825 ,355.821,355.819,355.816,355.814,355.81 ,355.807,355.805,355.8,355.795,355.789, 355.783,355.777,355.77,355.76,355.752, 355.742,355.733,355.724,355.711,355.703 ,355.688,355.674,355.657,355.638, 356.434)
ORBIT_NUMBER = 4643
ORBITAL_ECCENTRICITY = 0.57
ORBITAL_INCLINATION = 86.69
ORBITAL_SEMIMAJOR_AXIS = 8532.07
PERIAPSIS_ALTITUDE = 295.78
PERIAPSIS_ARGUMENT_ANGLE = 261.03
PERIAPSIS_TIME = 2007-08-15T18:37:35.000Z
SPACECRAFT_ORIENTATION = (0.0,-1.0,0.0)
^MEX_ORIENTATION_DESC = "MEX_ORIENTATION_DESC.TXT"
SPACECRAFT_POINTING_MODE = NADIR
^MEX_POINTING_DESC = "MEX_POINTING_DESC.TXT"
RIGHT_ASCENSION = -1e+32
DECLINATION = -1e+32
OFFSET_ANGLE = -1e+32
SPACECRAFT_SOLAR_DISTANCE = 2.1198e+08
TARGET_NAME = MARS
/* CAMERA DATA ELEMENTS */
DETECTOR_TEMPERATURE = 18.3705
FOCAL_PLANE_TEMPERATURE = 9.195
INST_CMPRS_NAME = "DISCRETE COSINE TRANSFORMATION (DCT)"
INST_CMPRS_RATIO = 7.15015
INST_CMPRS_QUALITY = 0
INST_CMPRS_QUANTZ_TBL_ID = 0
INSTRUMENT_TEMPERATURE = 11.4379
LENS_TEMPERATURE = 9.3989
MACROPIXEL_SIZE = 1
MISSING_FRAMES = 0
PIXEL_SUBSAMPLING_FLAG = N
SIGNAL_CHAIN_ID = 0
/* RADIOMETRIC DATA ELEMENTS */
BANDWIDTH = 177.0
CENTER_FILTER_WAVELENGTH = 677.5
RADIANCE_OFFSET = 9.85334
RADIANCE_SCALING_FACTOR = 0.0100895
REFLECTANCE_SCALING_FACTOR = 0.00024085
MEX:REFLECTANCE_OFFSET = 0.235213
/* IMAGE OBJECT DEFINITIONS */
OBJECT = IMAGE
  INTERCHANGE_FORMAT = BINARY
  LINES = 28109
  LINE_SAMPLES = 9081
  SAMPLE_TYPE = UNSIGNED_INTEGER
  SAMPLE_BITS = 8
  BANDS = 1
  BAND_STORAGE_TYPE = BAND_SEQUENTIAL
  MAXIMUM = 254
  MEAN = 153.55
  MINIMUM = 1
  STANDARD_DEVIATION = 41.4699
END_OBJECT = IMAGE
/* MAP OBJECT DEFINITIONS */
OBJECT = IMAGE_MAP_PROJECTION
  ^DATA_SET_MAP_PROJECTION_CATALOG= "DSMAP.CAT"
  A_AXIS_RADIUS = 3396.0
  B_AXIS_RADIUS = 3396.0
  C_AXIS_RADIUS = 3396.0
  CENTER_LATITUDE = 0.0
  CENTER_LONGITUDE = 358.0
  COORDINATE_SYSTEM_NAME = PLANETOGRAPHIC
  COORDINATE_SYSTEM_TYPE = "BODY-FIXED ROTATING"
  EASTERNMOST_LONGITUDE = 0.704
  FIRST_STANDARD_PARALLEL = "N/A"
  LINE_FIRST_PIXEL = 1
  LINE_LAST_PIXEL = 28109
  LINE_PROJECTION_OFFSET = -93820.0
  MAP_PROJECTION_ROTATION = 0.0
  MAP_PROJECTION_TYPE = SINUSOIDAL
  MAP_RESOLUTION = 2370.85521546667
  MAP_SCALE = 0.025
  MAXIMUM_LATITUDE = -39.5726
  MINIMUM_LATITUDE = -51.4214
  POSITIVE_LONGITUDE_DIRECTION = EAST
  REFERENCE_LATITUDE = "N/A"
  REFERENCE_LONGITUDE = "N/A"
  SAMPLE_FIRST_PIXEL = 1
  SAMPLE_LAST_PIXEL = 9081
  SAMPLE_PROJECTION_OFFSET = 4108.0
  SECOND_STANDARD_PARALLEL = "N/A"
  WESTERNMOST_LONGITUDE = -4.362
END_OBJECT = IMAGE_MAP_PROJECTION
/* The JPEG2000 image data file associated with this label. */
OBJECT = COMPRESSED_FILE
  FILE_NAME = "H4643_0000_ND3.JP2"
  RECORD_TYPE = UNDEFINED
  FILE_RECORDS = UNK
  ENCODING_TYPE = "JP2"
  INTERCHANGE_FORMAT = BINARY
  UNCOMPRESSED_FILE_NAME = "H4643_0000_ND3.IMG"
  REQUIRED_STORAGE_BYTES = "255294153"
  ^DESCRIPTION = "JP2INFO.TXT"
END_OBJECT = COMPRESSED_FILE
END
