PDS_VERSION_ID = PDS3
/* FILE DATA ELEMENTS */
RECORD_TYPE = STREAM
/* POINTERS TO DATA OBJECTS */
^COMPRESSED_FILE = "H4646_0000_S13.JP2"
/* IDENTIFICATION DATA ELEMENTS */
DATA_SET_ID = "MEX-M-HRSC-5-REFDR-MAPPROJECTED-V3.0"
DATA_SET_NAME = "MARS EXPRESS HRSC MAP PROJECTED REFDR V3.0"
DETECTOR_ID = MEX_HRSC_S1
EVENT_TYPE = "MARS-REGIONAL-MAPPING-Gl-Eo-La"
INSTRUMENT_HOST_ID = MEX
INSTRUMENT_HOST_NAME = "MARS EXPRESS"
INSTRUMENT_ID = HRSC
INSTRUMENT_NAME = "HIGH RESOLUTION STEREO CAMERA"
MISSION_NAME = "MARS EXPRESS"
MISSION_PHASE_NAME = ME_Phase_9
PROCESSING_LEVEL_ID = 3
PRODUCT_CREATION_TIME = 2016-04-26T01:56:16.000Z
PRODUCT_ID = "H4646_0000_S13.JP2"
RELEASE_ID = 0053
REVISION_ID = 0000
/* QUALITY DATA ELEMENTS */
DATA_QUALITY_ID = 1
DATA_QUALITY_DESC = "Data calculated based on original SPICE kernels"
/* TIME DATA ELEMENTS */
SPACECRAFT_CLOCK_START_COUNT = "1/0135355814.09080"
SPACECRAFT_CLOCK_STOP_COUNT = "1/0135355972.30614"
START_TIME = 2007-08-16T14:50:18.139Z
STOP_TIME = 2007-08-16T14:51:44.247Z
/* ORBITAL DATA ELEMENTS */
ASCENDING_NODE_LONGITUDE = 131.21
MAXIMUM_RESOLUTION = 27.3
FOOTPRINT_POINT_LATITUDE = (-84.0417,-84.1281,-84.2061,-84.3075, -84.3754,-84.4711,-84.5915,-84.6682, -84.51,-84.4115,-84.3127,-84.163, -84.0623,-83.9103,-83.7074,-83.5545, -83.452,-83.2973,-83.0904,-82.9347, -82.8304,-82.6684,-82.5602,-82.4514, -82.3419,-82.2332,-82.1238,-81.959, -81.8493,-81.6843,-81.5741,-81.4638, -81.3531,-81.1868,-81.076,-80.965, -80.854,-80.7428,-80.6314,-80.5199, -80.4084,-80.2968,-80.1293,-79.9615, -79.8495,-79.7375,-79.6256,-79.457, -79.3443,-79.1763,-79.1224,-79.0783, -79.0099,-78.957,-78.8688,-78.8871, -78.9965,-79.1052,-79.2144,-79.3233, -79.4867,-79.5953,-79.7035,-79.8117, -79.9726,-80.081,-80.1897,-80.2939, -80.3995,-80.505,-80.6131,-80.7727, -80.932,-81.0379,-81.1431,-81.2492, -81.3552,-81.461,-81.5657,-81.6694, -81.7726,-81.8748,-81.9774,-82.0793, -82.1814,-82.2828,-82.4317,-82.5788, -82.6762,-82.8681,-83.0102,-83.151, -83.2925,-83.4319,-83.5241,-83.6157, -83.7067,-83.7963,-83.9285,-84.0417)
FOOTPRINT_POINT_LONGITUDE = (29.4283,30.4378,31.396,32.7148,33.6496 ,35.0483,36.961,38.2848,39.667,40.2543, 40.8185,41.6336,42.1565,42.9082,43.8431 ,44.5029,44.9262,45.5389,46.3095, 46.8558,47.2076,47.7352,48.0713,48.3997 ,48.7212,49.0278,49.3289,49.7659, 50.0456,50.4512,50.7127,50.9671,51.2157 ,51.5772,51.8092,52.0359,52.2564,52.472 ,52.6825,52.8883,53.0883,53.2841, 53.5686,53.8438,54.0223,54.1963,54.3661 ,54.6155,54.7781,54.4783,53.2746,52.473 ,51.3127,50.4657,49.1527,48.5597, 48.3581,48.1524,47.9421,47.7274,47.3965 ,47.1699,46.9385,46.7019,46.3376, 46.0872,45.8307,45.571,45.3045,45.0317, 44.7504,44.3174,43.8685,43.5601,43.2446 ,42.9199,42.587,42.2454,41.896,41.5383, 41.1718,40.7966,40.4104,40.0147,39.6074 ,39.1897,38.5583,37.9027,37.451,36.5135 ,35.777,35.01,34.2048,33.3663,32.7869, 32.1903,31.5759,30.9452,29.9702, 29.4283)
ORBIT_NUMBER = 4646
ORBITAL_ECCENTRICITY = 0.57
ORBITAL_INCLINATION = 86.69
ORBITAL_SEMIMAJOR_AXIS = 8531.78
PERIAPSIS_ALTITUDE = 295.03
PERIAPSIS_ARGUMENT_ANGLE = 260.54
PERIAPSIS_TIME = 2007-08-16T14:47:13.000Z
SPACECRAFT_ORIENTATION = (0.0,-1.0,0.0)
^MEX_ORIENTATION_DESC = "MEX_ORIENTATION_DESC.TXT"
SPACECRAFT_POINTING_MODE = NADIR
^MEX_POINTING_DESC = "MEX_POINTING_DESC.TXT"
RIGHT_ASCENSION = -1e+32
DECLINATION = -1e+32
OFFSET_ANGLE = -1e+32
SPACECRAFT_SOLAR_DISTANCE = 2.12096e+08
TARGET_NAME = MARS
/* CAMERA DATA ELEMENTS */
DETECTOR_TEMPERATURE = 17.5549
FOCAL_PLANE_TEMPERATURE = 8.5833
INST_CMPRS_NAME = "DISCRETE COSINE TRANSFORMATION (DCT)"
INST_CMPRS_RATIO = 11.9079
INST_CMPRS_QUALITY = 0
INST_CMPRS_QUANTZ_TBL_ID = 0
INSTRUMENT_TEMPERATURE = 11.234
LENS_TEMPERATURE = 8.7872
MACROPIXEL_SIZE = 2
MISSING_FRAMES = 0
PIXEL_SUBSAMPLING_FLAG = N
SIGNAL_CHAIN_ID = 1
/* RADIOMETRIC DATA ELEMENTS */
BANDWIDTH = 180.0
CENTER_FILTER_WAVELENGTH = 677.0
RADIANCE_OFFSET = 5.65484
RADIANCE_SCALING_FACTOR = 0.0103487
REFLECTANCE_SCALING_FACTOR = 0.000242884
MEX:REFLECTANCE_OFFSET = 0.132719
/* IMAGE OBJECT DEFINITIONS */
OBJECT = IMAGE
  INTERCHANGE_FORMAT = BINARY
  LINES = 9476
  LINE_SAMPLES = 6634
  SAMPLE_TYPE = UNSIGNED_INTEGER
  SAMPLE_BITS = 8
  BANDS = 1
  BAND_STORAGE_TYPE = BAND_SEQUENTIAL
  MAXIMUM = 218
  MEAN = 93.6555
  MINIMUM = 1
  STANDARD_DEVIATION = 33.1515
END_OBJECT = IMAGE
/* MAP OBJECT DEFINITIONS */
OBJECT = IMAGE_MAP_PROJECTION
  ^DATA_SET_MAP_PROJECTION_CATALOG= "DSMAP.CAT"
  A_AXIS_RADIUS = 3396.0
  B_AXIS_RADIUS = 3396.0
  C_AXIS_RADIUS = 3396.0
  CENTER_LATITUDE = 0.0
  CENTER_LONGITUDE = 43.0
  COORDINATE_SYSTEM_NAME = PLANETOGRAPHIC
  COORDINATE_SYSTEM_TYPE = "BODY-FIXED ROTATING"
  EASTERNMOST_LONGITUDE = 54.7781
  FIRST_STANDARD_PARALLEL = "N/A"
  LINE_FIRST_PIXEL = 1
  LINE_LAST_PIXEL = 9476
  LINE_PROJECTION_OFFSET = -191023.25
  MAP_PROJECTION_ROTATION = 0.0
  MAP_PROJECTION_TYPE = SINUSOIDAL
  MAP_RESOLUTION = 2370.85521546667
  MAP_SCALE = 0.025
  MAXIMUM_LATITUDE = -78.86879999999999
  MINIMUM_LATITUDE = -84.6682
  POSITIVE_LONGITUDE_DIRECTION = EAST
  REFERENCE_LATITUDE = "N/A"
  REFERENCE_LONGITUDE = "N/A"
  SAMPLE_FIRST_PIXEL = 1
  SAMPLE_LAST_PIXEL = 6634
  SAMPLE_PROJECTION_OFFSET = 3249.75
  SECOND_STANDARD_PARALLEL = "N/A"
  WESTERNMOST_LONGITUDE = 29.4283
END_OBJECT = IMAGE_MAP_PROJECTION
/* The JPEG2000 image data file associated with this label. */
OBJECT = COMPRESSED_FILE
  FILE_NAME = "H4646_0000_S13.JP2"
  RECORD_TYPE = UNDEFINED
  FILE_RECORDS = UNK
  ENCODING_TYPE = "JP2"
  INTERCHANGE_FORMAT = BINARY
  UNCOMPRESSED_FILE_NAME = "H4646_0000_S13.IMG"
  REQUIRED_STORAGE_BYTES = "62896954"
  ^DESCRIPTION = "JP2INFO.TXT"
END_OBJECT = COMPRESSED_FILE
END
