PDS_VERSION_ID = PDS3
/* FILE DATA ELEMENTS */
RECORD_TYPE = STREAM
/* POINTERS TO DATA OBJECTS */
^COMPRESSED_FILE = "H4648_0000_ND3.JP2"
/* IDENTIFICATION DATA ELEMENTS */
DATA_SET_ID = "MEX-M-HRSC-5-REFDR-MAPPROJECTED-V3.0"
DATA_SET_NAME = "MARS EXPRESS HRSC MAP PROJECTED REFDR V3.0"
DETECTOR_ID = MEX_HRSC_NADIR
EVENT_TYPE = "MARS-REGIONAL-MAPPING-Gl-Pf-La"
INSTRUMENT_HOST_ID = MEX
INSTRUMENT_HOST_NAME = "MARS EXPRESS"
INSTRUMENT_ID = HRSC
INSTRUMENT_NAME = "HIGH RESOLUTION STEREO CAMERA"
MISSION_NAME = "MARS EXPRESS"
MISSION_PHASE_NAME = ME_Phase_9
PROCESSING_LEVEL_ID = 3
PRODUCT_CREATION_TIME = 2016-04-26T01:56:16.000Z
PRODUCT_ID = "H4648_0000_ND3.JP2"
RELEASE_ID = 0053
REVISION_ID = 0000
/* QUALITY DATA ELEMENTS */
DATA_QUALITY_ID = 1
DATA_QUALITY_DESC = "Data calculated based on original SPICE kernels"
/* TIME DATA ELEMENTS */
SPACECRAFT_CLOCK_START_COUNT = "1/0135404200.08258"
SPACECRAFT_CLOCK_STOP_COUNT = "1/0135404407.13747"
START_TIME = 2007-08-17T04:17:13.512Z
STOP_TIME = 2007-08-17T04:19:28.507Z
/* ORBITAL DATA ELEMENTS */
ASCENDING_NODE_LONGITUDE = 131.18
MAXIMUM_RESOLUTION = 13.3
FOOTPRINT_POINT_LATITUDE = (-84.0938,-84.2495,-84.417,-84.5212, -84.6327,-84.5459,-84.406,-84.265, -84.123,-83.9801,-83.8365,-83.692, -83.5469,-83.4011,-83.2548,-83.1078, -82.9604,-82.8125,-82.6641,-82.5154, -82.3663,-82.2168,-82.067,-81.9169, -81.7666,-81.6159,-81.314,-81.0113, -80.708,-80.4437,-80.2621,-80.0805, -79.8988,-79.7166,-79.5346,-79.3524, -79.1702,-78.9879,-78.8056,-78.6232, -78.4409,-78.2586,-78.0762,-77.8939, -77.7116,-77.5293,-77.347,-77.1647, -76.9826,-76.8004,-76.6183,-76.4891, -76.4386,-76.3963,-76.3448,-76.2503, -76.2892,-76.4677,-76.6465,-76.8251, -77.0037,-77.1822,-77.3605,-77.5388, -77.7171,-77.8953,-78.0733,-78.2512, -78.4288,-78.6063,-78.7836,-78.9607, -79.1375,-79.3139,-79.4901,-79.666, -79.8418,-80.017,-80.2724,-80.5644, -80.8546,-81.1433,-81.4305,-81.7155, -81.9981,-82.1385,-82.2782,-82.4171, -82.5552,-82.6925,-82.8289,-82.9643, -83.0987,-83.232,-83.3642,-83.4951, -83.6247,-83.7528,-83.8795,-84.0938)
FOOTPRINT_POINT_LONGITUDE = (193.62,195.574,197.911,199.514,201.379 ,203.158,203.99,204.781,205.532,206.247 ,206.928,207.578,208.199,208.792, 209.359,209.901,210.419,210.917,211.393 ,211.851,212.29,212.712,213.118,213.508 ,213.884,214.246,214.93,215.568,216.163 ,216.649,216.966,217.273,217.569, 217.848,218.121,218.384,218.638,218.882 ,219.119,219.348,219.57,219.785,219.993 ,220.194,220.389,220.578,220.761, 220.938,221.111,221.279,221.441,220.764 ,219.718,218.911,217.994,216.462, 215.602,215.391,215.179,214.959,214.732 ,214.498,214.255,214.005,213.749, 213.488,213.214,212.933,212.641,212.338 ,212.027,211.705,211.371,211.023, 210.663,210.293,209.91,209.511,208.9, 208.161,207.368,206.521,205.619,204.648 ,203.605,203.055,202.484,201.891, 201.275,200.636,199.971,199.279,198.56, 197.811,197.032,196.22,195.374,194.492, 193.572,193.62)
ORBIT_NUMBER = 4648
ORBITAL_ECCENTRICITY = 0.57
ORBITAL_INCLINATION = 86.7
ORBITAL_SEMIMAJOR_AXIS = 8533.14
PERIAPSIS_ALTITUDE = 294.85
PERIAPSIS_ARGUMENT_ANGLE = 260.18
PERIAPSIS_TIME = 2007-08-17T04:13:36.000Z
SPACECRAFT_ORIENTATION = (0.0,-1.0,0.0)
^MEX_ORIENTATION_DESC = "MEX_ORIENTATION_DESC.TXT"
SPACECRAFT_POINTING_MODE = NADIR
^MEX_POINTING_DESC = "MEX_POINTING_DESC.TXT"
RIGHT_ASCENSION = -1e+32
DECLINATION = -1e+32
OFFSET_ANGLE = -1e+32
SPACECRAFT_SOLAR_DISTANCE = 2.12175e+08
TARGET_NAME = MARS
/* CAMERA DATA ELEMENTS */
DETECTOR_TEMPERATURE = 18.1666
FOCAL_PLANE_TEMPERATURE = 8.1755
INST_CMPRS_NAME = "DISCRETE COSINE TRANSFORMATION (DCT)"
INST_CMPRS_RATIO = 6.41156
INST_CMPRS_QUALITY = 0
INST_CMPRS_QUANTZ_TBL_ID = 0
INSTRUMENT_TEMPERATURE = 11.234
LENS_TEMPERATURE = 8.5833
MACROPIXEL_SIZE = 1
MISSING_FRAMES = 0
PIXEL_SUBSAMPLING_FLAG = N
SIGNAL_CHAIN_ID = 0
/* RADIOMETRIC DATA ELEMENTS */
BANDWIDTH = 177.0
CENTER_FILTER_WAVELENGTH = 677.5
RADIANCE_OFFSET = 3.81975
RADIANCE_SCALING_FACTOR = 0.0127041
REFLECTANCE_SCALING_FACTOR = 0.00030382
MEX:REFLECTANCE_OFFSET = 0.0913501
/* IMAGE OBJECT DEFINITIONS */
OBJECT = IMAGE
  INTERCHANGE_FORMAT = BINARY
  LINES = 40130
  LINE_SAMPLES = 20166
  SAMPLE_TYPE = UNSIGNED_INTEGER
  SAMPLE_BITS = 8
  BANDS = 1
  BAND_STORAGE_TYPE = BAND_SEQUENTIAL
  MAXIMUM = 255
  MEAN = 107.44
  MINIMUM = 1
  STANDARD_DEVIATION = 46.3068
END_OBJECT = IMAGE
/* MAP OBJECT DEFINITIONS */
OBJECT = IMAGE_MAP_PROJECTION
  ^DATA_SET_MAP_PROJECTION_CATALOG= "DSMAP.CAT"
  A_AXIS_RADIUS = 3396.0
  B_AXIS_RADIUS = 3396.0
  C_AXIS_RADIUS = 3396.0
  CENTER_LATITUDE = 0.0
  CENTER_LONGITUDE = 212.0
  COORDINATE_SYSTEM_NAME = PLANETOGRAPHIC
  COORDINATE_SYSTEM_TYPE = "BODY-FIXED ROTATING"
  EASTERNMOST_LONGITUDE = 221.441
  FIRST_STANDARD_PARALLEL = "N/A"
  LINE_FIRST_PIXEL = 1
  LINE_LAST_PIXEL = 40130
  LINE_PROJECTION_OFFSET = -361349.0
  MAP_PROJECTION_ROTATION = 0.0
  MAP_PROJECTION_TYPE = SINUSOIDAL
  MAP_RESOLUTION = 4741.71043093333
  MAP_SCALE = 0.0125
  MAXIMUM_LATITUDE = -76.2503
  MINIMUM_LATITUDE = -84.6327
  POSITIVE_LONGITUDE_DIRECTION = EAST
  REFERENCE_LATITUDE = "N/A"
  REFERENCE_LONGITUDE = "N/A"
  SAMPLE_FIRST_PIXEL = 1
  SAMPLE_LAST_PIXEL = 20166
  SAMPLE_PROJECTION_OFFSET = 9651.0
  SECOND_STANDARD_PARALLEL = "N/A"
  WESTERNMOST_LONGITUDE = 193.572
END_OBJECT = IMAGE_MAP_PROJECTION
/* The JPEG2000 image data file associated with this label. */
OBJECT = COMPRESSED_FILE
  FILE_NAME = "H4648_0000_ND3.JP2"
  RECORD_TYPE = UNDEFINED
  FILE_RECORDS = UNK
  ENCODING_TYPE = "JP2"
  INTERCHANGE_FORMAT = BINARY
  UNCOMPRESSED_FILE_NAME = "H4648_0000_ND3.IMG"
  REQUIRED_STORAGE_BYTES = "809322078"
  ^DESCRIPTION = "JP2INFO.TXT"
END_OBJECT = COMPRESSED_FILE
END
