PDS_VERSION_ID = PDS3
/* FILE DATA ELEMENTS */
RECORD_TYPE = STREAM
/* POINTERS TO DATA OBJECTS */
^COMPRESSED_FILE = "H4650_0000_IR3.JP2"
/* IDENTIFICATION DATA ELEMENTS */
DATA_SET_ID = "MEX-M-HRSC-5-REFDR-MAPPROJECTED-V3.0"
DATA_SET_NAME = "MARS EXPRESS HRSC MAP PROJECTED REFDR V3.0"
DETECTOR_ID = MEX_HRSC_IR
EVENT_TYPE = "MARS-REGIONAL-MAPPING-Im-Gl-Pf"
INSTRUMENT_HOST_ID = MEX
INSTRUMENT_HOST_NAME = "MARS EXPRESS"
INSTRUMENT_ID = HRSC
INSTRUMENT_NAME = "HIGH RESOLUTION STEREO CAMERA"
MISSION_NAME = "MARS EXPRESS"
MISSION_PHASE_NAME = ME_Phase_9
PROCESSING_LEVEL_ID = 3
PRODUCT_CREATION_TIME = 2016-04-26T01:56:16.000Z
PRODUCT_ID = "H4650_0000_IR3.JP2"
RELEASE_ID = 0053
REVISION_ID = 0000
/* QUALITY DATA ELEMENTS */
DATA_QUALITY_ID = 2
DATA_QUALITY_DESC = "Data calculated based on photogrammetrically improved orbit and attitude data"
/* TIME DATA ELEMENTS */
SPACECRAFT_CLOCK_START_COUNT = "1/0135452624.08243"
SPACECRAFT_CLOCK_STOP_COUNT = "1/0135452986.31730"
START_TIME = 2007-08-17T17:43:53.325Z
STOP_TIME = 2007-08-17T17:48:07.161Z
/* ORBITAL DATA ELEMENTS */
ASCENDING_NODE_LONGITUDE = 131.13
MAXIMUM_RESOLUTION = 56.9
FOOTPRINT_POINT_LATITUDE = (-82.2522,-82.3908,-82.5506,-82.6165, -82.3596,-81.9725,-81.7089,-81.3217, -81.0542,-80.6609,-80.3946,-79.9924, -79.7259,-79.2995,-78.9807,-78.6622, -78.3418,-78.0244,-77.6999,-77.2159, -76.7355,-76.2616,-75.9406,-75.6208, -75.1399,-74.8202,-74.4926,-74.162, -73.833,-73.4987,-73.1618,-72.8246, -72.3089,-71.9642,-71.6152,-71.2629, -70.9099,-70.5494,-70.0085,-69.6403, -69.2721,-68.9002,-68.5261,-68.147, -67.7651,-67.1843,-66.7926,-66.3945, -66.3384,-66.3111,-66.2861,-66.2561, -66.2167,-66.1815,-66.1487,-66.5448, -66.934,-67.323,-67.6984,-68.0787, -68.4504,-69.0086,-69.3736,-69.7396, -70.0981,-70.6351,-70.9833,-71.3326, -71.6788,-72.0204,-72.531,-72.8637, -73.1967,-73.5277,-73.8523,-74.1769, -74.5005,-74.8184,-75.2921,-75.7641, -76.2342,-76.5524,-76.8671,-77.3356, -77.6488,-78.1166,-78.4296,-78.7424, -79.0515,-79.3135,-79.6995,-79.9563, -80.2113,-80.465,-80.8442,-81.0945, -81.3448,-81.5919,-81.8379,-82.2522)
FOOTPRINT_POINT_LONGITUDE = (7.40614,9.37006,11.9248,14.7403, 15.5084,16.5646,17.2366,18.1144,18.699, 19.468,19.9599,20.6544,21.0781,21.7092, 22.1466,22.5562,22.9477,23.3076,23.6686 ,24.1657,24.6143,25.0139,25.2766, 25.5243,25.8777,26.0982,26.3154,26.5275 ,26.7272,26.9213,27.1084,27.2884, 27.5489,27.7141,27.8748,28.0297,28.1801 ,28.3275,28.5376,28.6736,28.8045,28.93, 29.0513,29.1709,29.2859,29.4541,29.5638 ,29.6706,29.0361,28.3512,27.83,27.2288, 26.509,25.9114,25.3806,25.2517,25.1203, 24.9829,24.8396,24.6923,24.5412,24.3048 ,24.1415,23.9713,23.7978,23.523,23.3335 ,23.1361,22.9321,22.7223,22.3903, 22.1617,21.9229,21.6749,21.4205,21.1544 ,20.8765,20.5934,20.1424,19.6579, 19.1368,18.7688,18.3808,17.7593,17.3172 ,16.6074,16.1005,15.5637,14.9948, 14.4833,13.6781,13.1052,12.5014,11.864, 10.8389,10.1059,9.32811,8.50398,7.62794 ,7.40614)
ORBIT_NUMBER = 4650
ORBITAL_ECCENTRICITY = 0.57
ORBITAL_INCLINATION = 86.68
ORBITAL_SEMIMAJOR_AXIS = 8533.11
PERIAPSIS_ALTITUDE = 295.77
PERIAPSIS_ARGUMENT_ANGLE = 259.82
PERIAPSIS_TIME = 2007-08-17T17:40:00.000Z
SPACECRAFT_ORIENTATION = (0.0,-1.0,0.0)
^MEX_ORIENTATION_DESC = "MEX_ORIENTATION_DESC.TXT"
SPACECRAFT_POINTING_MODE = NADIR
^MEX_POINTING_DESC = "MEX_POINTING_DESC.TXT"
RIGHT_ASCENSION = -1e+32
DECLINATION = -1e+32
OFFSET_ANGLE = -1e+32
SPACECRAFT_SOLAR_DISTANCE = 2.12254e+08
TARGET_NAME = MARS
/* CAMERA DATA ELEMENTS */
DETECTOR_TEMPERATURE = 17.7588
FOCAL_PLANE_TEMPERATURE = 8.1755
INST_CMPRS_NAME = "DISCRETE COSINE TRANSFORMATION (DCT)"
INST_CMPRS_RATIO = 19.8934
INST_CMPRS_QUALITY = 0
INST_CMPRS_QUANTZ_TBL_ID = 0
INSTRUMENT_TEMPERATURE = 11.0301
LENS_TEMPERATURE = 8.5833
MACROPIXEL_SIZE = 4
MISSING_FRAMES = 0
PIXEL_SUBSAMPLING_FLAG = N
SIGNAL_CHAIN_ID = 2
/* RADIOMETRIC DATA ELEMENTS */
BANDWIDTH = 81.0
CENTER_FILTER_WAVELENGTH = 955.5
RADIANCE_OFFSET = 1.30769
RADIANCE_SCALING_FACTOR = 0.00576921
REFLECTANCE_SCALING_FACTOR = 0.000560736
MEX:REFLECTANCE_OFFSET = 0.1271
/* IMAGE OBJECT DEFINITIONS */
OBJECT = IMAGE
  INTERCHANGE_FORMAT = BINARY
  LINES = 19508
  LINE_SAMPLES = 5896
  SAMPLE_TYPE = UNSIGNED_INTEGER
  SAMPLE_BITS = 8
  BANDS = 1
  BAND_STORAGE_TYPE = BAND_SEQUENTIAL
  MAXIMUM = 255
  MEAN = 103.565
  MINIMUM = 1
  STANDARD_DEVIATION = 42.6035
END_OBJECT = IMAGE
/* MAP OBJECT DEFINITIONS */
OBJECT = IMAGE_MAP_PROJECTION
  ^DATA_SET_MAP_PROJECTION_CATALOG= "DSMAP.CAT"
  A_AXIS_RADIUS = 3396.0
  B_AXIS_RADIUS = 3396.0
  C_AXIS_RADIUS = 3396.0
  CENTER_LATITUDE = 0.0
  CENTER_LONGITUDE = 23.0
  COORDINATE_SYSTEM_NAME = PLANETOGRAPHIC
  COORDINATE_SYSTEM_TYPE = "BODY-FIXED ROTATING"
  EASTERNMOST_LONGITUDE = 29.6706
  FIRST_STANDARD_PARALLEL = "N/A"
  LINE_FIRST_PIXEL = 1
  LINE_LAST_PIXEL = 19508
  LINE_PROJECTION_OFFSET = -78398.625
  MAP_PROJECTION_ROTATION = 0.0
  MAP_PROJECTION_TYPE = SINUSOIDAL
  MAP_RESOLUTION = 1185.42760773333
  MAP_SCALE = 0.05
  MAXIMUM_LATITUDE = -66.14870000000001
  MINIMUM_LATITUDE = -82.6165
  POSITIVE_LONGITUDE_DIRECTION = EAST
  REFERENCE_LATITUDE = "N/A"
  REFERENCE_LONGITUDE = "N/A"
  SAMPLE_FIRST_PIXEL = 1
  SAMPLE_LAST_PIXEL = 5896
  SAMPLE_PROJECTION_OFFSET = 2678.125
  SECOND_STANDARD_PARALLEL = "N/A"
  WESTERNMOST_LONGITUDE = 7.40614
END_OBJECT = IMAGE_MAP_PROJECTION
/* The JPEG2000 image data file associated with this label. */
OBJECT = COMPRESSED_FILE
  FILE_NAME = "H4650_0000_IR3.JP2"
  RECORD_TYPE = UNDEFINED
  FILE_RECORDS = UNK
  ENCODING_TYPE = "JP2"
  INTERCHANGE_FORMAT = BINARY
  UNCOMPRESSED_FILE_NAME = "H4650_0000_IR3.IMG"
  REQUIRED_STORAGE_BYTES = "115048648"
  ^DESCRIPTION = "JP2INFO.TXT"
END_OBJECT = COMPRESSED_FILE
END
