PDS_VERSION_ID = PDS3
/* FILE DATA ELEMENTS */
RECORD_TYPE = STREAM
/* POINTERS TO DATA OBJECTS */
^COMPRESSED_FILE = "H4654_0000_GR3.JP2"
/* IDENTIFICATION DATA ELEMENTS */
DATA_SET_ID = "MEX-M-HRSC-5-REFDR-MAPPROJECTED-V3.0"
DATA_SET_NAME = "MARS EXPRESS HRSC MAP PROJECTED REFDR V3.0"
DETECTOR_ID = MEX_HRSC_GREEN
EVENT_TYPE = "MARS-REGIONAL-MAPPING-Gl-Eo-La"
INSTRUMENT_HOST_ID = MEX
INSTRUMENT_HOST_NAME = "MARS EXPRESS"
INSTRUMENT_ID = HRSC
INSTRUMENT_NAME = "HIGH RESOLUTION STEREO CAMERA"
MISSION_NAME = "MARS EXPRESS"
MISSION_PHASE_NAME = ME_Phase_9
PROCESSING_LEVEL_ID = 3
PRODUCT_CREATION_TIME = 2016-04-26T01:56:16.000Z
PRODUCT_ID = "H4654_0000_GR3.JP2"
RELEASE_ID = 0053
REVISION_ID = 0000
/* QUALITY DATA ELEMENTS */
DATA_QUALITY_ID = 2
DATA_QUALITY_DESC = "Data calculated based on photogrammetrically improved orbit and attitude data"
/* TIME DATA ELEMENTS */
SPACECRAFT_CLOCK_START_COUNT = "1/0135549334.09061"
SPACECRAFT_CLOCK_STOP_COUNT = "1/0135549527.08062"
START_TIME = 2007-08-18T20:36:01.871Z
STOP_TIME = 2007-08-18T20:38:05.011Z
/* ORBITAL DATA ELEMENTS */
ASCENDING_NODE_LONGITUDE = 131.06
MAXIMUM_RESOLUTION = 25.9
FOOTPRINT_POINT_LATITUDE = (-85.8226,-85.9984,-86.1721,-86.3965, -86.5376,-86.6239,-86.534,-86.3915, -86.2408,-86.1364,-85.9181,-85.6318, -85.4495,-85.3244,-85.1976,-85.0691, -84.9391,-84.8078,-84.6753,-84.4744, -84.3391,-84.2028,-84.0657,-83.9277, -83.789,-83.6496,-83.5095,-83.3689, -83.2277,-83.086,-82.8726,-82.7298, -82.5866,-82.3711,-82.227,-82.0826, -81.938,-81.7931,-81.6479,-81.5025, -81.3298,-81.1519,-80.9737,-80.7991, -80.6244,-80.4494,-80.2742,-80.0991, -79.9237,-79.7482,-79.6807,-79.6345, -79.5583,-79.5057,-79.4289,-79.3281, -79.4981,-79.6678,-79.8369,-80.0058, -80.1744,-80.3427,-80.5105,-80.6815, -80.9351,-81.0881,-81.2267,-81.3649, -81.5028,-81.64,-81.7765,-81.9124, -82.0479,-82.1827,-82.3169,-82.4506, -82.5835,-82.7807,-82.911,-83.0407, -83.1694,-83.2967,-83.4233,-83.5487, -83.6728,-83.8561,-83.9772,-84.0967, -84.2721,-84.387,-84.4996,-84.6099, -84.718,-84.8227,-84.9716,-85.1144, -85.2948,-85.4621,-85.6146,-85.8226)
FOOTPRINT_POINT_LONGITUDE = (300.213,301.494,302.895,304.938, 306.386,309.196,311.237,314.102,316.745 ,318.393,321.401,324.737,326.574, 327.728,328.823,329.858,330.84,331.772, 332.663,333.921,334.707,335.454,336.177 ,336.854,337.499,338.114,338.706, 339.267,339.812,340.327,341.063,341.528 ,341.974,342.612,343.02,343.411,343.788 ,344.151,344.502,344.841,345.227, 345.609,345.975,346.318,346.648,346.966 ,347.274,347.567,347.851,348.126, 346.963,346.068,344.71,343.837,342.642, 341.181,340.834,340.475,340.102,339.716 ,339.317,338.903,338.474,338.018, 337.306,336.854,336.429,335.99,335.538, 335.068,334.581,334.078,333.556,333.017 ,332.458,331.88,331.28,330.334,329.673, 328.988,328.277,327.537,326.768,325.969 ,325.138,323.826,322.908,321.953, 320.442,319.383,318.277,317.124,315.923 ,314.688,312.778,310.752,307.86,304.743 ,301.393,300.213)
ORBIT_NUMBER = 4654
ORBITAL_ECCENTRICITY = 0.57
ORBITAL_INCLINATION = 86.69
ORBITAL_SEMIMAJOR_AXIS = 8533.07
PERIAPSIS_ALTITUDE = 296.0
PERIAPSIS_ARGUMENT_ANGLE = 259.12
PERIAPSIS_TIME = 2007-08-18T20:32:54.000Z
SPACECRAFT_ORIENTATION = (0.0,-1.0,0.0)
^MEX_ORIENTATION_DESC = "MEX_ORIENTATION_DESC.TXT"
SPACECRAFT_POINTING_MODE = NADIR
^MEX_POINTING_DESC = "MEX_POINTING_DESC.TXT"
RIGHT_ASCENSION = -1e+32
DECLINATION = -1e+32
OFFSET_ANGLE = -1e+32
SPACECRAFT_SOLAR_DISTANCE = 2.12412e+08
TARGET_NAME = MARS
/* CAMERA DATA ELEMENTS */
DETECTOR_TEMPERATURE = 18.3705
FOCAL_PLANE_TEMPERATURE = 9.195
INST_CMPRS_NAME = "DISCRETE COSINE TRANSFORMATION (DCT)"
INST_CMPRS_RATIO = 8.90112
INST_CMPRS_QUALITY = 0
INST_CMPRS_QUANTZ_TBL_ID = 0
INSTRUMENT_TEMPERATURE = 11.6418
LENS_TEMPERATURE = 9.6028
MACROPIXEL_SIZE = 2
MISSING_FRAMES = 2
PIXEL_SUBSAMPLING_FLAG = N
SIGNAL_CHAIN_ID = 2
/* RADIOMETRIC DATA ELEMENTS */
BANDWIDTH = 88.0
CENTER_FILTER_WAVELENGTH = 538.0
RADIANCE_OFFSET = 1.78967
RADIANCE_SCALING_FACTOR = 0.0189331
REFLECTANCE_SCALING_FACTOR = 0.000735481
MEX:REFLECTANCE_OFFSET = 0.069522
/* IMAGE OBJECT DEFINITIONS */
OBJECT = IMAGE
  INTERCHANGE_FORMAT = BINARY
  LINES = 17319
  LINE_SAMPLES = 12248
  SAMPLE_TYPE = UNSIGNED_INTEGER
  SAMPLE_BITS = 8
  BANDS = 1
  BAND_STORAGE_TYPE = BAND_SEQUENTIAL
  MAXIMUM = 255
  MEAN = 88.6296
  MINIMUM = 1
  STANDARD_DEVIATION = 78.3504
END_OBJECT = IMAGE
/* MAP OBJECT DEFINITIONS */
OBJECT = IMAGE_MAP_PROJECTION
  ^DATA_SET_MAP_PROJECTION_CATALOG= "DSMAP.CAT"
  A_AXIS_RADIUS = 3396.0
  B_AXIS_RADIUS = 3396.0
  C_AXIS_RADIUS = 3396.0
  CENTER_LATITUDE = 0.0
  CENTER_LONGITUDE = 333.0
  COORDINATE_SYSTEM_NAME = PLANETOGRAPHIC
  COORDINATE_SYSTEM_TYPE = "BODY-FIXED ROTATING"
  EASTERNMOST_LONGITUDE = 348.126
  FIRST_STANDARD_PARALLEL = "N/A"
  LINE_FIRST_PIXEL = 1
  LINE_LAST_PIXEL = 17319
  LINE_PROJECTION_OFFSET = -188106.25
  MAP_PROJECTION_ROTATION = 0.0
  MAP_PROJECTION_TYPE = SINUSOIDAL
  MAP_RESOLUTION = 2370.85521546667
  MAP_SCALE = 0.025
  MAXIMUM_LATITUDE = -79.32810000000001
  MINIMUM_LATITUDE = -86.62390000000001
  POSITIVE_LONGITUDE_DIRECTION = EAST
  REFERENCE_LATITUDE = "N/A"
  REFERENCE_LONGITUDE = "N/A"
  SAMPLE_FIRST_PIXEL = 1
  SAMPLE_LAST_PIXEL = 12248
  SAMPLE_PROJECTION_OFFSET = 5895.75
  SECOND_STANDARD_PARALLEL = "N/A"
  WESTERNMOST_LONGITUDE = 300.213
END_OBJECT = IMAGE_MAP_PROJECTION
/* The JPEG2000 image data file associated with this label. */
OBJECT = COMPRESSED_FILE
  FILE_NAME = "H4654_0000_GR3.JP2"
  RECORD_TYPE = UNDEFINED
  FILE_RECORDS = UNK
  ENCODING_TYPE = "JP2"
  INTERCHANGE_FORMAT = BINARY
  UNCOMPRESSED_FILE_NAME = "H4654_0000_GR3.IMG"
  REQUIRED_STORAGE_BYTES = "212159856"
  ^DESCRIPTION = "JP2INFO.TXT"
END_OBJECT = COMPRESSED_FILE
END
